BEGIN:VCALENDAR
VERSION:2.0
PRODID:-//DANCE SOUL 舞魂街舞學校 - ECPv6.15.18//NONSGML v1.0//EN
CALSCALE:GREGORIAN
METHOD:PUBLISH
X-ORIGINAL-URL:https://www.dancesoul.com.tw
X-WR-CALDESC:Events for DANCE SOUL 舞魂街舞學校
REFRESH-INTERVAL;VALUE=DURATION:PT1H
X-Robots-Tag:noindex
X-PUBLISHED-TTL:PT1H
BEGIN:VTIMEZONE
TZID:Asia/Shanghai
BEGIN:STANDARD
TZOFFSETFROM:+0800
TZOFFSETTO:+0800
TZNAME:CST
DTSTART:20220101T000000
END:STANDARD
END:VTIMEZONE
BEGIN:VEVENT
DTSTART;TZID=Asia/Shanghai:20230907T165000
DTEND;TZID=Asia/Shanghai:20230907T175000
DTSTAMP:20260422T072442
CREATED:20211230T062239Z
LAST-MODIFIED:20211230T062239Z
UID:10014845-1694105400-1694109000@www.dancesoul.com.tw
SUMMARY:Waacking-鮑大可
DESCRIPTION:
URL:https://www.dancesoul.com.tw/schedule/waacking-%e9%ae%91%e5%a4%a7%e5%8f%af/2023-09-07/
LOCATION:仁愛路四段425-1號\, Taipei City\, 104\, 台灣
CATEGORIES:Waacking,常態課_一般,課程
END:VEVENT
BEGIN:VEVENT
DTSTART;TZID=Asia/Shanghai:20230831T165000
DTEND;TZID=Asia/Shanghai:20230831T175000
DTSTAMP:20260422T072442
CREATED:20211230T062239Z
LAST-MODIFIED:20211230T062239Z
UID:10014844-1693500600-1693504200@www.dancesoul.com.tw
SUMMARY:Waacking-鮑大可
DESCRIPTION:
URL:https://www.dancesoul.com.tw/schedule/waacking-%e9%ae%91%e5%a4%a7%e5%8f%af/2023-08-31/
LOCATION:仁愛路四段425-1號\, Taipei City\, 104\, 台灣
CATEGORIES:Waacking,常態課_一般,課程
END:VEVENT
BEGIN:VEVENT
DTSTART;TZID=Asia/Shanghai:20230824T165000
DTEND;TZID=Asia/Shanghai:20230824T175000
DTSTAMP:20260422T072442
CREATED:20211230T062239Z
LAST-MODIFIED:20211230T062239Z
UID:10014843-1692895800-1692899400@www.dancesoul.com.tw
SUMMARY:Waacking-鮑大可
DESCRIPTION:
URL:https://www.dancesoul.com.tw/schedule/waacking-%e9%ae%91%e5%a4%a7%e5%8f%af/2023-08-24/
LOCATION:仁愛路四段425-1號\, Taipei City\, 104\, 台灣
CATEGORIES:Waacking,常態課_一般,課程
END:VEVENT
BEGIN:VEVENT
DTSTART;TZID=Asia/Shanghai:20230817T165000
DTEND;TZID=Asia/Shanghai:20230817T175000
DTSTAMP:20260422T072442
CREATED:20211230T062239Z
LAST-MODIFIED:20211230T062239Z
UID:10014842-1692291000-1692294600@www.dancesoul.com.tw
SUMMARY:Waacking-鮑大可
DESCRIPTION:
URL:https://www.dancesoul.com.tw/schedule/waacking-%e9%ae%91%e5%a4%a7%e5%8f%af/2023-08-17/
LOCATION:仁愛路四段425-1號\, Taipei City\, 104\, 台灣
CATEGORIES:Waacking,常態課_一般,課程
END:VEVENT
BEGIN:VEVENT
DTSTART;TZID=Asia/Shanghai:20230810T165000
DTEND;TZID=Asia/Shanghai:20230810T175000
DTSTAMP:20260422T072442
CREATED:20211230T062239Z
LAST-MODIFIED:20211230T062239Z
UID:10014841-1691686200-1691689800@www.dancesoul.com.tw
SUMMARY:Waacking-鮑大可
DESCRIPTION:
URL:https://www.dancesoul.com.tw/schedule/waacking-%e9%ae%91%e5%a4%a7%e5%8f%af/2023-08-10/
LOCATION:仁愛路四段425-1號\, Taipei City\, 104\, 台灣
CATEGORIES:Waacking,常態課_一般,課程
END:VEVENT
BEGIN:VEVENT
DTSTART;TZID=Asia/Shanghai:20230803T165000
DTEND;TZID=Asia/Shanghai:20230803T175000
DTSTAMP:20260422T072442
CREATED:20211230T062239Z
LAST-MODIFIED:20211230T062239Z
UID:10014840-1691081400-1691085000@www.dancesoul.com.tw
SUMMARY:Waacking-鮑大可
DESCRIPTION:
URL:https://www.dancesoul.com.tw/schedule/waacking-%e9%ae%91%e5%a4%a7%e5%8f%af/2023-08-03/
LOCATION:仁愛路四段425-1號\, Taipei City\, 104\, 台灣
CATEGORIES:Waacking,常態課_一般,課程
END:VEVENT
BEGIN:VEVENT
DTSTART;TZID=Asia/Shanghai:20230727T165000
DTEND;TZID=Asia/Shanghai:20230727T175000
DTSTAMP:20260422T072442
CREATED:20211230T062239Z
LAST-MODIFIED:20211230T062239Z
UID:10014839-1690476600-1690480200@www.dancesoul.com.tw
SUMMARY:Waacking-鮑大可
DESCRIPTION:
URL:https://www.dancesoul.com.tw/schedule/waacking-%e9%ae%91%e5%a4%a7%e5%8f%af/2023-07-27/
LOCATION:仁愛路四段425-1號\, Taipei City\, 104\, 台灣
CATEGORIES:Waacking,常態課_一般,課程
END:VEVENT
BEGIN:VEVENT
DTSTART;TZID=Asia/Shanghai:20230720T165000
DTEND;TZID=Asia/Shanghai:20230720T175000
DTSTAMP:20260422T072442
CREATED:20211230T062239Z
LAST-MODIFIED:20211230T062239Z
UID:10014838-1689871800-1689875400@www.dancesoul.com.tw
SUMMARY:Waacking-鮑大可
DESCRIPTION:
URL:https://www.dancesoul.com.tw/schedule/waacking-%e9%ae%91%e5%a4%a7%e5%8f%af/2023-07-20/
LOCATION:仁愛路四段425-1號\, Taipei City\, 104\, 台灣
CATEGORIES:Waacking,常態課_一般,課程
END:VEVENT
BEGIN:VEVENT
DTSTART;TZID=Asia/Shanghai:20230713T165000
DTEND;TZID=Asia/Shanghai:20230713T175000
DTSTAMP:20260422T072442
CREATED:20211230T062239Z
LAST-MODIFIED:20211230T062239Z
UID:10014837-1689267000-1689270600@www.dancesoul.com.tw
SUMMARY:Waacking-鮑大可
DESCRIPTION:
URL:https://www.dancesoul.com.tw/schedule/waacking-%e9%ae%91%e5%a4%a7%e5%8f%af/2023-07-13/
LOCATION:仁愛路四段425-1號\, Taipei City\, 104\, 台灣
CATEGORIES:Waacking,常態課_一般,課程
END:VEVENT
BEGIN:VEVENT
DTSTART;TZID=Asia/Shanghai:20230706T165000
DTEND;TZID=Asia/Shanghai:20230706T175000
DTSTAMP:20260422T072442
CREATED:20211230T062239Z
LAST-MODIFIED:20211230T062239Z
UID:10014836-1688662200-1688665800@www.dancesoul.com.tw
SUMMARY:Waacking-鮑大可
DESCRIPTION:
URL:https://www.dancesoul.com.tw/schedule/waacking-%e9%ae%91%e5%a4%a7%e5%8f%af/2023-07-06/
LOCATION:仁愛路四段425-1號\, Taipei City\, 104\, 台灣
CATEGORIES:Waacking,常態課_一般,課程
END:VEVENT
BEGIN:VEVENT
DTSTART;TZID=Asia/Shanghai:20230629T165000
DTEND;TZID=Asia/Shanghai:20230629T175000
DTSTAMP:20260422T072442
CREATED:20211230T062239Z
LAST-MODIFIED:20211230T062239Z
UID:10014835-1688057400-1688061000@www.dancesoul.com.tw
SUMMARY:Waacking-鮑大可
DESCRIPTION:
URL:https://www.dancesoul.com.tw/schedule/waacking-%e9%ae%91%e5%a4%a7%e5%8f%af/2023-06-29/
LOCATION:仁愛路四段425-1號\, Taipei City\, 104\, 台灣
CATEGORIES:Waacking,常態課_一般,課程
END:VEVENT
BEGIN:VEVENT
DTSTART;TZID=Asia/Shanghai:20230622T165000
DTEND;TZID=Asia/Shanghai:20230622T175000
DTSTAMP:20260422T072442
CREATED:20211230T062239Z
LAST-MODIFIED:20211230T062239Z
UID:10014834-1687452600-1687456200@www.dancesoul.com.tw
SUMMARY:Waacking-鮑大可
DESCRIPTION:
URL:https://www.dancesoul.com.tw/schedule/waacking-%e9%ae%91%e5%a4%a7%e5%8f%af/2023-06-22/
LOCATION:仁愛路四段425-1號\, Taipei City\, 104\, 台灣
CATEGORIES:Waacking,常態課_一般,課程
END:VEVENT
BEGIN:VEVENT
DTSTART;TZID=Asia/Shanghai:20230615T165000
DTEND;TZID=Asia/Shanghai:20230615T175000
DTSTAMP:20260422T072442
CREATED:20211230T062239Z
LAST-MODIFIED:20211230T062239Z
UID:10014833-1686847800-1686851400@www.dancesoul.com.tw
SUMMARY:Waacking-鮑大可
DESCRIPTION:
URL:https://www.dancesoul.com.tw/schedule/waacking-%e9%ae%91%e5%a4%a7%e5%8f%af/2023-06-15/
LOCATION:仁愛路四段425-1號\, Taipei City\, 104\, 台灣
CATEGORIES:Waacking,常態課_一般,課程
END:VEVENT
BEGIN:VEVENT
DTSTART;TZID=Asia/Shanghai:20230608T165000
DTEND;TZID=Asia/Shanghai:20230608T175000
DTSTAMP:20260422T072442
CREATED:20211230T062239Z
LAST-MODIFIED:20211230T062239Z
UID:10014832-1686243000-1686246600@www.dancesoul.com.tw
SUMMARY:Waacking-鮑大可
DESCRIPTION:
URL:https://www.dancesoul.com.tw/schedule/waacking-%e9%ae%91%e5%a4%a7%e5%8f%af/2023-06-08/
LOCATION:仁愛路四段425-1號\, Taipei City\, 104\, 台灣
CATEGORIES:Waacking,常態課_一般,課程
END:VEVENT
BEGIN:VEVENT
DTSTART;TZID=Asia/Shanghai:20230601T165000
DTEND;TZID=Asia/Shanghai:20230601T175000
DTSTAMP:20260422T072442
CREATED:20211230T062239Z
LAST-MODIFIED:20211230T062239Z
UID:10014831-1685638200-1685641800@www.dancesoul.com.tw
SUMMARY:Waacking-鮑大可
DESCRIPTION:
URL:https://www.dancesoul.com.tw/schedule/waacking-%e9%ae%91%e5%a4%a7%e5%8f%af/2023-06-01/
LOCATION:仁愛路四段425-1號\, Taipei City\, 104\, 台灣
CATEGORIES:Waacking,常態課_一般,課程
END:VEVENT
BEGIN:VEVENT
DTSTART;TZID=Asia/Shanghai:20230525T165000
DTEND;TZID=Asia/Shanghai:20230525T175000
DTSTAMP:20260422T072442
CREATED:20211230T062239Z
LAST-MODIFIED:20211230T062239Z
UID:10014830-1685033400-1685037000@www.dancesoul.com.tw
SUMMARY:Waacking-鮑大可
DESCRIPTION:
URL:https://www.dancesoul.com.tw/schedule/waacking-%e9%ae%91%e5%a4%a7%e5%8f%af/2023-05-25/
LOCATION:仁愛路四段425-1號\, Taipei City\, 104\, 台灣
CATEGORIES:Waacking,常態課_一般,課程
END:VEVENT
BEGIN:VEVENT
DTSTART;TZID=Asia/Shanghai:20230518T165000
DTEND;TZID=Asia/Shanghai:20230518T175000
DTSTAMP:20260422T072442
CREATED:20211230T062239Z
LAST-MODIFIED:20211230T062239Z
UID:10014829-1684428600-1684432200@www.dancesoul.com.tw
SUMMARY:Waacking-鮑大可
DESCRIPTION:
URL:https://www.dancesoul.com.tw/schedule/waacking-%e9%ae%91%e5%a4%a7%e5%8f%af/2023-05-18/
LOCATION:仁愛路四段425-1號\, Taipei City\, 104\, 台灣
CATEGORIES:Waacking,常態課_一般,課程
END:VEVENT
BEGIN:VEVENT
DTSTART;TZID=Asia/Shanghai:20230511T165000
DTEND;TZID=Asia/Shanghai:20230511T175000
DTSTAMP:20260422T072442
CREATED:20211230T062239Z
LAST-MODIFIED:20211230T062239Z
UID:10014828-1683823800-1683827400@www.dancesoul.com.tw
SUMMARY:Waacking-鮑大可
DESCRIPTION:
URL:https://www.dancesoul.com.tw/schedule/waacking-%e9%ae%91%e5%a4%a7%e5%8f%af/2023-05-11/
LOCATION:仁愛路四段425-1號\, Taipei City\, 104\, 台灣
CATEGORIES:Waacking,常態課_一般,課程
END:VEVENT
BEGIN:VEVENT
DTSTART;TZID=Asia/Shanghai:20230504T165000
DTEND;TZID=Asia/Shanghai:20230504T175000
DTSTAMP:20260422T072442
CREATED:20211230T062239Z
LAST-MODIFIED:20211230T062239Z
UID:10014827-1683219000-1683222600@www.dancesoul.com.tw
SUMMARY:Waacking-鮑大可
DESCRIPTION:
URL:https://www.dancesoul.com.tw/schedule/waacking-%e9%ae%91%e5%a4%a7%e5%8f%af/2023-05-04/
LOCATION:仁愛路四段425-1號\, Taipei City\, 104\, 台灣
CATEGORIES:Waacking,常態課_一般,課程
END:VEVENT
BEGIN:VEVENT
DTSTART;TZID=Asia/Shanghai:20230427T165000
DTEND;TZID=Asia/Shanghai:20230427T175000
DTSTAMP:20260422T072442
CREATED:20211230T062239Z
LAST-MODIFIED:20211230T062239Z
UID:10014826-1682614200-1682617800@www.dancesoul.com.tw
SUMMARY:Waacking-鮑大可
DESCRIPTION:
URL:https://www.dancesoul.com.tw/schedule/waacking-%e9%ae%91%e5%a4%a7%e5%8f%af/2023-04-27/
LOCATION:仁愛路四段425-1號\, Taipei City\, 104\, 台灣
CATEGORIES:Waacking,常態課_一般,課程
END:VEVENT
BEGIN:VEVENT
DTSTART;TZID=Asia/Shanghai:20230420T165000
DTEND;TZID=Asia/Shanghai:20230420T175000
DTSTAMP:20260422T072442
CREATED:20211230T062239Z
LAST-MODIFIED:20211230T062239Z
UID:10014825-1682009400-1682013000@www.dancesoul.com.tw
SUMMARY:Waacking-鮑大可
DESCRIPTION:
URL:https://www.dancesoul.com.tw/schedule/waacking-%e9%ae%91%e5%a4%a7%e5%8f%af/2023-04-20/
LOCATION:仁愛路四段425-1號\, Taipei City\, 104\, 台灣
CATEGORIES:Waacking,常態課_一般,課程
END:VEVENT
BEGIN:VEVENT
DTSTART;TZID=Asia/Shanghai:20230413T165000
DTEND;TZID=Asia/Shanghai:20230413T175000
DTSTAMP:20260422T072442
CREATED:20211230T062239Z
LAST-MODIFIED:20211230T062239Z
UID:10014824-1681404600-1681408200@www.dancesoul.com.tw
SUMMARY:Waacking-鮑大可
DESCRIPTION:
URL:https://www.dancesoul.com.tw/schedule/waacking-%e9%ae%91%e5%a4%a7%e5%8f%af/2023-04-13/
LOCATION:仁愛路四段425-1號\, Taipei City\, 104\, 台灣
CATEGORIES:Waacking,常態課_一般,課程
END:VEVENT
BEGIN:VEVENT
DTSTART;TZID=Asia/Shanghai:20230406T165000
DTEND;TZID=Asia/Shanghai:20230406T175000
DTSTAMP:20260422T072442
CREATED:20211230T062239Z
LAST-MODIFIED:20211230T062239Z
UID:10014823-1680799800-1680803400@www.dancesoul.com.tw
SUMMARY:Waacking-鮑大可
DESCRIPTION:
URL:https://www.dancesoul.com.tw/schedule/waacking-%e9%ae%91%e5%a4%a7%e5%8f%af/2023-04-06/
LOCATION:仁愛路四段425-1號\, Taipei City\, 104\, 台灣
CATEGORIES:Waacking,常態課_一般,課程
END:VEVENT
BEGIN:VEVENT
DTSTART;TZID=Asia/Shanghai:20230330T165000
DTEND;TZID=Asia/Shanghai:20230330T175000
DTSTAMP:20260422T072442
CREATED:20211230T062239Z
LAST-MODIFIED:20211230T062239Z
UID:10014822-1680195000-1680198600@www.dancesoul.com.tw
SUMMARY:Waacking-鮑大可
DESCRIPTION:
URL:https://www.dancesoul.com.tw/schedule/waacking-%e9%ae%91%e5%a4%a7%e5%8f%af/2023-03-30/
LOCATION:仁愛路四段425-1號\, Taipei City\, 104\, 台灣
CATEGORIES:Waacking,常態課_一般,課程
END:VEVENT
BEGIN:VEVENT
DTSTART;TZID=Asia/Shanghai:20230323T165000
DTEND;TZID=Asia/Shanghai:20230323T175000
DTSTAMP:20260422T072442
CREATED:20211230T062239Z
LAST-MODIFIED:20211230T062239Z
UID:10014821-1679590200-1679593800@www.dancesoul.com.tw
SUMMARY:Waacking-鮑大可
DESCRIPTION:
URL:https://www.dancesoul.com.tw/schedule/waacking-%e9%ae%91%e5%a4%a7%e5%8f%af/2023-03-23/
LOCATION:仁愛路四段425-1號\, Taipei City\, 104\, 台灣
CATEGORIES:Waacking,常態課_一般,課程
END:VEVENT
BEGIN:VEVENT
DTSTART;TZID=Asia/Shanghai:20230316T165000
DTEND;TZID=Asia/Shanghai:20230316T175000
DTSTAMP:20260422T072442
CREATED:20211230T062239Z
LAST-MODIFIED:20211230T062239Z
UID:10014820-1678985400-1678989000@www.dancesoul.com.tw
SUMMARY:Waacking-鮑大可
DESCRIPTION:
URL:https://www.dancesoul.com.tw/schedule/waacking-%e9%ae%91%e5%a4%a7%e5%8f%af/2023-03-16/
LOCATION:仁愛路四段425-1號\, Taipei City\, 104\, 台灣
CATEGORIES:Waacking,常態課_一般,課程
END:VEVENT
BEGIN:VEVENT
DTSTART;TZID=Asia/Shanghai:20230309T165000
DTEND;TZID=Asia/Shanghai:20230309T175000
DTSTAMP:20260422T072442
CREATED:20211230T062239Z
LAST-MODIFIED:20211230T062239Z
UID:10014819-1678380600-1678384200@www.dancesoul.com.tw
SUMMARY:Waacking-鮑大可
DESCRIPTION:
URL:https://www.dancesoul.com.tw/schedule/waacking-%e9%ae%91%e5%a4%a7%e5%8f%af/2023-03-09/
LOCATION:仁愛路四段425-1號\, Taipei City\, 104\, 台灣
CATEGORIES:Waacking,常態課_一般,課程
END:VEVENT
BEGIN:VEVENT
DTSTART;TZID=Asia/Shanghai:20230302T165000
DTEND;TZID=Asia/Shanghai:20230302T175000
DTSTAMP:20260422T072442
CREATED:20211230T062239Z
LAST-MODIFIED:20211230T062239Z
UID:10014818-1677775800-1677779400@www.dancesoul.com.tw
SUMMARY:Waacking-鮑大可
DESCRIPTION:
URL:https://www.dancesoul.com.tw/schedule/waacking-%e9%ae%91%e5%a4%a7%e5%8f%af/2023-03-02/
LOCATION:仁愛路四段425-1號\, Taipei City\, 104\, 台灣
CATEGORIES:Waacking,常態課_一般,課程
END:VEVENT
BEGIN:VEVENT
DTSTART;TZID=Asia/Shanghai:20230223T165000
DTEND;TZID=Asia/Shanghai:20230223T175000
DTSTAMP:20260422T072442
CREATED:20211230T062239Z
LAST-MODIFIED:20211230T062239Z
UID:10014817-1677171000-1677174600@www.dancesoul.com.tw
SUMMARY:Waacking-鮑大可
DESCRIPTION:
URL:https://www.dancesoul.com.tw/schedule/waacking-%e9%ae%91%e5%a4%a7%e5%8f%af/2023-02-23/
LOCATION:仁愛路四段425-1號\, Taipei City\, 104\, 台灣
CATEGORIES:Waacking,常態課_一般,課程
END:VEVENT
BEGIN:VEVENT
DTSTART;TZID=Asia/Shanghai:20230216T165000
DTEND;TZID=Asia/Shanghai:20230216T175000
DTSTAMP:20260422T072442
CREATED:20211230T062239Z
LAST-MODIFIED:20211230T062239Z
UID:10014816-1676566200-1676569800@www.dancesoul.com.tw
SUMMARY:Waacking-鮑大可
DESCRIPTION:
URL:https://www.dancesoul.com.tw/schedule/waacking-%e9%ae%91%e5%a4%a7%e5%8f%af/2023-02-16/
LOCATION:仁愛路四段425-1號\, Taipei City\, 104\, 台灣
CATEGORIES:Waacking,常態課_一般,課程
END:VEVENT
END:VCALENDAR