BEGIN:VCALENDAR
VERSION:2.0
PRODID:-//DANCE SOUL 舞魂街舞學校 - ECPv6.15.18//NONSGML v1.0//EN
CALSCALE:GREGORIAN
METHOD:PUBLISH
X-WR-CALNAME:DANCE SOUL 舞魂街舞學校
X-ORIGINAL-URL:https://www.dancesoul.com.tw
X-WR-CALDESC:Events for DANCE SOUL 舞魂街舞學校
REFRESH-INTERVAL;VALUE=DURATION:PT1H
X-Robots-Tag:noindex
X-PUBLISHED-TTL:PT1H
BEGIN:VTIMEZONE
TZID:Asia/Shanghai
BEGIN:STANDARD
TZOFFSETFROM:+0800
TZOFFSETTO:+0800
TZNAME:CST
DTSTART:20230101T000000
END:STANDARD
END:VTIMEZONE
BEGIN:VEVENT
DTSTART;TZID=Asia/Shanghai:20240413T202000
DTEND;TZID=Asia/Shanghai:20240413T212000
DTSTAMP:20260425T234940
CREATED:20240326T090413Z
LAST-MODIFIED:20240326T090413Z
UID:10019358-1713039600-1713043200@www.dancesoul.com.tw
SUMMARY:基礎入門-雞蛋
DESCRIPTION:
URL:https://www.dancesoul.com.tw/schedule/%e5%9f%ba%e7%a4%8e%e5%85%a5%e9%96%80-%e9%9b%9e%e8%9b%8b-26/2024-04-13/
CATEGORIES:基礎入門,常態課_初級,課程
END:VEVENT
BEGIN:VEVENT
DTSTART;TZID=Asia/Shanghai:20240413T191000
DTEND;TZID=Asia/Shanghai:20240413T201000
DTSTAMP:20260425T234940
CREATED:20240326T090311Z
LAST-MODIFIED:20240326T090311Z
UID:10019354-1713035400-1713039000@www.dancesoul.com.tw
SUMMARY:Hip Hop(初)-阿祥
DESCRIPTION:
URL:https://www.dancesoul.com.tw/schedule/hip-hop%e5%88%9d-%e9%98%bf%e7%a5%a5-12/2024-04-13/
CATEGORIES:Hip Hop 初級,常態課_初級,課程
END:VEVENT
BEGIN:VEVENT
DTSTART;TZID=Asia/Shanghai:20240413T180000
DTEND;TZID=Asia/Shanghai:20240413T190000
DTSTAMP:20260425T234940
CREATED:20240326T090146Z
LAST-MODIFIED:20240326T090146Z
UID:10019350-1713031200-1713034800@www.dancesoul.com.tw
SUMMARY:Popping-紀威
DESCRIPTION:
URL:https://www.dancesoul.com.tw/schedule/popping-%e7%b4%80%e5%a8%81-39/2024-04-13/
CATEGORIES:Poppin,常態課_一般,課程
END:VEVENT
BEGIN:VEVENT
DTSTART;TZID=Asia/Shanghai:20240413T165000
DTEND;TZID=Asia/Shanghai:20240413T175000
DTSTAMP:20260425T234940
CREATED:20240326T090038Z
LAST-MODIFIED:20240326T090038Z
UID:10019346-1713027000-1713030600@www.dancesoul.com.tw
SUMMARY:MV-(LE SSERAFIM - SMART)-怡妏
DESCRIPTION:
URL:https://www.dancesoul.com.tw/schedule/mv-le-sserafim-smart-%e6%80%a1%e5%a6%8f/2024-04-13/
CATEGORIES:MV課,課程
END:VEVENT
BEGIN:VEVENT
DTSTART;TZID=Asia/Shanghai:20240413T154000
DTEND;TZID=Asia/Shanghai:20240413T164000
DTSTAMP:20260425T234940
CREATED:20240326T085833Z
LAST-MODIFIED:20240326T085833Z
UID:10019342-1713022800-1713026400@www.dancesoul.com.tw
SUMMARY:兒童街舞-傘傘
DESCRIPTION:
URL:https://www.dancesoul.com.tw/schedule/%e5%85%92%e7%ab%a5%e8%a1%97%e8%88%9e-%e5%82%98%e5%82%98-34/2024-04-13/
CATEGORIES:兒童街舞,兒童課,課程
END:VEVENT
BEGIN:VEVENT
DTSTART;TZID=Asia/Shanghai:20240413T143000
DTEND;TZID=Asia/Shanghai:20240413T153000
DTSTAMP:20260425T234940
CREATED:20240326T090616Z
LAST-MODIFIED:20240326T095113Z
UID:10019362-1713018600-1713022200@www.dancesoul.com.tw
SUMMARY:兒童MV-(ILLIT - Magnetic)薇臻
DESCRIPTION:
URL:https://www.dancesoul.com.tw/schedule/%e5%85%92%e7%ab%a5mv-%e8%96%87%e8%87%bb/2024-04-13/
CATEGORIES:兒童MV,兒童課,課程
END:VEVENT
BEGIN:VEVENT
DTSTART;TZID=Asia/Shanghai:20240413T132000
DTEND;TZID=Asia/Shanghai:20240413T142000
DTSTAMP:20260425T234940
CREATED:20240326T085524Z
LAST-MODIFIED:20240326T085524Z
UID:10019338-1713014400-1713018000@www.dancesoul.com.tw
SUMMARY:兒童街舞-薇臻
DESCRIPTION:
URL:https://www.dancesoul.com.tw/schedule/%e5%85%92%e7%ab%a5%e8%a1%97%e8%88%9e-%e8%96%87%e8%87%bb-5/2024-04-13/
CATEGORIES:兒童街舞,兒童課,課程
END:VEVENT
BEGIN:VEVENT
DTSTART;TZID=Asia/Shanghai:20240412T205000
DTEND;TZID=Asia/Shanghai:20240412T215000
DTSTAMP:20260425T234940
CREATED:20240326T094357Z
LAST-MODIFIED:20240326T094357Z
UID:10019454-1712955000-1712958600@www.dancesoul.com.tw
SUMMARY:Jazz Funk-鈴鐺
DESCRIPTION:
URL:https://www.dancesoul.com.tw/schedule/jazz-funk-%e9%88%b4%e9%90%ba-17/2024-04-12/
CATEGORIES:Jazz Funk,常態課_一般,課程
END:VEVENT
BEGIN:VEVENT
DTSTART;TZID=Asia/Shanghai:20240412T194000
DTEND;TZID=Asia/Shanghai:20240412T204000
DTSTAMP:20260425T234940
CREATED:20240326T094237Z
LAST-MODIFIED:20240326T094237Z
UID:10019449-1712950800-1712954400@www.dancesoul.com.tw
SUMMARY:Hip Hop(初)-佐佐
DESCRIPTION:
URL:https://www.dancesoul.com.tw/schedule/hip-hop%e5%88%9d-%e4%bd%90%e4%bd%90-9/2024-04-12/
CATEGORIES:Hip Hop 初級,常態課_初級,課程
END:VEVENT
BEGIN:VEVENT
DTSTART;TZID=Asia/Shanghai:20240412T183000
DTEND;TZID=Asia/Shanghai:20240412T193000
DTSTAMP:20260425T234940
CREATED:20240326T093953Z
LAST-MODIFIED:20240326T093953Z
UID:10019445-1712946600-1712950200@www.dancesoul.com.tw
SUMMARY:Street Jazz(初)-Cen妹
DESCRIPTION:
URL:https://www.dancesoul.com.tw/schedule/street-jazz%e5%88%9d-cen%e5%a6%b9-30/2024-04-12/
CATEGORIES:STREET JAZZ 初級,常態課_初級,課程
END:VEVENT
BEGIN:VEVENT
DTSTART;TZID=Asia/Shanghai:20240411T205000
DTEND;TZID=Asia/Shanghai:20240411T215000
DTSTAMP:20260425T234940
CREATED:20240326T093804Z
LAST-MODIFIED:20240326T093804Z
UID:10019441-1712868600-1712872200@www.dancesoul.com.tw
SUMMARY:Jazz Funk-育暉
DESCRIPTION:
URL:https://www.dancesoul.com.tw/schedule/jazz-funk-%e8%82%b2%e6%9a%89-9/2024-04-11/
CATEGORIES:Jazz Funk,常態課_一般,課程
END:VEVENT
BEGIN:VEVENT
DTSTART;TZID=Asia/Shanghai:20240411T194000
DTEND;TZID=Asia/Shanghai:20240411T204000
DTSTAMP:20260425T234940
CREATED:20240326T093710Z
LAST-MODIFIED:20240326T093710Z
UID:10019437-1712864400-1712868000@www.dancesoul.com.tw
SUMMARY:Hip Hop-林彤
DESCRIPTION:
URL:https://www.dancesoul.com.tw/schedule/hip-hop-%e6%9e%97%e5%bd%a4-16/2024-04-11/
CATEGORIES:Hip Hop,常態課_一般,課程
END:VEVENT
BEGIN:VEVENT
DTSTART;TZID=Asia/Shanghai:20240411T183000
DTEND;TZID=Asia/Shanghai:20240411T193000
DTSTAMP:20260425T234940
CREATED:20240326T093502Z
LAST-MODIFIED:20240326T093502Z
UID:10019433-1712860200-1712863800@www.dancesoul.com.tw
SUMMARY:Choreography-芭比
DESCRIPTION:
URL:https://www.dancesoul.com.tw/schedule/choreography-%e8%8a%ad%e6%af%94-20/2024-04-11/
CATEGORIES:Choreography,常態課_一般,課程
END:VEVENT
BEGIN:VEVENT
DTSTART;TZID=Asia/Shanghai:20240410T205000
DTEND;TZID=Asia/Shanghai:20240410T215000
DTSTAMP:20260425T234940
CREATED:20240326T093409Z
LAST-MODIFIED:20240326T093409Z
UID:10019429-1712782200-1712785800@www.dancesoul.com.tw
SUMMARY:Free Style-承達
DESCRIPTION:
URL:https://www.dancesoul.com.tw/schedule/free-style-%e6%89%bf%e9%81%94-37/2024-04-10/
CATEGORIES:Freestyle,常態課_一般,課程
END:VEVENT
BEGIN:VEVENT
DTSTART;TZID=Asia/Shanghai:20240410T194000
DTEND;TZID=Asia/Shanghai:20240410T204000
DTSTAMP:20260425T234940
CREATED:20240326T093119Z
LAST-MODIFIED:20240326T093119Z
UID:10019425-1712778000-1712781600@www.dancesoul.com.tw
SUMMARY:Street Jazz-Larry
DESCRIPTION:
URL:https://www.dancesoul.com.tw/schedule/street-jazz-larry-14/2024-04-10/
CATEGORIES:STREET JAZZ,常態課_一般,課程
END:VEVENT
BEGIN:VEVENT
DTSTART;TZID=Asia/Shanghai:20240410T183000
DTEND;TZID=Asia/Shanghai:20240410T193000
DTSTAMP:20260425T234940
CREATED:20240326T093013Z
LAST-MODIFIED:20240326T093013Z
UID:10019421-1712773800-1712777400@www.dancesoul.com.tw
SUMMARY:Street Jazz(初)-Kyle
DESCRIPTION:
URL:https://www.dancesoul.com.tw/schedule/street-jazz%e5%88%9d-kyle-11/2024-04-10/
CATEGORIES:STREET JAZZ 初級,常態課_初級,課程
END:VEVENT
BEGIN:VEVENT
DTSTART;TZID=Asia/Shanghai:20240409T205000
DTEND;TZID=Asia/Shanghai:20240409T215000
DTSTAMP:20260425T234940
CREATED:20240326T092839Z
LAST-MODIFIED:20240326T092839Z
UID:10019416-1712695800-1712699400@www.dancesoul.com.tw
SUMMARY:Choreography-少麟
DESCRIPTION:
URL:https://www.dancesoul.com.tw/schedule/choreography-%e5%b0%91%e9%ba%9f-6/2024-04-09/
CATEGORIES:Choreography,常態課_一般,課程
END:VEVENT
BEGIN:VEVENT
DTSTART;TZID=Asia/Shanghai:20240409T194000
DTEND;TZID=Asia/Shanghai:20240409T204000
DTSTAMP:20260425T234940
CREATED:20240326T092749Z
LAST-MODIFIED:20240326T092749Z
UID:10019411-1712691600-1712695200@www.dancesoul.com.tw
SUMMARY:Street Jazz-Denis
DESCRIPTION:
URL:https://www.dancesoul.com.tw/schedule/street-jazz-denis-43/2024-04-09/
CATEGORIES:STREET JAZZ,常態課_一般,課程
END:VEVENT
BEGIN:VEVENT
DTSTART;TZID=Asia/Shanghai:20240409T183000
DTEND;TZID=Asia/Shanghai:20240409T193000
DTSTAMP:20260425T234940
CREATED:20240326T092559Z
LAST-MODIFIED:20240326T092559Z
UID:10019406-1712687400-1712691000@www.dancesoul.com.tw
SUMMARY:Hip Hop(初)-阿禾
DESCRIPTION:
URL:https://www.dancesoul.com.tw/schedule/hip-hop%e5%88%9d-%e9%98%bf%e7%a6%be-48/2024-04-09/
CATEGORIES:Hip Hop 初級,常態課_初級,課程
END:VEVENT
BEGIN:VEVENT
DTSTART;TZID=Asia/Shanghai:20240408T205000
DTEND;TZID=Asia/Shanghai:20240408T215000
DTSTAMP:20260425T234940
CREATED:20240326T092500Z
LAST-MODIFIED:20240326T092500Z
UID:10019401-1712609400-1712613000@www.dancesoul.com.tw
SUMMARY:Jazz Funk-魏小美
DESCRIPTION:
URL:https://www.dancesoul.com.tw/schedule/jazz-funk-%e9%ad%8f%e5%b0%8f%e7%be%8e-70/2024-04-08/
CATEGORIES:Jazz Funk,常態課_一般,課程
END:VEVENT
BEGIN:VEVENT
DTSTART;TZID=Asia/Shanghai:20240408T194000
DTEND;TZID=Asia/Shanghai:20240408T204000
DTSTAMP:20260425T234940
CREATED:20240326T092327Z
LAST-MODIFIED:20240326T092327Z
UID:10019395-1712605200-1712608800@www.dancesoul.com.tw
SUMMARY:Heels(初)-宋靜
DESCRIPTION:
URL:https://www.dancesoul.com.tw/schedule/heels%e5%88%9d-%e5%ae%8b%e9%9d%9c-27/2024-04-08/
CATEGORIES:Heels 初級,常態課_初級,課程
END:VEVENT
BEGIN:VEVENT
DTSTART;TZID=Asia/Shanghai:20240408T183000
DTEND;TZID=Asia/Shanghai:20240408T193000
DTSTAMP:20260425T234940
CREATED:20240326T092231Z
LAST-MODIFIED:20240326T092231Z
UID:10019390-1712601000-1712604600@www.dancesoul.com.tw
SUMMARY:Twerk(初)-碗公
DESCRIPTION:
URL:https://www.dancesoul.com.tw/schedule/twerk%e5%88%9d-%e7%a2%97%e5%85%ac-29/2024-04-08/
CATEGORIES:Twerk 初級,常態課_初級,課程
END:VEVENT
BEGIN:VEVENT
DTSTART;TZID=Asia/Shanghai:20240407T191000
DTEND;TZID=Asia/Shanghai:20240407T201000
DTSTAMP:20260425T234940
CREATED:20240326T092030Z
LAST-MODIFIED:20240326T092030Z
UID:10019385-1712517000-1712520600@www.dancesoul.com.tw
SUMMARY:Hip Hop(初)-承翰
DESCRIPTION:
URL:https://www.dancesoul.com.tw/schedule/hip-hop%e5%88%9d-%e6%89%bf%e7%bf%b0-2/2024-04-07/
CATEGORIES:Hip Hop 初級,常態課_初級,課程
END:VEVENT
BEGIN:VEVENT
DTSTART;TZID=Asia/Shanghai:20240407T180000
DTEND;TZID=Asia/Shanghai:20240407T190000
DTSTAMP:20260425T234940
CREATED:20240326T091920Z
LAST-MODIFIED:20240326T091920Z
UID:10019381-1712512800-1712516400@www.dancesoul.com.tw
SUMMARY:Street Jazz-育暉
DESCRIPTION:
URL:https://www.dancesoul.com.tw/schedule/street-jazz-%e8%82%b2%e6%9a%89-46/2024-04-07/
CATEGORIES:STREET JAZZ,常態課_一般,課程
END:VEVENT
BEGIN:VEVENT
DTSTART;TZID=Asia/Shanghai:20240407T165000
DTEND;TZID=Asia/Shanghai:20240407T175000
DTSTAMP:20260425T234940
CREATED:20240326T091331Z
LAST-MODIFIED:20240326T091331Z
UID:10019377-1712508600-1712512200@www.dancesoul.com.tw
SUMMARY:MV-(TWICE - ONE SPARK)-瑜庭
DESCRIPTION:
URL:https://www.dancesoul.com.tw/schedule/mv-twice-one-spark-%e7%91%9c%e5%ba%ad/2024-04-07/
CATEGORIES:MV課,課程
END:VEVENT
BEGIN:VEVENT
DTSTART;TZID=Asia/Shanghai:20240407T154000
DTEND;TZID=Asia/Shanghai:20240407T164000
DTSTAMP:20260425T234940
CREATED:20240326T091220Z
LAST-MODIFIED:20240326T091220Z
UID:10019373-1712504400-1712508000@www.dancesoul.com.tw
SUMMARY:兒童街舞-傘傘
DESCRIPTION:
URL:https://www.dancesoul.com.tw/schedule/%e5%85%92%e7%ab%a5%e8%a1%97%e8%88%9e-%e5%82%98%e5%82%98-35/2024-04-07/
CATEGORIES:兒童街舞,兒童課,課程
END:VEVENT
BEGIN:VEVENT
DTSTART;TZID=Asia/Shanghai:20240407T143000
DTEND;TZID=Asia/Shanghai:20240407T153000
DTSTAMP:20260425T234940
CREATED:20240326T091011Z
LAST-MODIFIED:20240326T091011Z
UID:10019369-1712500200-1712503800@www.dancesoul.com.tw
SUMMARY:兒童MV-(LE SSERAFIM - EASY)-羿芃
DESCRIPTION:
URL:https://www.dancesoul.com.tw/schedule/%e5%85%92%e7%ab%a5mv-le-sserafim-easy-%e7%be%bf%e8%8a%83/2024-04-07/
CATEGORIES:兒童MV,兒童課,課程
END:VEVENT
BEGIN:VEVENT
DTSTART;TZID=Asia/Shanghai:20240407T132000
DTEND;TZID=Asia/Shanghai:20240407T142000
DTSTAMP:20260425T234940
CREATED:20240326T090818Z
LAST-MODIFIED:20240326T090818Z
UID:10019365-1712496000-1712499600@www.dancesoul.com.tw
SUMMARY:兒童街舞-羿芃
DESCRIPTION:
URL:https://www.dancesoul.com.tw/schedule/%e5%85%92%e7%ab%a5%e8%a1%97%e8%88%9e-%e7%be%bf%e8%8a%83-4/2024-04-07/
CATEGORIES:兒童街舞,兒童課,課程
END:VEVENT
BEGIN:VEVENT
DTSTART;TZID=Asia/Shanghai:20240406T202000
DTEND;TZID=Asia/Shanghai:20240406T212000
DTSTAMP:20260425T234940
CREATED:20240326T090413Z
LAST-MODIFIED:20240326T090413Z
UID:10019357-1712434800-1712438400@www.dancesoul.com.tw
SUMMARY:基礎入門-雞蛋
DESCRIPTION:
URL:https://www.dancesoul.com.tw/schedule/%e5%9f%ba%e7%a4%8e%e5%85%a5%e9%96%80-%e9%9b%9e%e8%9b%8b-26/2024-04-06/
CATEGORIES:基礎入門,常態課_初級,課程
END:VEVENT
BEGIN:VEVENT
DTSTART;TZID=Asia/Shanghai:20240406T191000
DTEND;TZID=Asia/Shanghai:20240406T201000
DTSTAMP:20260425T234940
CREATED:20240326T090311Z
LAST-MODIFIED:20240326T090311Z
UID:10019353-1712430600-1712434200@www.dancesoul.com.tw
SUMMARY:Hip Hop(初)-阿祥
DESCRIPTION:
URL:https://www.dancesoul.com.tw/schedule/hip-hop%e5%88%9d-%e9%98%bf%e7%a5%a5-12/2024-04-06/
CATEGORIES:Hip Hop 初級,常態課_初級,課程
END:VEVENT
END:VCALENDAR