BEGIN:VCALENDAR
VERSION:2.0
PRODID:-//DANCE SOUL 舞魂街舞學校 - ECPv6.15.18//NONSGML v1.0//EN
CALSCALE:GREGORIAN
METHOD:PUBLISH
X-WR-CALNAME:DANCE SOUL 舞魂街舞學校
X-ORIGINAL-URL:https://www.dancesoul.com.tw
X-WR-CALDESC:Events for DANCE SOUL 舞魂街舞學校
REFRESH-INTERVAL;VALUE=DURATION:PT1H
X-Robots-Tag:noindex
X-PUBLISHED-TTL:PT1H
BEGIN:VTIMEZONE
TZID:Asia/Shanghai
BEGIN:STANDARD
TZOFFSETFROM:+0800
TZOFFSETTO:+0800
TZNAME:CST
DTSTART:20230101T000000
END:STANDARD
END:VTIMEZONE
BEGIN:VEVENT
DTSTART;TZID=Asia/Shanghai:20240825T191000
DTEND;TZID=Asia/Shanghai:20240825T201000
DTSTAMP:20260421T071319
CREATED:20240726T112141Z
LAST-MODIFIED:20240726T112141Z
UID:10019987-1724613000-1724616600@www.dancesoul.com.tw
SUMMARY:Hip Hop(初)-承翰
DESCRIPTION:
URL:https://www.dancesoul.com.tw/schedule/hip-hop%e5%88%9d-%e6%89%bf%e7%bf%b0-6/2024-08-25/
CATEGORIES:Hip Hop 初級,常態課_初級,課程
END:VEVENT
BEGIN:VEVENT
DTSTART;TZID=Asia/Shanghai:20240825T180000
DTEND;TZID=Asia/Shanghai:20240825T190000
DTSTAMP:20260421T071319
CREATED:20240726T112005Z
LAST-MODIFIED:20240726T112330Z
UID:10019991-1724608800-1724612400@www.dancesoul.com.tw
SUMMARY:Jazz Funk-姿昀
DESCRIPTION:
URL:https://www.dancesoul.com.tw/schedule/jazz-funk-%e5%a7%bf%e6%98%80/2024-08-25/
CATEGORIES:Jazz Funk,常態課_一般,課程
END:VEVENT
BEGIN:VEVENT
DTSTART;TZID=Asia/Shanghai:20240825T165000
DTEND;TZID=Asia/Shanghai:20240825T175000
DTSTAMP:20260421T071319
CREATED:20240726T111812Z
LAST-MODIFIED:20240726T111812Z
UID:10019978-1724604600-1724608200@www.dancesoul.com.tw
SUMMARY:MV-(LISA - ROCKSTAR)-瑜庭
DESCRIPTION:
URL:https://www.dancesoul.com.tw/schedule/mv-lisa-rockstar-%e7%91%9c%e5%ba%ad/2024-08-25/
CATEGORIES:MV課,課程
END:VEVENT
BEGIN:VEVENT
DTSTART;TZID=Asia/Shanghai:20240825T154000
DTEND;TZID=Asia/Shanghai:20240825T164000
DTSTAMP:20260421T071319
CREATED:20240726T111702Z
LAST-MODIFIED:20240726T111702Z
UID:10019974-1724600400-1724604000@www.dancesoul.com.tw
SUMMARY:兒童 Street Jazz-傘傘
DESCRIPTION:
URL:https://www.dancesoul.com.tw/schedule/%e5%85%92%e7%ab%a5-street-jazz-%e5%82%98%e5%82%98-2/2024-08-25/
CATEGORIES:兒童 Street Jazz,兒童課,課程
END:VEVENT
BEGIN:VEVENT
DTSTART;TZID=Asia/Shanghai:20240825T143000
DTEND;TZID=Asia/Shanghai:20240825T153000
DTSTAMP:20260421T071319
CREATED:20240726T111524Z
LAST-MODIFIED:20240726T111524Z
UID:10019970-1724596200-1724599800@www.dancesoul.com.tw
SUMMARY:兒童MV-((G)I-DLE - Klaxon)-羿芃
DESCRIPTION:
URL:https://www.dancesoul.com.tw/schedule/%e5%85%92%e7%ab%a5mv-gi-dle-klaxon-%e7%be%bf%e8%8a%83/2024-08-25/
CATEGORIES:兒童MV,兒童課,課程
END:VEVENT
BEGIN:VEVENT
DTSTART;TZID=Asia/Shanghai:20240825T132000
DTEND;TZID=Asia/Shanghai:20240825T142000
DTSTAMP:20260421T071319
CREATED:20240726T110716Z
LAST-MODIFIED:20240726T110716Z
UID:10019966-1724592000-1724595600@www.dancesoul.com.tw
SUMMARY:兒童街舞-羿芃
DESCRIPTION:
URL:https://www.dancesoul.com.tw/schedule/%e5%85%92%e7%ab%a5%e8%a1%97%e8%88%9e-%e7%be%bf%e8%8a%83-8/2024-08-25/
CATEGORIES:兒童街舞,兒童課,課程
END:VEVENT
BEGIN:VEVENT
DTSTART;TZID=Asia/Shanghai:20240824T202000
DTEND;TZID=Asia/Shanghai:20240824T212000
DTSTAMP:20260421T071319
CREATED:20240726T110529Z
LAST-MODIFIED:20240726T110529Z
UID:10019961-1724530800-1724534400@www.dancesoul.com.tw
SUMMARY:基礎入門-雞蛋
DESCRIPTION:
URL:https://www.dancesoul.com.tw/schedule/%e5%9f%ba%e7%a4%8e%e5%85%a5%e9%96%80-%e9%9b%9e%e8%9b%8b-30/2024-08-24/
CATEGORIES:基礎入門,常態課_初級,課程
END:VEVENT
BEGIN:VEVENT
DTSTART;TZID=Asia/Shanghai:20240824T191000
DTEND;TZID=Asia/Shanghai:20240824T201000
DTSTAMP:20260421T071319
CREATED:20240726T110428Z
LAST-MODIFIED:20240726T110428Z
UID:10019956-1724526600-1724530200@www.dancesoul.com.tw
SUMMARY:Choreography(初)-無盡
DESCRIPTION:
URL:https://www.dancesoul.com.tw/schedule/choreography%e5%88%9d-%e7%84%a1%e7%9b%a1-3/2024-08-24/
CATEGORIES:Choreography 初級,常態課_初級,課程
END:VEVENT
BEGIN:VEVENT
DTSTART;TZID=Asia/Shanghai:20240824T180000
DTEND;TZID=Asia/Shanghai:20240824T190000
DTSTAMP:20260421T071319
CREATED:20240726T110259Z
LAST-MODIFIED:20240726T110259Z
UID:10019951-1724522400-1724526000@www.dancesoul.com.tw
SUMMARY:Popping-紀威
DESCRIPTION:
URL:https://www.dancesoul.com.tw/schedule/popping-%e7%b4%80%e5%a8%81-43/2024-08-24/
CATEGORIES:Poppin,常態課_一般,課程
END:VEVENT
BEGIN:VEVENT
DTSTART;TZID=Asia/Shanghai:20240824T165000
DTEND;TZID=Asia/Shanghai:20240824T175000
DTSTAMP:20260421T071319
CREATED:20240726T110157Z
LAST-MODIFIED:20240726T110157Z
UID:10019946-1724518200-1724521800@www.dancesoul.com.tw
SUMMARY:MV-(KISS OF LIFE - Sticky)-怡妏
DESCRIPTION:
URL:https://www.dancesoul.com.tw/schedule/mv-kiss-of-life-sticky-%e6%80%a1%e5%a6%8f/2024-08-24/
CATEGORIES:MV課,課程
END:VEVENT
BEGIN:VEVENT
DTSTART;TZID=Asia/Shanghai:20240824T154000
DTEND;TZID=Asia/Shanghai:20240824T164000
DTSTAMP:20260421T071319
CREATED:20240726T110003Z
LAST-MODIFIED:20240726T110003Z
UID:10019941-1724514000-1724517600@www.dancesoul.com.tw
SUMMARY:兒童基礎街舞-傘傘
DESCRIPTION:
URL:https://www.dancesoul.com.tw/schedule/%e5%85%92%e7%ab%a5%e5%9f%ba%e7%a4%8e%e8%a1%97%e8%88%9e-%e5%82%98%e5%82%98-2/2024-08-24/
CATEGORIES:兒童基礎街舞,兒童課,課程
END:VEVENT
BEGIN:VEVENT
DTSTART;TZID=Asia/Shanghai:20240824T143000
DTEND;TZID=Asia/Shanghai:20240824T153000
DTSTAMP:20260421T071319
CREATED:20240729T055037Z
LAST-MODIFIED:20240729T055037Z
UID:10020119-1724509800-1724513400@www.dancesoul.com.tw
SUMMARY:兒童MV-(LISA - ROCKSTAR)-薇臻
DESCRIPTION:
URL:https://www.dancesoul.com.tw/schedule/%e5%85%92%e7%ab%a5mv-lisa-rockstar-%e8%96%87%e8%87%bb/2024-08-24/
CATEGORIES:兒童MV,兒童課,課程
END:VEVENT
BEGIN:VEVENT
DTSTART;TZID=Asia/Shanghai:20240824T132000
DTEND;TZID=Asia/Shanghai:20240824T142000
DTSTAMP:20260421T071319
CREATED:20240726T105755Z
LAST-MODIFIED:20240726T105755Z
UID:10019936-1724505600-1724509200@www.dancesoul.com.tw
SUMMARY:兒童街舞-薇臻
DESCRIPTION:
URL:https://www.dancesoul.com.tw/schedule/%e5%85%92%e7%ab%a5%e8%a1%97%e8%88%9e-%e8%96%87%e8%87%bb-9/2024-08-24/
CATEGORIES:兒童街舞,兒童課,課程
END:VEVENT
BEGIN:VEVENT
DTSTART;TZID=Asia/Shanghai:20240823T205000
DTEND;TZID=Asia/Shanghai:20240823T215000
DTSTAMP:20260421T071319
CREATED:20240726T121850Z
LAST-MODIFIED:20240726T121850Z
UID:10020114-1724446200-1724449800@www.dancesoul.com.tw
SUMMARY:Jazz Funk-鈴鐺
DESCRIPTION:
URL:https://www.dancesoul.com.tw/schedule/jazz-funk-%e9%88%b4%e9%90%ba-21/2024-08-23/
CATEGORIES:Jazz Funk,常態課_一般,課程
END:VEVENT
BEGIN:VEVENT
DTSTART;TZID=Asia/Shanghai:20240823T194000
DTEND;TZID=Asia/Shanghai:20240823T204000
DTSTAMP:20260421T071319
CREATED:20240726T121727Z
LAST-MODIFIED:20240726T121727Z
UID:10020109-1724442000-1724445600@www.dancesoul.com.tw
SUMMARY:Hip Hop(初)-佐佐
DESCRIPTION:
URL:https://www.dancesoul.com.tw/schedule/hip-hop%e5%88%9d-%e4%bd%90%e4%bd%90-13/2024-08-23/
CATEGORIES:Hip Hop 初級,常態課_初級,課程
END:VEVENT
BEGIN:VEVENT
DTSTART;TZID=Asia/Shanghai:20240823T183000
DTEND;TZID=Asia/Shanghai:20240823T193000
DTSTAMP:20260421T071319
CREATED:20240726T121637Z
LAST-MODIFIED:20240726T121637Z
UID:10020104-1724437800-1724441400@www.dancesoul.com.tw
SUMMARY:Street Jazz(初)-Cen妹
DESCRIPTION:
URL:https://www.dancesoul.com.tw/schedule/street-jazz%e5%88%9d-cen%e5%a6%b9-34/2024-08-23/
CATEGORIES:STREET JAZZ 初級,常態課_初級,課程
END:VEVENT
BEGIN:VEVENT
DTSTART;TZID=Asia/Shanghai:20240823T172000
DTEND;TZID=Asia/Shanghai:20240823T182000
DTSTAMP:20260421T071319
CREATED:20240726T121516Z
LAST-MODIFIED:20240726T121516Z
UID:10020100-1724433600-1724437200@www.dancesoul.com.tw
SUMMARY:Choreography-達達
DESCRIPTION:
URL:https://www.dancesoul.com.tw/schedule/choreography-%e9%81%94%e9%81%94-2/2024-08-23/
CATEGORIES:Choreography,常態課_一般,課程
END:VEVENT
BEGIN:VEVENT
DTSTART;TZID=Asia/Shanghai:20240823T161000
DTEND;TZID=Asia/Shanghai:20240823T171000
DTSTAMP:20260421T071319
CREATED:20240726T121428Z
LAST-MODIFIED:20240726T121428Z
UID:10020096-1724429400-1724433000@www.dancesoul.com.tw
SUMMARY:Jazz Funk(初)-Larry
DESCRIPTION:
URL:https://www.dancesoul.com.tw/schedule/jazz-funk%e5%88%9d-larry-4/2024-08-23/
CATEGORIES:Jazz Funk 初級,常態課_初級,課程
END:VEVENT
BEGIN:VEVENT
DTSTART;TZID=Asia/Shanghai:20240823T150000
DTEND;TZID=Asia/Shanghai:20240823T160000
DTSTAMP:20260421T071319
CREATED:20240726T113004Z
LAST-MODIFIED:20240726T113004Z
UID:10020003-1724425200-1724428800@www.dancesoul.com.tw
SUMMARY:兒童MV-(BABYMONSTER - FOREVER)-昀珊
DESCRIPTION:
URL:https://www.dancesoul.com.tw/schedule/%e5%85%92%e7%ab%a5mv-babymonster-forever-%e6%98%80%e7%8f%8a/2024-08-23/
CATEGORIES:兒童MV,兒童課,課程
END:VEVENT
BEGIN:VEVENT
DTSTART;TZID=Asia/Shanghai:20240822T205000
DTEND;TZID=Asia/Shanghai:20240822T215000
DTSTAMP:20260421T071319
CREATED:20240729T060209Z
LAST-MODIFIED:20240729T060209Z
UID:10020126-1724359800-1724363400@www.dancesoul.com.tw
SUMMARY:Afro Style-巴豪
DESCRIPTION:
URL:https://www.dancesoul.com.tw/schedule/afro-style-%e5%b7%b4%e8%b1%aa-3/2024-08-22/
CATEGORIES:Afro Style,常態課_一般,課程
END:VEVENT
BEGIN:VEVENT
DTSTART;TZID=Asia/Shanghai:20240822T194000
DTEND;TZID=Asia/Shanghai:20240822T204000
DTSTAMP:20260421T071319
CREATED:20240726T121239Z
LAST-MODIFIED:20240726T121239Z
UID:10020091-1724355600-1724359200@www.dancesoul.com.tw
SUMMARY:Hip Hop-林彤
DESCRIPTION:
URL:https://www.dancesoul.com.tw/schedule/hip-hop-%e6%9e%97%e5%bd%a4-20/2024-08-22/
CATEGORIES:Hip Hop,常態課_一般,課程
END:VEVENT
BEGIN:VEVENT
DTSTART;TZID=Asia/Shanghai:20240822T183000
DTEND;TZID=Asia/Shanghai:20240822T193000
DTSTAMP:20260421T071319
CREATED:20240726T121154Z
LAST-MODIFIED:20240726T121154Z
UID:10020086-1724351400-1724355000@www.dancesoul.com.tw
SUMMARY:Choreography-芭比
DESCRIPTION:
URL:https://www.dancesoul.com.tw/schedule/choreography-%e8%8a%ad%e6%af%94-24/2024-08-22/
CATEGORIES:Choreography,常態課_一般,課程
END:VEVENT
BEGIN:VEVENT
DTSTART;TZID=Asia/Shanghai:20240822T172000
DTEND;TZID=Asia/Shanghai:20240822T182000
DTSTAMP:20260421T071319
CREATED:20240726T121034Z
LAST-MODIFIED:20240726T121034Z
UID:10020081-1724347200-1724350800@www.dancesoul.com.tw
SUMMARY:Jazz Funk-瑜庭
DESCRIPTION:
URL:https://www.dancesoul.com.tw/schedule/jazz-funk-%e7%91%9c%e5%ba%ad/2024-08-22/
CATEGORIES:Jazz Funk,常態課_一般,課程
END:VEVENT
BEGIN:VEVENT
DTSTART;TZID=Asia/Shanghai:20240822T161000
DTEND;TZID=Asia/Shanghai:20240822T171000
DTSTAMP:20260421T071319
CREATED:20240726T120943Z
LAST-MODIFIED:20240726T120943Z
UID:10020076-1724343000-1724346600@www.dancesoul.com.tw
SUMMARY:基礎入門-承翰
DESCRIPTION:
URL:https://www.dancesoul.com.tw/schedule/%e5%9f%ba%e7%a4%8e%e5%85%a5%e9%96%80-%e6%89%bf%e7%bf%b0-2/2024-08-22/
CATEGORIES:基礎入門,常態課_初級,課程
END:VEVENT
BEGIN:VEVENT
DTSTART;TZID=Asia/Shanghai:20240822T150000
DTEND;TZID=Asia/Shanghai:20240822T160000
DTSTAMP:20260421T071319
CREATED:20240726T113811Z
LAST-MODIFIED:20240729T055346Z
UID:10020011-1724338800-1724342400@www.dancesoul.com.tw
SUMMARY:兒童MV-(ILLIT - Lucky Girl Syndrome)-薇臻
DESCRIPTION:
URL:https://www.dancesoul.com.tw/schedule/%e5%85%92%e7%ab%a5mv-illit-lucky-girl-syndrome-%e8%96%87%e8%87%bb/2024-08-22/
CATEGORIES:兒童MV,兒童課,課程
END:VEVENT
BEGIN:VEVENT
DTSTART;TZID=Asia/Shanghai:20240821T205000
DTEND;TZID=Asia/Shanghai:20240821T215000
DTSTAMP:20260421T071319
CREATED:20240726T120815Z
LAST-MODIFIED:20240726T120815Z
UID:10020071-1724273400-1724277000@www.dancesoul.com.tw
SUMMARY:Free Style-承達
DESCRIPTION:
URL:https://www.dancesoul.com.tw/schedule/free-style-%e6%89%bf%e9%81%94-41/2024-08-21/
CATEGORIES:Freestyle,常態課_一般,課程
END:VEVENT
BEGIN:VEVENT
DTSTART;TZID=Asia/Shanghai:20240821T194000
DTEND;TZID=Asia/Shanghai:20240821T204000
DTSTAMP:20260421T071319
CREATED:20240726T120715Z
LAST-MODIFIED:20240726T120715Z
UID:10020067-1724269200-1724272800@www.dancesoul.com.tw
SUMMARY:Street Jazz-Larry
DESCRIPTION:
URL:https://www.dancesoul.com.tw/schedule/street-jazz-larry-18/2024-08-21/
CATEGORIES:STREET JAZZ,常態課_一般,課程
END:VEVENT
BEGIN:VEVENT
DTSTART;TZID=Asia/Shanghai:20240821T183000
DTEND;TZID=Asia/Shanghai:20240821T193000
DTSTAMP:20260421T071319
CREATED:20240726T120547Z
LAST-MODIFIED:20240726T120547Z
UID:10020063-1724265000-1724268600@www.dancesoul.com.tw
SUMMARY:Street Jazz(初)-Kyle
DESCRIPTION:
URL:https://www.dancesoul.com.tw/schedule/street-jazz%e5%88%9d-kyle-17/2024-08-21/
CATEGORIES:STREET JAZZ 初級,常態課_初級,課程
END:VEVENT
BEGIN:VEVENT
DTSTART;TZID=Asia/Shanghai:20240821T172000
DTEND;TZID=Asia/Shanghai:20240821T182000
DTSTAMP:20260421T071319
CREATED:20240726T120322Z
LAST-MODIFIED:20240726T120322Z
UID:10020059-1724260800-1724264400@www.dancesoul.com.tw
SUMMARY:Choreography-七七
DESCRIPTION:
URL:https://www.dancesoul.com.tw/schedule/choreography-%e4%b8%83%e4%b8%83-2/2024-08-21/
CATEGORIES:Choreography,常態課_一般,課程
END:VEVENT
BEGIN:VEVENT
DTSTART;TZID=Asia/Shanghai:20240821T161000
DTEND;TZID=Asia/Shanghai:20240821T171000
DTSTAMP:20260421T071319
CREATED:20240726T120229Z
LAST-MODIFIED:20240726T120229Z
UID:10020055-1724256600-1724260200@www.dancesoul.com.tw
SUMMARY:基礎入門-無盡
DESCRIPTION:
URL:https://www.dancesoul.com.tw/schedule/%e5%9f%ba%e7%a4%8e%e5%85%a5%e9%96%80-%e7%84%a1%e7%9b%a1-6/2024-08-21/
CATEGORIES:基礎入門,常態課_初級,課程
END:VEVENT
END:VCALENDAR