BEGIN:VCALENDAR
VERSION:2.0
PRODID:-//DANCE SOUL 舞魂街舞學校 - ECPv6.15.18//NONSGML v1.0//EN
CALSCALE:GREGORIAN
METHOD:PUBLISH
X-WR-CALNAME:DANCE SOUL 舞魂街舞學校
X-ORIGINAL-URL:https://www.dancesoul.com.tw
X-WR-CALDESC:Events for DANCE SOUL 舞魂街舞學校
REFRESH-INTERVAL;VALUE=DURATION:PT1H
X-Robots-Tag:noindex
X-PUBLISHED-TTL:PT1H
BEGIN:VTIMEZONE
TZID:Asia/Shanghai
BEGIN:STANDARD
TZOFFSETFROM:+0800
TZOFFSETTO:+0800
TZNAME:CST
DTSTART:20250101T000000
END:STANDARD
END:VTIMEZONE
BEGIN:VEVENT
DTSTART;TZID=Asia/Shanghai:20270102T192500
DTEND;TZID=Asia/Shanghai:20270102T202500
DTSTAMP:20260422T073945
CREATED:20260327T082346Z
LAST-MODIFIED:20260327T082346Z
UID:10032698-1798917900-1798921500@www.dancesoul.com.tw
SUMMARY:HIP HOP-GAGA
DESCRIPTION:
URL:https://www.dancesoul.com.tw/schedule/%e5%9f%ba%e7%a4%8e%e5%85%a5%e9%96%80-%e9%9b%9e%e8%9b%8b-41-2/2027-01-02/
CATEGORIES:基礎入門,常態課_初級,課程
END:VEVENT
BEGIN:VEVENT
DTSTART;TZID=Asia/Shanghai:20270102T182000
DTEND;TZID=Asia/Shanghai:20270102T192000
DTSTAMP:20260422T073945
CREATED:20250901T055441Z
LAST-MODIFIED:20250901T055457Z
UID:10028114-1798914000-1798917600@www.dancesoul.com.tw
SUMMARY:Popping-紀威
DESCRIPTION:
URL:https://www.dancesoul.com.tw/schedule/popping-%e7%b4%80%e5%a8%81-54/2027-01-02/
CATEGORIES:Poppin,常態課_一般,課程
END:VEVENT
BEGIN:VEVENT
DTSTART;TZID=Asia/Shanghai:20270102T164000
DTEND;TZID=Asia/Shanghai:20270102T174000
DTSTAMP:20260422T073945
CREATED:20260315T072002Z
LAST-MODIFIED:20260315T072518Z
UID:10027853-1798908000-1798911600@www.dancesoul.com.tw
SUMMARY:MV(IVE - ‘BANG BANG’)-薇臻
DESCRIPTION:
URL:https://www.dancesoul.com.tw/schedule/mvive-xoxz-%e5%87%9d%e7%90%a6-2-2/2027-01-02/
CATEGORIES:MV課,課程
END:VEVENT
BEGIN:VEVENT
DTSTART;TZID=Asia/Shanghai:20270102T154000
DTEND;TZID=Asia/Shanghai:20270102T164000
DTSTAMP:20260422T073945
CREATED:20250901T055134Z
LAST-MODIFIED:20260327T083158Z
UID:10033493-1798904400-1798908000@www.dancesoul.com.tw
SUMMARY:兒童Popping-勁宏
DESCRIPTION:
URL:https://www.dancesoul.com.tw/schedule/%e5%85%92%e7%ab%a5popping-%e5%8b%81%e5%ae%8f-2/2027-01-02/
CATEGORIES:兒童街舞,課程
END:VEVENT
BEGIN:VEVENT
DTSTART;TZID=Asia/Shanghai:20270102T143000
DTEND;TZID=Asia/Shanghai:20270102T153000
DTSTAMP:20260422T073945
CREATED:20251202T055414Z
LAST-MODIFIED:20260315T072223Z
UID:10027591-1798900200-1798903800@www.dancesoul.com.tw
SUMMARY:兒童MV(IVE - 'BANG BANG')-薇臻
DESCRIPTION:
URL:https://www.dancesoul.com.tw/schedule/%e5%85%92%e7%ab%a5mvbabymonster-hot-sauce-%e8%96%87%e8%87%bb-2/2027-01-02/
CATEGORIES:MV課,兒童MV,課程
END:VEVENT
BEGIN:VEVENT
DTSTART;TZID=Asia/Shanghai:20270102T132000
DTEND;TZID=Asia/Shanghai:20270102T142000
DTSTAMP:20260422T073945
CREATED:20251201T070320Z
LAST-MODIFIED:20260315T072345Z
UID:10027330-1798896000-1798899600@www.dancesoul.com.tw
SUMMARY:兒童MV(初)(i-dle - 'Mona(Feat.skaiwater)')-薇臻
DESCRIPTION:
URL:https://www.dancesoul.com.tw/schedule/%e5%85%92%e7%ab%a5%e8%a1%97%e8%88%9e-%e8%96%87%e8%87%bb-21-2-2-2/2027-01-02/
CATEGORIES:兒童街舞,兒童課
END:VEVENT
BEGIN:VEVENT
DTSTART;TZID=Asia/Shanghai:20270101T213500
DTEND;TZID=Asia/Shanghai:20270101T223500
DTSTAMP:20260422T073945
CREATED:20260327T085804Z
LAST-MODIFIED:20260327T085804Z
UID:10036925-1798839300-1798842900@www.dancesoul.com.tw
SUMMARY:Street Jazz-Roy燦伊
DESCRIPTION:
URL:https://www.dancesoul.com.tw/schedule/street-jazz-roy%e7%87%a6%e4%bc%8a/2027-01-01/
END:VEVENT
BEGIN:VEVENT
DTSTART;TZID=Asia/Shanghai:20270101T203000
DTEND;TZID=Asia/Shanghai:20270101T213000
DTSTAMP:20260422T073945
CREATED:20260327T090256Z
LAST-MODIFIED:20260327T090256Z
UID:10037718-1798835400-1798839000@www.dancesoul.com.tw
SUMMARY:Jazz Funk-Dang 鈴鐺
DESCRIPTION:
URL:https://www.dancesoul.com.tw/schedule/jazz-funk-dang-%e9%88%b4%e9%90%ba/2027-01-01/
END:VEVENT
BEGIN:VEVENT
DTSTART;TZID=Asia/Shanghai:20270101T192500
DTEND;TZID=Asia/Shanghai:20270101T202500
DTSTAMP:20260422T073945
CREATED:20260327T090205Z
LAST-MODIFIED:20260327T090205Z
UID:10037454-1798831500-1798835100@www.dancesoul.com.tw
SUMMARY:Street Jazz-CenMei
DESCRIPTION:
URL:https://www.dancesoul.com.tw/schedule/street-jazz-cenmei/2027-01-01/
END:VEVENT
BEGIN:VEVENT
DTSTART;TZID=Asia/Shanghai:20270101T182000
DTEND;TZID=Asia/Shanghai:20270101T192000
DTSTAMP:20260422T073945
CREATED:20260327T083919Z
LAST-MODIFIED:20260327T083920Z
UID:10034546-1798827600-1798831200@www.dancesoul.com.tw
SUMMARY:Twerk（初）-碗公
DESCRIPTION:
URL:https://www.dancesoul.com.tw/schedule/twerk%ef%bc%88%e5%88%9d%ef%bc%89-%e7%a2%97%e5%85%ac-2-2/2027-01-01/
END:VEVENT
BEGIN:VEVENT
DTSTART;TZID=Asia/Shanghai:20261231T213500
DTEND;TZID=Asia/Shanghai:20261231T223500
DTSTAMP:20260422T073945
CREATED:20250828T104929Z
LAST-MODIFIED:20250828T104929Z
UID:10026290-1798752900-1798756500@www.dancesoul.com.tw
SUMMARY:Choreography-巴豪
DESCRIPTION:
URL:https://www.dancesoul.com.tw/schedule/choreography-%e5%b7%b4%e8%b1%aa-7/2026-12-31/
CATEGORIES:Choreography,常態課_一般,課程
END:VEVENT
BEGIN:VEVENT
DTSTART;TZID=Asia/Shanghai:20261231T203000
DTEND;TZID=Asia/Shanghai:20261231T213000
DTSTAMP:20260422T073945
CREATED:20260327T085246Z
LAST-MODIFIED:20260327T085313Z
UID:10036132-1798749000-1798752600@www.dancesoul.com.tw
SUMMARY:Choreography-HU RUEI胡睿
DESCRIPTION:
URL:https://www.dancesoul.com.tw/schedule/choreography-hu-ruei%e8%83%a1%e7%9d%bf/2026-12-31/
END:VEVENT
BEGIN:VEVENT
DTSTART;TZID=Asia/Shanghai:20261231T192500
DTEND;TZID=Asia/Shanghai:20261231T202500
DTSTAMP:20260422T073945
CREATED:20260327T082918Z
LAST-MODIFIED:20260327T084510Z
UID:10034809-1798745100-1798748700@www.dancesoul.com.tw
SUMMARY:Hip Hop(初)-林彤
DESCRIPTION:
URL:https://www.dancesoul.com.tw/schedule/hip-hop%e5%88%9d-%e6%9e%97%e5%bd%a4-3-2/2026-12-31/
CATEGORIES:Hip Hop 初級,常態課_初級,課程
END:VEVENT
BEGIN:VEVENT
DTSTART;TZID=Asia/Shanghai:20261231T182000
DTEND;TZID=Asia/Shanghai:20261231T192000
DTSTAMP:20260422T073945
CREATED:20251202T055643Z
LAST-MODIFIED:20251202T055645Z
UID:10025510-1798741200-1798744800@www.dancesoul.com.tw
SUMMARY:Street Jazz-羊羊
DESCRIPTION:
URL:https://www.dancesoul.com.tw/schedule/hip-hop-%e4%bd%90%e4%bd%90-2-2/2026-12-31/
CATEGORIES:Hip Hop,常態課_一般,課程
END:VEVENT
BEGIN:VEVENT
DTSTART;TZID=Asia/Shanghai:20261230T213500
DTEND;TZID=Asia/Shanghai:20261230T223500
DTSTAMP:20260422T073945
CREATED:20260327T085649Z
LAST-MODIFIED:20260327T085650Z
UID:10036660-1798666500-1798670100@www.dancesoul.com.tw
SUMMARY:MV-緗緗
DESCRIPTION:
URL:https://www.dancesoul.com.tw/schedule/mv-%e7%b7%97%e7%b7%97-2-2/2026-12-30/
END:VEVENT
BEGIN:VEVENT
DTSTART;TZID=Asia/Shanghai:20261230T203000
DTEND;TZID=Asia/Shanghai:20261230T213000
DTSTAMP:20260422T073945
CREATED:20250828T103540Z
LAST-MODIFIED:20250828T103540Z
UID:10024988-1798662600-1798666200@www.dancesoul.com.tw
SUMMARY:Street Jazz-Kyle
DESCRIPTION:
URL:https://www.dancesoul.com.tw/schedule/street-jazz-kyle-4/2026-12-30/
CATEGORIES:STREET JAZZ,常態課_一般,課程
END:VEVENT
BEGIN:VEVENT
DTSTART;TZID=Asia/Shanghai:20261230T192500
DTEND;TZID=Asia/Shanghai:20261230T202500
DTSTAMP:20260422T073945
CREATED:20250828T102504Z
LAST-MODIFIED:20250828T102504Z
UID:10024727-1798658700-1798662300@www.dancesoul.com.tw
SUMMARY:Street Jazz-Larry
DESCRIPTION:
URL:https://www.dancesoul.com.tw/schedule/street-jazz-larry-30/2026-12-30/
CATEGORIES:STREET JAZZ,常態課_一般,課程
END:VEVENT
BEGIN:VEVENT
DTSTART;TZID=Asia/Shanghai:20261230T182000
DTEND;TZID=Asia/Shanghai:20261230T192000
DTSTAMP:20260422T073945
CREATED:20260327T082544Z
LAST-MODIFIED:20260327T082544Z
UID:10032963-1798654800-1798658400@www.dancesoul.com.tw
SUMMARY:Choreography(初)-無盡
DESCRIPTION:
URL:https://www.dancesoul.com.tw/schedule/choreography%e5%88%9d-%e7%84%a1%e7%9b%a1-14-2/2026-12-30/
CATEGORIES:Choreography 初級,常態課_初級,課程
END:VEVENT
BEGIN:VEVENT
DTSTART;TZID=Asia/Shanghai:20261229T213500
DTEND;TZID=Asia/Shanghai:20261229T223500
DTSTAMP:20260422T073945
CREATED:20260327T081822Z
LAST-MODIFIED:20260327T081932Z
UID:10032150-1798580100-1798583700@www.dancesoul.com.tw
SUMMARY:Hip Hop-承翰
DESCRIPTION:
URL:https://www.dancesoul.com.tw/schedule/hip-hop-%e6%89%bf%e7%bf%b0-2-3/2026-12-29/
CATEGORIES:Hip Hop,常態課_一般,課程
END:VEVENT
BEGIN:VEVENT
DTSTART;TZID=Asia/Shanghai:20261229T202000
DTEND;TZID=Asia/Shanghai:20261229T212000
DTSTAMP:20260422T073945
CREATED:20250828T100203Z
LAST-MODIFIED:20250828T100203Z
UID:10023944-1798575600-1798579200@www.dancesoul.com.tw
SUMMARY:Free Style-俊宏
DESCRIPTION:
URL:https://www.dancesoul.com.tw/schedule/free-style-%e4%bf%8a%e5%ae%8f-29/2026-12-29/
CATEGORIES:Freestyle,常態課_一般,課程
END:VEVENT
BEGIN:VEVENT
DTSTART;TZID=Asia/Shanghai:20261229T192500
DTEND;TZID=Asia/Shanghai:20261229T202500
DTSTAMP:20260422T073945
CREATED:20260327T083744Z
LAST-MODIFIED:20260327T083744Z
UID:10034282-1798572300-1798575900@www.dancesoul.com.tw
SUMMARY:Choreography-羅毅
DESCRIPTION:
URL:https://www.dancesoul.com.tw/schedule/choreography-%e7%be%85%e6%af%85-2-2/2026-12-29/
CATEGORIES:Choreography,常態課_一般,課程
END:VEVENT
BEGIN:VEVENT
DTSTART;TZID=Asia/Shanghai:20261229T182000
DTEND;TZID=Asia/Shanghai:20261229T192000
DTSTAMP:20260422T073945
CREATED:20250828T095545Z
LAST-MODIFIED:20250828T095545Z
UID:10023682-1798568400-1798572000@www.dancesoul.com.tw
SUMMARY:MV-薇臻
DESCRIPTION:
URL:https://www.dancesoul.com.tw/schedule/mv-%e8%96%87%e8%87%bb-4/2026-12-29/
END:VEVENT
BEGIN:VEVENT
DTSTART;TZID=Asia/Shanghai:20261228T213500
DTEND;TZID=Asia/Shanghai:20261228T223500
DTSTAMP:20260422T073945
CREATED:20260327T082216Z
LAST-MODIFIED:20260327T082217Z
UID:10032434-1798493700-1798497300@www.dancesoul.com.tw
SUMMARY:Jazz Funk-姿昀
DESCRIPTION:
URL:https://www.dancesoul.com.tw/schedule/jazz-funk-%e5%a7%bf%e6%98%80-15-2/2026-12-28/
CATEGORIES:Jazz Funk,課程
END:VEVENT
BEGIN:VEVENT
DTSTART;TZID=Asia/Shanghai:20261228T203000
DTEND;TZID=Asia/Shanghai:20261228T213000
DTSTAMP:20260422T073945
CREATED:20260327T084046Z
LAST-MODIFIED:20260327T084828Z
UID:10035073-1798489800-1798493400@www.dancesoul.com.tw
SUMMARY:Heels-宋靜
DESCRIPTION:
URL:https://www.dancesoul.com.tw/schedule/heels-%e5%ae%8b%e9%9d%9c-3-2/2026-12-28/
END:VEVENT
BEGIN:VEVENT
DTSTART;TZID=Asia/Shanghai:20261228T192500
DTEND;TZID=Asia/Shanghai:20261228T202500
DTSTAMP:20260422T073945
CREATED:20260327T082108Z
LAST-MODIFIED:20260327T082108Z
UID:10030809-1798485900-1798489500@www.dancesoul.com.tw
SUMMARY:Jazz Funk-魏小美
DESCRIPTION:
URL:https://www.dancesoul.com.tw/schedule/jazz-funk-%e9%ad%8f%e5%b0%8f%e7%be%8e-84-2-2/2026-12-28/
END:VEVENT
BEGIN:VEVENT
DTSTART;TZID=Asia/Shanghai:20261228T182000
DTEND;TZID=Asia/Shanghai:20261228T192000
DTSTAMP:20260422T073945
CREATED:20260327T084628Z
LAST-MODIFIED:20260327T084933Z
UID:10035337-1798482000-1798485600@www.dancesoul.com.tw
SUMMARY:MV-瑜庭
DESCRIPTION:
URL:https://www.dancesoul.com.tw/schedule/mvtwice-this-is-for-%e7%91%9c%e5%ba%ad-2/2026-12-28/
CATEGORIES:MV課,課程
END:VEVENT
BEGIN:VEVENT
DTSTART;TZID=Asia/Shanghai:20261227T192500
DTEND;TZID=Asia/Shanghai:20261227T202500
DTSTAMP:20260422T073945
CREATED:20260327T081608Z
LAST-MODIFIED:20260327T081608Z
UID:10030201-1798399500-1798403100@www.dancesoul.com.tw
SUMMARY:Hip Hop-ROD
DESCRIPTION:
URL:https://www.dancesoul.com.tw/schedule/hip-hop-%e6%89%bf%e7%bf%b0-2-2/2026-12-27/
CATEGORIES:Hip Hop,常態課_一般,課程
END:VEVENT
BEGIN:VEVENT
DTSTART;TZID=Asia/Shanghai:20261227T182000
DTEND;TZID=Asia/Shanghai:20261227T192000
DTSTAMP:20260422T073945
CREATED:20260327T085927Z
LAST-MODIFIED:20260327T085927Z
UID:10037189-1798395600-1798399200@www.dancesoul.com.tw
SUMMARY:Jazz Funk-Zulin小霖
DESCRIPTION:
URL:https://www.dancesoul.com.tw/schedule/jazz-funk-zulin%e5%b0%8f%e9%9c%96/2026-12-27/
END:VEVENT
BEGIN:VEVENT
DTSTART;TZID=Asia/Shanghai:20261227T165000
DTEND;TZID=Asia/Shanghai:20261227T175000
DTSTAMP:20260422T073945
CREATED:20251201T095640Z
LAST-MODIFIED:20260315T071631Z
UID:10029679-1798390200-1798393800@www.dancesoul.com.tw
SUMMARY:MV(Apink - 'Love Me More')-Jenny
DESCRIPTION:
URL:https://www.dancesoul.com.tw/schedule/mvsomi-closer-%e7%91%9c%e5%ba%ad-2/2026-12-27/
CATEGORIES:MV課,課程
END:VEVENT
BEGIN:VEVENT
DTSTART;TZID=Asia/Shanghai:20261227T154000
DTEND;TZID=Asia/Shanghai:20261227T164000
DTSTAMP:20260422T073945
CREATED:20250901T060229Z
LAST-MODIFIED:20250901T060229Z
UID:10029418-1798386000-1798389600@www.dancesoul.com.tw
SUMMARY:兒童Street Jazz-傘傘
DESCRIPTION:
URL:https://www.dancesoul.com.tw/schedule/%e5%85%92%e7%ab%a5street-jazz-%e5%82%98%e5%82%98-4/2026-12-27/
CATEGORIES:兒童街舞,兒童課
END:VEVENT
END:VCALENDAR