BEGIN:VCALENDAR
VERSION:2.0
PRODID:-//DANCE SOUL 舞魂街舞學校 - ECPv6.15.18//NONSGML v1.0//EN
CALSCALE:GREGORIAN
METHOD:PUBLISH
X-WR-CALNAME:DANCE SOUL 舞魂街舞學校
X-ORIGINAL-URL:https://www.dancesoul.com.tw
X-WR-CALDESC:Events for DANCE SOUL 舞魂街舞學校
REFRESH-INTERVAL;VALUE=DURATION:PT1H
X-Robots-Tag:noindex
X-PUBLISHED-TTL:PT1H
BEGIN:VTIMEZONE
TZID:Asia/Shanghai
BEGIN:STANDARD
TZOFFSETFROM:+0800
TZOFFSETTO:+0800
TZNAME:CST
DTSTART:20230101T000000
END:STANDARD
END:VTIMEZONE
BEGIN:VEVENT
DTSTART;TZID=Asia/Shanghai:20240307T183000
DTEND;TZID=Asia/Shanghai:20240307T193000
DTSTAMP:20260425T234800
CREATED:20240225T083617Z
LAST-MODIFIED:20240225T083617Z
UID:10019310-1709836200-1709839800@www.dancesoul.com.tw
SUMMARY:Choreography-芭比
DESCRIPTION:
URL:https://www.dancesoul.com.tw/schedule/choreography-%e8%8a%ad%e6%af%94-19/2024-03-07/
CATEGORIES:Choreography,常態課_一般,課程
END:VEVENT
BEGIN:VEVENT
DTSTART;TZID=Asia/Shanghai:20240307T194000
DTEND;TZID=Asia/Shanghai:20240307T204000
DTSTAMP:20260425T234800
CREATED:20240225T083740Z
LAST-MODIFIED:20240225T083740Z
UID:10019314-1709840400-1709844000@www.dancesoul.com.tw
SUMMARY:Hip Hop-林彤
DESCRIPTION:
URL:https://www.dancesoul.com.tw/schedule/hip-hop-%e6%9e%97%e5%bd%a4-15/2024-03-07/
CATEGORIES:Hip Hop,常態課_一般,課程
END:VEVENT
BEGIN:VEVENT
DTSTART;TZID=Asia/Shanghai:20240307T205000
DTEND;TZID=Asia/Shanghai:20240307T215000
DTSTAMP:20260425T234800
CREATED:20240225T083831Z
LAST-MODIFIED:20240225T083831Z
UID:10019318-1709844600-1709848200@www.dancesoul.com.tw
SUMMARY:Jazz Funk-育暉
DESCRIPTION:
URL:https://www.dancesoul.com.tw/schedule/jazz-funk-%e8%82%b2%e6%9a%89-8/2024-03-07/
CATEGORIES:Jazz Funk,常態課_一般,課程
END:VEVENT
BEGIN:VEVENT
DTSTART;TZID=Asia/Shanghai:20240308T183000
DTEND;TZID=Asia/Shanghai:20240308T193000
DTSTAMP:20260425T234800
CREATED:20240225T083944Z
LAST-MODIFIED:20240225T083944Z
UID:10019323-1709922600-1709926200@www.dancesoul.com.tw
SUMMARY:Street Jazz(初)-Cen妹
DESCRIPTION:
URL:https://www.dancesoul.com.tw/schedule/street-jazz%e5%88%9d-cen%e5%a6%b9-29/2024-03-08/
CATEGORIES:STREET JAZZ 初級,常態課_初級,課程
END:VEVENT
BEGIN:VEVENT
DTSTART;TZID=Asia/Shanghai:20240308T194000
DTEND;TZID=Asia/Shanghai:20240308T204000
DTSTAMP:20260425T234800
CREATED:20240225T084111Z
LAST-MODIFIED:20240225T084111Z
UID:10019328-1709926800-1709930400@www.dancesoul.com.tw
SUMMARY:Hip Hop(初)-佐佐
DESCRIPTION:
URL:https://www.dancesoul.com.tw/schedule/hip-hop%e5%88%9d-%e4%bd%90%e4%bd%90-8/2024-03-08/
CATEGORIES:Hip Hop 初級,常態課_初級,課程
END:VEVENT
BEGIN:VEVENT
DTSTART;TZID=Asia/Shanghai:20240308T205000
DTEND;TZID=Asia/Shanghai:20240308T215000
DTSTAMP:20260425T234800
CREATED:20240225T084204Z
LAST-MODIFIED:20240225T084204Z
UID:10019333-1709931000-1709934600@www.dancesoul.com.tw
SUMMARY:Jazz Funk-鈴鐺
DESCRIPTION:
URL:https://www.dancesoul.com.tw/schedule/jazz-funk-%e9%88%b4%e9%90%ba-16/2024-03-08/
CATEGORIES:Jazz Funk,常態課_一般,課程
END:VEVENT
BEGIN:VEVENT
DTSTART;TZID=Asia/Shanghai:20240309T132000
DTEND;TZID=Asia/Shanghai:20240309T142000
DTSTAMP:20260425T234800
CREATED:20240225T070405Z
LAST-MODIFIED:20240225T070405Z
UID:10019209-1709990400-1709994000@www.dancesoul.com.tw
SUMMARY:兒童街舞-薇臻
DESCRIPTION:
URL:https://www.dancesoul.com.tw/schedule/%e5%85%92%e7%ab%a5%e8%a1%97%e8%88%9e-%e8%96%87%e8%87%bb-4/2024-03-09/
CATEGORIES:兒童街舞,兒童課,課程
END:VEVENT
BEGIN:VEVENT
DTSTART;TZID=Asia/Shanghai:20240309T143000
DTEND;TZID=Asia/Shanghai:20240309T153000
DTSTAMP:20260425T234800
CREATED:20240225T070638Z
LAST-MODIFIED:20240225T070638Z
UID:10019214-1709994600-1709998200@www.dancesoul.com.tw
SUMMARY:兒童MV-(NMIXX - Dash)-薇臻
DESCRIPTION:
URL:https://www.dancesoul.com.tw/schedule/%e5%85%92%e7%ab%a5mv-nmixx-dash-%e8%96%87%e8%87%bb/2024-03-09/
CATEGORIES:兒童MV,兒童課,課程
END:VEVENT
BEGIN:VEVENT
DTSTART;TZID=Asia/Shanghai:20240309T154000
DTEND;TZID=Asia/Shanghai:20240309T164000
DTSTAMP:20260425T234800
CREATED:20240225T070827Z
LAST-MODIFIED:20240225T070827Z
UID:10019219-1709998800-1710002400@www.dancesoul.com.tw
SUMMARY:兒童街舞-傘傘
DESCRIPTION:
URL:https://www.dancesoul.com.tw/schedule/%e5%85%92%e7%ab%a5%e8%a1%97%e8%88%9e-%e5%82%98%e5%82%98-32/2024-03-09/
CATEGORIES:兒童街舞,兒童課,課程
END:VEVENT
BEGIN:VEVENT
DTSTART;TZID=Asia/Shanghai:20240309T165000
DTEND;TZID=Asia/Shanghai:20240309T175000
DTSTAMP:20260425T234800
CREATED:20240225T071241Z
LAST-MODIFIED:20240225T071241Z
UID:10019224-1710003000-1710006600@www.dancesoul.com.tw
SUMMARY:MV-(NMIXX - Dash)-薇臻
DESCRIPTION:
URL:https://www.dancesoul.com.tw/schedule/mv-nmixx-dash-%e8%96%87%e8%87%bb/2024-03-09/
CATEGORIES:MV課,課程
END:VEVENT
BEGIN:VEVENT
DTSTART;TZID=Asia/Shanghai:20240309T180000
DTEND;TZID=Asia/Shanghai:20240309T190000
DTSTAMP:20260425T234800
CREATED:20240225T071431Z
LAST-MODIFIED:20240225T071431Z
UID:10019229-1710007200-1710010800@www.dancesoul.com.tw
SUMMARY:Popping-紀威
DESCRIPTION:
URL:https://www.dancesoul.com.tw/schedule/popping-%e7%b4%80%e5%a8%81-38/2024-03-09/
CATEGORIES:Poppin,常態課_一般,課程
END:VEVENT
BEGIN:VEVENT
DTSTART;TZID=Asia/Shanghai:20240309T191000
DTEND;TZID=Asia/Shanghai:20240309T201000
DTSTAMP:20260425T234800
CREATED:20240225T071529Z
LAST-MODIFIED:20240225T071529Z
UID:10019234-1710011400-1710015000@www.dancesoul.com.tw
SUMMARY:Hip Hop(初)-阿祥
DESCRIPTION:
URL:https://www.dancesoul.com.tw/schedule/hip-hop%e5%88%9d-%e9%98%bf%e7%a5%a5-11/2024-03-09/
CATEGORIES:Hip Hop 初級,常態課_初級,課程
END:VEVENT
BEGIN:VEVENT
DTSTART;TZID=Asia/Shanghai:20240309T202000
DTEND;TZID=Asia/Shanghai:20240309T212000
DTSTAMP:20260425T234800
CREATED:20240225T071715Z
LAST-MODIFIED:20240225T071715Z
UID:10019239-1710015600-1710019200@www.dancesoul.com.tw
SUMMARY:基礎入門-雞蛋
DESCRIPTION:
URL:https://www.dancesoul.com.tw/schedule/%e5%9f%ba%e7%a4%8e%e5%85%a5%e9%96%80-%e9%9b%9e%e8%9b%8b-25/2024-03-09/
CATEGORIES:基礎入門,常態課_初級,課程
END:VEVENT
BEGIN:VEVENT
DTSTART;TZID=Asia/Shanghai:20240310T132000
DTEND;TZID=Asia/Shanghai:20240310T142000
DTSTAMP:20260425T234800
CREATED:20240225T072102Z
LAST-MODIFIED:20240225T072102Z
UID:10019244-1710076800-1710080400@www.dancesoul.com.tw
SUMMARY:兒童街舞-羿芃
DESCRIPTION:
URL:https://www.dancesoul.com.tw/schedule/%e5%85%92%e7%ab%a5%e8%a1%97%e8%88%9e-%e7%be%bf%e8%8a%83-3/2024-03-10/
CATEGORIES:兒童街舞,兒童課,課程
END:VEVENT
BEGIN:VEVENT
DTSTART;TZID=Asia/Shanghai:20240310T143000
DTEND;TZID=Asia/Shanghai:20240310T153000
DTSTAMP:20260425T234800
CREATED:20240225T072357Z
LAST-MODIFIED:20240225T072357Z
UID:10019249-1710081000-1710084600@www.dancesoul.com.tw
SUMMARY:兒童MV-(LE SSERAFIM - Swan Song)-羿芃
DESCRIPTION:
URL:https://www.dancesoul.com.tw/schedule/%e5%85%92%e7%ab%a5mv-le-sserafim-swan-song-%e7%be%bf%e8%8a%83/2024-03-10/
CATEGORIES:兒童MV,兒童課,課程
END:VEVENT
BEGIN:VEVENT
DTSTART;TZID=Asia/Shanghai:20240310T154000
DTEND;TZID=Asia/Shanghai:20240310T164000
DTSTAMP:20260425T234800
CREATED:20240225T081631Z
LAST-MODIFIED:20240225T081631Z
UID:10019254-1710085200-1710088800@www.dancesoul.com.tw
SUMMARY:兒童街舞-傘傘
DESCRIPTION:
URL:https://www.dancesoul.com.tw/schedule/%e5%85%92%e7%ab%a5%e8%a1%97%e8%88%9e-%e5%82%98%e5%82%98-33/2024-03-10/
CATEGORIES:兒童MV,兒童課,課程
END:VEVENT
BEGIN:VEVENT
DTSTART;TZID=Asia/Shanghai:20240310T165000
DTEND;TZID=Asia/Shanghai:20240310T175000
DTSTAMP:20260425T234800
CREATED:20240225T081824Z
LAST-MODIFIED:20240225T081824Z
UID:10019259-1710089400-1710093000@www.dancesoul.com.tw
SUMMARY:MV-((G)I-DLE - Super Lady)-瑜庭
DESCRIPTION:
URL:https://www.dancesoul.com.tw/schedule/mv-gi-dle-super-lady-%e7%91%9c%e5%ba%ad/2024-03-10/
CATEGORIES:MV課,課程
END:VEVENT
BEGIN:VEVENT
DTSTART;TZID=Asia/Shanghai:20240310T180000
DTEND;TZID=Asia/Shanghai:20240310T190000
DTSTAMP:20260425T234800
CREATED:20240225T082018Z
LAST-MODIFIED:20240225T082018Z
UID:10019264-1710093600-1710097200@www.dancesoul.com.tw
SUMMARY:Street Jazz-育暉
DESCRIPTION:
URL:https://www.dancesoul.com.tw/schedule/street-jazz-%e8%82%b2%e6%9a%89-45/2024-03-10/
CATEGORIES:STREET JAZZ,常態課_一般,課程
END:VEVENT
BEGIN:VEVENT
DTSTART;TZID=Asia/Shanghai:20240310T191000
DTEND;TZID=Asia/Shanghai:20240310T201000
DTSTAMP:20260425T234800
CREATED:20240225T082122Z
LAST-MODIFIED:20240225T082122Z
UID:10019269-1710097800-1710101400@www.dancesoul.com.tw
SUMMARY:Free Style(初)-佳儒
DESCRIPTION:
URL:https://www.dancesoul.com.tw/schedule/free-style%e5%88%9d-%e4%bd%b3%e5%84%92-7/2024-03-10/
CATEGORIES:Freestyle 初級,常態課_初級,課程
END:VEVENT
BEGIN:VEVENT
DTSTART;TZID=Asia/Shanghai:20240311T183000
DTEND;TZID=Asia/Shanghai:20240311T193000
DTSTAMP:20260425T234800
CREATED:20240225T082439Z
LAST-MODIFIED:20240225T082439Z
UID:10019274-1710181800-1710185400@www.dancesoul.com.tw
SUMMARY:Twerk(初)-碗公
DESCRIPTION:
URL:https://www.dancesoul.com.tw/schedule/twerk%e5%88%9d-%e7%a2%97%e5%85%ac-28/2024-03-11/
CATEGORIES:Twerk 初級,常態課_初級,課程
END:VEVENT
BEGIN:VEVENT
DTSTART;TZID=Asia/Shanghai:20240311T194000
DTEND;TZID=Asia/Shanghai:20240311T204000
DTSTAMP:20260425T234800
CREATED:20240225T082540Z
LAST-MODIFIED:20240225T082540Z
UID:10019278-1710186000-1710189600@www.dancesoul.com.tw
SUMMARY:Heels(初)-宋靜
DESCRIPTION:
URL:https://www.dancesoul.com.tw/schedule/heels%e5%88%9d-%e5%ae%8b%e9%9d%9c-26/2024-03-11/
CATEGORIES:Heels 初級,常態課_初級,課程
END:VEVENT
BEGIN:VEVENT
DTSTART;TZID=Asia/Shanghai:20240311T205000
DTEND;TZID=Asia/Shanghai:20240311T215000
DTSTAMP:20260425T234800
CREATED:20240225T082703Z
LAST-MODIFIED:20240225T082703Z
UID:10019282-1710190200-1710193800@www.dancesoul.com.tw
SUMMARY:Jazz Funk-魏小美
DESCRIPTION:
URL:https://www.dancesoul.com.tw/schedule/jazz-funk-%e9%ad%8f%e5%b0%8f%e7%be%8e-69/2024-03-11/
CATEGORIES:Jazz Funk,常態課_一般,課程
END:VEVENT
BEGIN:VEVENT
DTSTART;TZID=Asia/Shanghai:20240312T183000
DTEND;TZID=Asia/Shanghai:20240312T193000
DTSTAMP:20260425T234800
CREATED:20240225T082812Z
LAST-MODIFIED:20240225T082812Z
UID:10019286-1710268200-1710271800@www.dancesoul.com.tw
SUMMARY:Hip Hop(初)-阿禾
DESCRIPTION:
URL:https://www.dancesoul.com.tw/schedule/hip-hop%e5%88%9d-%e9%98%bf%e7%a6%be-47/2024-03-12/
CATEGORIES:Hip Hop 初級,常態課_初級,課程
END:VEVENT
BEGIN:VEVENT
DTSTART;TZID=Asia/Shanghai:20240312T194000
DTEND;TZID=Asia/Shanghai:20240312T204000
DTSTAMP:20260425T234800
CREATED:20240225T082935Z
LAST-MODIFIED:20240225T082935Z
UID:10019290-1710272400-1710276000@www.dancesoul.com.tw
SUMMARY:Street Jazz-Denis
DESCRIPTION:
URL:https://www.dancesoul.com.tw/schedule/street-jazz-denis-42/2024-03-12/
CATEGORIES:STREET JAZZ,常態課_一般,課程
END:VEVENT
BEGIN:VEVENT
DTSTART;TZID=Asia/Shanghai:20240312T205000
DTEND;TZID=Asia/Shanghai:20240312T215000
DTSTAMP:20260425T234800
CREATED:20240225T083044Z
LAST-MODIFIED:20240225T083044Z
UID:10019295-1710276600-1710280200@www.dancesoul.com.tw
SUMMARY:Choreography-少麟
DESCRIPTION:
URL:https://www.dancesoul.com.tw/schedule/choreography-%e5%b0%91%e9%ba%9f-5/2024-03-12/
CATEGORIES:Choreography,常態課_一般,課程
END:VEVENT
BEGIN:VEVENT
DTSTART;TZID=Asia/Shanghai:20240313T183000
DTEND;TZID=Asia/Shanghai:20240313T193000
DTSTAMP:20260425T234800
CREATED:20240225T083230Z
LAST-MODIFIED:20240225T083230Z
UID:10019299-1710354600-1710358200@www.dancesoul.com.tw
SUMMARY:Street Jazz(初)-Kyle
DESCRIPTION:
URL:https://www.dancesoul.com.tw/schedule/street-jazz%e5%88%9d-kyle-10/2024-03-13/
CATEGORIES:STREET JAZZ 初級,常態課_初級,課程
END:VEVENT
BEGIN:VEVENT
DTSTART;TZID=Asia/Shanghai:20240313T194000
DTEND;TZID=Asia/Shanghai:20240313T204000
DTSTAMP:20260425T234800
CREATED:20240225T083327Z
LAST-MODIFIED:20240225T083327Z
UID:10019303-1710358800-1710362400@www.dancesoul.com.tw
SUMMARY:Street Jazz-Larry
DESCRIPTION:
URL:https://www.dancesoul.com.tw/schedule/street-jazz-larry-13/2024-03-13/
CATEGORIES:STREET JAZZ,常態課_一般,課程
END:VEVENT
BEGIN:VEVENT
DTSTART;TZID=Asia/Shanghai:20240313T205000
DTEND;TZID=Asia/Shanghai:20240313T215000
DTSTAMP:20260425T234800
CREATED:20240225T083512Z
LAST-MODIFIED:20240225T083512Z
UID:10019307-1710363000-1710366600@www.dancesoul.com.tw
SUMMARY:Free Style-承達
DESCRIPTION:
URL:https://www.dancesoul.com.tw/schedule/free-style-%e6%89%bf%e9%81%94-36/2024-03-13/
CATEGORIES:Freestyle,常態課_一般,課程
END:VEVENT
BEGIN:VEVENT
DTSTART;TZID=Asia/Shanghai:20240314T183000
DTEND;TZID=Asia/Shanghai:20240314T193000
DTSTAMP:20260425T234800
CREATED:20240225T083617Z
LAST-MODIFIED:20240225T083617Z
UID:10019311-1710441000-1710444600@www.dancesoul.com.tw
SUMMARY:Choreography-芭比
DESCRIPTION:
URL:https://www.dancesoul.com.tw/schedule/choreography-%e8%8a%ad%e6%af%94-19/2024-03-14/
CATEGORIES:Choreography,常態課_一般,課程
END:VEVENT
BEGIN:VEVENT
DTSTART;TZID=Asia/Shanghai:20240314T194000
DTEND;TZID=Asia/Shanghai:20240314T204000
DTSTAMP:20260425T234800
CREATED:20240225T083740Z
LAST-MODIFIED:20240225T083740Z
UID:10019315-1710445200-1710448800@www.dancesoul.com.tw
SUMMARY:Hip Hop-林彤
DESCRIPTION:
URL:https://www.dancesoul.com.tw/schedule/hip-hop-%e6%9e%97%e5%bd%a4-15/2024-03-14/
CATEGORIES:Hip Hop,常態課_一般,課程
END:VEVENT
END:VCALENDAR