BEGIN:VCALENDAR
VERSION:2.0
PRODID:-//DANCE SOUL 舞魂街舞學校 - ECPv6.15.18//NONSGML v1.0//EN
CALSCALE:GREGORIAN
METHOD:PUBLISH
X-WR-CALNAME:DANCE SOUL 舞魂街舞學校
X-ORIGINAL-URL:https://www.dancesoul.com.tw
X-WR-CALDESC:Events for DANCE SOUL 舞魂街舞學校
REFRESH-INTERVAL;VALUE=DURATION:PT1H
X-Robots-Tag:noindex
X-PUBLISHED-TTL:PT1H
BEGIN:VTIMEZONE
TZID:Asia/Shanghai
BEGIN:STANDARD
TZOFFSETFROM:+0800
TZOFFSETTO:+0800
TZNAME:CST
DTSTART:20230101T000000
END:STANDARD
END:VTIMEZONE
BEGIN:VEVENT
DTSTART;TZID=Asia/Shanghai:20241128T183000
DTEND;TZID=Asia/Shanghai:20241128T193000
DTSTAMP:20260421T055805
CREATED:20241028T081355Z
LAST-MODIFIED:20241028T081355Z
UID:10020570-1732818600-1732822200@www.dancesoul.com.tw
SUMMARY:Choreography-芭比
DESCRIPTION:
URL:https://www.dancesoul.com.tw/schedule/choreography-%e8%8a%ad%e6%af%94-27/2024-11-28/
CATEGORIES:Choreography,常態課_一般,課程
END:VEVENT
BEGIN:VEVENT
DTSTART;TZID=Asia/Shanghai:20241128T194000
DTEND;TZID=Asia/Shanghai:20241128T204000
DTSTAMP:20260421T055805
CREATED:20241028T081514Z
LAST-MODIFIED:20241028T081514Z
UID:10020574-1732822800-1732826400@www.dancesoul.com.tw
SUMMARY:Hip Hop-林彤
DESCRIPTION:
URL:https://www.dancesoul.com.tw/schedule/hip-hop-%e6%9e%97%e5%bd%a4-23/2024-11-28/
CATEGORIES:Hip Hop,常態課_一般,課程
END:VEVENT
BEGIN:VEVENT
DTSTART;TZID=Asia/Shanghai:20241128T205000
DTEND;TZID=Asia/Shanghai:20241128T215000
DTSTAMP:20260421T055806
CREATED:20241028T081625Z
LAST-MODIFIED:20241028T081625Z
UID:10020578-1732827000-1732830600@www.dancesoul.com.tw
SUMMARY:Afro Style-巴豪
DESCRIPTION:
URL:https://www.dancesoul.com.tw/schedule/afro-style-%e5%b7%b4%e8%b1%aa-6/2024-11-28/
CATEGORIES:Afro Style,課程
END:VEVENT
BEGIN:VEVENT
DTSTART;TZID=Asia/Shanghai:20241129T183000
DTEND;TZID=Asia/Shanghai:20241129T193000
DTSTAMP:20260421T055806
CREATED:20241028T082047Z
LAST-MODIFIED:20241028T082047Z
UID:10020582-1732905000-1732908600@www.dancesoul.com.tw
SUMMARY:Street Jazz(初)-Cen妹
DESCRIPTION:
URL:https://www.dancesoul.com.tw/schedule/street-jazz%e5%88%9d-cen%e5%a6%b9-37/2024-11-29/
CATEGORIES:STREET JAZZ 初級,常態課_初級,課程
END:VEVENT
BEGIN:VEVENT
DTSTART;TZID=Asia/Shanghai:20241129T194000
DTEND;TZID=Asia/Shanghai:20241129T204000
DTSTAMP:20260421T055806
CREATED:20241028T082157Z
LAST-MODIFIED:20241028T082157Z
UID:10020586-1732909200-1732912800@www.dancesoul.com.tw
SUMMARY:Hip Hop(初)-佐佐
DESCRIPTION:
URL:https://www.dancesoul.com.tw/schedule/hip-hop%e5%88%9d-%e4%bd%90%e4%bd%90-16/2024-11-29/
CATEGORIES:Hip Hop 初級,常態課_初級,課程
END:VEVENT
BEGIN:VEVENT
DTSTART;TZID=Asia/Shanghai:20241129T205000
DTEND;TZID=Asia/Shanghai:20241129T215000
DTSTAMP:20260421T055806
CREATED:20241028T082305Z
LAST-MODIFIED:20241028T082305Z
UID:10020590-1732913400-1732917000@www.dancesoul.com.tw
SUMMARY:Jazz Funk-鈴鐺
DESCRIPTION:
URL:https://www.dancesoul.com.tw/schedule/jazz-funk-%e9%88%b4%e9%90%ba-24/2024-11-29/
CATEGORIES:Jazz Funk,常態課_一般,課程
END:VEVENT
BEGIN:VEVENT
DTSTART;TZID=Asia/Shanghai:20241130T132000
DTEND;TZID=Asia/Shanghai:20241130T142000
DTSTAMP:20260421T055806
CREATED:20241028T071133Z
LAST-MODIFIED:20241028T071133Z
UID:10020506-1732972800-1732976400@www.dancesoul.com.tw
SUMMARY:兒童街舞-薇臻
DESCRIPTION:
URL:https://www.dancesoul.com.tw/schedule/%e5%85%92%e7%ab%a5%e8%a1%97%e8%88%9e-%e8%96%87%e8%87%bb-12/2024-11-30/
CATEGORIES:兒童街舞,兒童課,課程
END:VEVENT
BEGIN:VEVENT
DTSTART;TZID=Asia/Shanghai:20241130T143000
DTEND;TZID=Asia/Shanghai:20241130T153000
DTSTAMP:20260421T055806
CREATED:20241028T071251Z
LAST-MODIFIED:20241028T071251Z
UID:10020510-1732977000-1732980600@www.dancesoul.com.tw
SUMMARY:兒童MV-(JENNIE - Mantra)-薇臻
DESCRIPTION:
URL:https://www.dancesoul.com.tw/schedule/%e5%85%92%e7%ab%a5mv-jennie-mantra-%e8%96%87%e8%87%bb/2024-11-30/
CATEGORIES:兒童MV,兒童課,課程
END:VEVENT
BEGIN:VEVENT
DTSTART;TZID=Asia/Shanghai:20241130T154000
DTEND;TZID=Asia/Shanghai:20241130T164000
DTSTAMP:20260421T055806
CREATED:20241028T071447Z
LAST-MODIFIED:20241028T071447Z
UID:10020514-1732981200-1732984800@www.dancesoul.com.tw
SUMMARY:兒童基礎街舞-傘傘
DESCRIPTION:
URL:https://www.dancesoul.com.tw/schedule/%e5%85%92%e7%ab%a5%e5%9f%ba%e7%a4%8e%e8%a1%97%e8%88%9e-%e5%82%98%e5%82%98-5/2024-11-30/
CATEGORIES:兒童基礎街舞,兒童課,課程
END:VEVENT
BEGIN:VEVENT
DTSTART;TZID=Asia/Shanghai:20241130T165000
DTEND;TZID=Asia/Shanghai:20241130T175000
DTSTAMP:20260421T055806
CREATED:20241028T071559Z
LAST-MODIFIED:20241028T071559Z
UID:10020518-1732985400-1732989000@www.dancesoul.com.tw
SUMMARY:MV-(JENNIE - Mantra)-姿昀
DESCRIPTION:
URL:https://www.dancesoul.com.tw/schedule/mv-jennie-mantra-%e5%a7%bf%e6%98%80/2024-11-30/
CATEGORIES:MV課,課程
END:VEVENT
BEGIN:VEVENT
DTSTART;TZID=Asia/Shanghai:20241130T180000
DTEND;TZID=Asia/Shanghai:20241130T190000
DTSTAMP:20260421T055806
CREATED:20241028T072427Z
LAST-MODIFIED:20241028T072427Z
UID:10020522-1732989600-1732993200@www.dancesoul.com.tw
SUMMARY:Popping-紀威
DESCRIPTION:
URL:https://www.dancesoul.com.tw/schedule/popping-%e7%b4%80%e5%a8%81-46/2024-11-30/
CATEGORIES:Poppin,常態課_一般,課程
END:VEVENT
BEGIN:VEVENT
DTSTART;TZID=Asia/Shanghai:20241130T191000
DTEND;TZID=Asia/Shanghai:20241130T201000
DTSTAMP:20260421T055806
CREATED:20241028T072518Z
LAST-MODIFIED:20241028T072518Z
UID:10020526-1732993800-1732997400@www.dancesoul.com.tw
SUMMARY:Choreography(初)-無盡
DESCRIPTION:
URL:https://www.dancesoul.com.tw/schedule/choreography%e5%88%9d-%e7%84%a1%e7%9b%a1-6/2024-11-30/
CATEGORIES:Choreography 初級,常態課_初級,課程
END:VEVENT
BEGIN:VEVENT
DTSTART;TZID=Asia/Shanghai:20241130T202000
DTEND;TZID=Asia/Shanghai:20241130T213000
DTSTAMP:20260421T055806
CREATED:20241028T072632Z
LAST-MODIFIED:20241028T072632Z
UID:10020530-1732998000-1733002200@www.dancesoul.com.tw
SUMMARY:基礎入門-雞蛋
DESCRIPTION:
URL:https://www.dancesoul.com.tw/schedule/%e5%9f%ba%e7%a4%8e%e5%85%a5%e9%96%80-%e9%9b%9e%e8%9b%8b-33/2024-11-30/
CATEGORIES:基礎入門,常態課_初級,課程
END:VEVENT
BEGIN:VEVENT
DTSTART;TZID=Asia/Shanghai:20241201T132000
DTEND;TZID=Asia/Shanghai:20241201T142000
DTSTAMP:20260421T055806
CREATED:20241125T102233Z
LAST-MODIFIED:20241125T102233Z
UID:10020630-1733059200-1733062800@www.dancesoul.com.tw
SUMMARY:兒童街舞-羿芃
DESCRIPTION:
URL:https://www.dancesoul.com.tw/schedule/%e5%85%92%e7%ab%a5%e8%a1%97%e8%88%9e-%e7%be%bf%e8%8a%83-12/2024-12-01/
CATEGORIES:Popping 初級,兒童街舞,兒童課,課程
END:VEVENT
BEGIN:VEVENT
DTSTART;TZID=Asia/Shanghai:20241201T143000
DTEND;TZID=Asia/Shanghai:20241201T153000
DTSTAMP:20260421T055806
CREATED:20241125T102437Z
LAST-MODIFIED:20241125T102437Z
UID:10020635-1733063400-1733067000@www.dancesoul.com.tw
SUMMARY:兒童MV-(ITZY - Imaginary Friend)-羿芃
DESCRIPTION:
URL:https://www.dancesoul.com.tw/schedule/%e5%85%92%e7%ab%a5mv-itzy-imaginary-friend-%e7%be%bf%e8%8a%83/2024-12-01/
CATEGORIES:Popping 初級,兒童MV,兒童課,課程
END:VEVENT
BEGIN:VEVENT
DTSTART;TZID=Asia/Shanghai:20241201T154000
DTEND;TZID=Asia/Shanghai:20241201T164000
DTSTAMP:20260421T055806
CREATED:20241125T103117Z
LAST-MODIFIED:20241125T103117Z
UID:10020644-1733067600-1733071200@www.dancesoul.com.tw
SUMMARY:兒童Street Jazz-傘傘
DESCRIPTION:
URL:https://www.dancesoul.com.tw/schedule/%e5%85%92%e7%ab%a5street-jazz-%e5%82%98%e5%82%98/2024-12-01/
CATEGORIES:Popping 初級,兒童 Street Jazz,兒童課,課程
END:VEVENT
BEGIN:VEVENT
DTSTART;TZID=Asia/Shanghai:20241201T165000
DTEND;TZID=Asia/Shanghai:20241201T175000
DTSTAMP:20260421T055806
CREATED:20241125T103613Z
LAST-MODIFIED:20241125T103613Z
UID:10020649-1733071800-1733075400@www.dancesoul.com.tw
SUMMARY:MV-(aespa - Whiplash)-瑜庭
DESCRIPTION:
URL:https://www.dancesoul.com.tw/schedule/mv-aespa-whiplash-%e7%91%9c%e5%ba%ad/2024-12-01/
CATEGORIES:MV課,課程
END:VEVENT
BEGIN:VEVENT
DTSTART;TZID=Asia/Shanghai:20241201T180000
DTEND;TZID=Asia/Shanghai:20241201T190000
DTSTAMP:20260421T055806
CREATED:20241125T104021Z
LAST-MODIFIED:20241125T104021Z
UID:10020659-1733076000-1733079600@www.dancesoul.com.tw
SUMMARY:Jazz Funk-姿昀
DESCRIPTION:
URL:https://www.dancesoul.com.tw/schedule/jazz-funk-%e5%a7%bf%e6%98%80-6/2024-12-01/
CATEGORIES:Jazz Funk,Jazz Funk 初級,Waacking 初級,常態課_一般,課程
END:VEVENT
BEGIN:VEVENT
DTSTART;TZID=Asia/Shanghai:20241201T191000
DTEND;TZID=Asia/Shanghai:20241201T201000
DTSTAMP:20260421T055806
CREATED:20241125T103750Z
LAST-MODIFIED:20241125T103750Z
UID:10020654-1733080200-1733083800@www.dancesoul.com.tw
SUMMARY:Hip Hop(初)-承翰
DESCRIPTION:
URL:https://www.dancesoul.com.tw/schedule/hip-hop%e5%88%9d-%e6%89%bf%e7%bf%b0-11/2024-12-01/
CATEGORIES:Hip Hop 初級,常態課_初級,課程
END:VEVENT
BEGIN:VEVENT
DTSTART;TZID=Asia/Shanghai:20241202T183000
DTEND;TZID=Asia/Shanghai:20241202T193000
DTSTAMP:20260421T055806
CREATED:20241125T095938Z
LAST-MODIFIED:20241125T095938Z
UID:10020591-1733164200-1733167800@www.dancesoul.com.tw
SUMMARY:Twerk(初)-碗公
DESCRIPTION:
URL:https://www.dancesoul.com.tw/schedule/twerk%e5%88%9d-%e7%a2%97%e5%85%ac-37/2024-12-02/
CATEGORIES:Lyrical Jazz,Twerk 初級,常態課_初級,課程
END:VEVENT
BEGIN:VEVENT
DTSTART;TZID=Asia/Shanghai:20241202T194000
DTEND;TZID=Asia/Shanghai:20241202T204000
DTSTAMP:20260421T055806
CREATED:20241125T100033Z
LAST-MODIFIED:20241125T100033Z
UID:10020596-1733168400-1733172000@www.dancesoul.com.tw
SUMMARY:Heels(初)-宋靜
DESCRIPTION:
URL:https://www.dancesoul.com.tw/schedule/heels%e5%88%9d-%e5%ae%8b%e9%9d%9c-35/2024-12-02/
CATEGORIES:Heels 初級,Lyrical Jazz,常態課_初級,課程
END:VEVENT
BEGIN:VEVENT
DTSTART;TZID=Asia/Shanghai:20241202T205000
DTEND;TZID=Asia/Shanghai:20241202T215000
DTSTAMP:20260421T055806
CREATED:20241125T101102Z
LAST-MODIFIED:20241125T101102Z
UID:10020609-1733172600-1733176200@www.dancesoul.com.tw
SUMMARY:Jazz Funk-魏小美
DESCRIPTION:
URL:https://www.dancesoul.com.tw/schedule/jazz-funk-%e9%ad%8f%e5%b0%8f%e7%be%8e-78/2024-12-02/
CATEGORIES:Jazz Funk,Jazz Funk 初級,Waacking 初級,常態課_一般,課程
END:VEVENT
BEGIN:VEVENT
DTSTART;TZID=Asia/Shanghai:20241203T183000
DTEND;TZID=Asia/Shanghai:20241203T193000
DTSTAMP:20260421T055806
CREATED:20241125T104132Z
LAST-MODIFIED:20241125T104132Z
UID:10020664-1733250600-1733254200@www.dancesoul.com.tw
SUMMARY:MV-(當日Dance Soul IG 限動公布歌曲)-薇臻
DESCRIPTION:
URL:https://www.dancesoul.com.tw/schedule/mv-%e7%95%b6%e6%97%a5dance-soul-ig-%e9%99%90%e5%8b%95%e5%85%ac%e5%b8%83%e6%ad%8c%e6%9b%b2-%e8%96%87%e8%87%bb-2/2024-12-03/
CATEGORIES:MV課,課程
END:VEVENT
BEGIN:VEVENT
DTSTART;TZID=Asia/Shanghai:20241203T194000
DTEND;TZID=Asia/Shanghai:20241203T204000
DTSTAMP:20260421T055806
CREATED:20241125T104323Z
LAST-MODIFIED:20241125T104323Z
UID:10020668-1733254800-1733258400@www.dancesoul.com.tw
SUMMARY:Street Jazz-Denis
DESCRIPTION:
URL:https://www.dancesoul.com.tw/schedule/street-jazz-denis-51/2024-12-03/
CATEGORIES:STREET JAZZ,常態課_一般,課程
END:VEVENT
BEGIN:VEVENT
DTSTART;TZID=Asia/Shanghai:20241203T205000
DTEND;TZID=Asia/Shanghai:20241203T215000
DTSTAMP:20260421T055806
CREATED:20241125T104430Z
LAST-MODIFIED:20241125T104430Z
UID:10020672-1733259000-1733262600@www.dancesoul.com.tw
SUMMARY:Free Style(初)-俊宏
DESCRIPTION:
URL:https://www.dancesoul.com.tw/schedule/free-style%e5%88%9d-%e4%bf%8a%e5%ae%8f-28/2024-12-03/
CATEGORIES:Freestyle 初級,常態課_初級,課程
END:VEVENT
BEGIN:VEVENT
DTSTART;TZID=Asia/Shanghai:20241204T183000
DTEND;TZID=Asia/Shanghai:20241204T193000
DTSTAMP:20260421T055806
CREATED:20241125T104645Z
LAST-MODIFIED:20241125T104645Z
UID:10020677-1733337000-1733340600@www.dancesoul.com.tw
SUMMARY:Street Jazz(初)-Kyle
DESCRIPTION:
URL:https://www.dancesoul.com.tw/schedule/street-jazz%e5%88%9d-kyle-21/2024-12-04/
CATEGORIES:STREET JAZZ 初級,常態課_初級,課程
END:VEVENT
BEGIN:VEVENT
DTSTART;TZID=Asia/Shanghai:20241204T194000
DTEND;TZID=Asia/Shanghai:20241204T204000
DTSTAMP:20260421T055806
CREATED:20241125T104940Z
LAST-MODIFIED:20241125T104940Z
UID:10020680-1733341200-1733344800@www.dancesoul.com.tw
SUMMARY:Street Jazz-Larry
DESCRIPTION:
URL:https://www.dancesoul.com.tw/schedule/street-jazz-larry-22/2024-12-04/
CATEGORIES:STREET JAZZ,常態課_一般,課程
END:VEVENT
BEGIN:VEVENT
DTSTART;TZID=Asia/Shanghai:20241204T205000
DTEND;TZID=Asia/Shanghai:20241204T215000
DTSTAMP:20260421T055806
CREATED:20241125T105734Z
LAST-MODIFIED:20241125T105734Z
UID:10020683-1733345400-1733349000@www.dancesoul.com.tw
SUMMARY:Free Style-承達
DESCRIPTION:
URL:https://www.dancesoul.com.tw/schedule/free-style-%e6%89%bf%e9%81%94-45/2024-12-04/
CATEGORIES:Freestyle,常態課_一般,課程
END:VEVENT
BEGIN:VEVENT
DTSTART;TZID=Asia/Shanghai:20241205T183000
DTEND;TZID=Asia/Shanghai:20241205T193000
DTSTAMP:20260421T055806
CREATED:20241125T105835Z
LAST-MODIFIED:20241125T105835Z
UID:10020686-1733423400-1733427000@www.dancesoul.com.tw
SUMMARY:Choreography-芭比
DESCRIPTION:
URL:https://www.dancesoul.com.tw/schedule/choreography-%e8%8a%ad%e6%af%94-28/2024-12-05/
CATEGORIES:Choreography,常態課_一般,課程
END:VEVENT
BEGIN:VEVENT
DTSTART;TZID=Asia/Shanghai:20241205T194000
DTEND;TZID=Asia/Shanghai:20241205T204000
DTSTAMP:20260421T055806
CREATED:20241125T110316Z
LAST-MODIFIED:20241125T110815Z
UID:10020690-1733427600-1733431200@www.dancesoul.com.tw
SUMMARY:Hip Hop-林彤
DESCRIPTION:
URL:https://www.dancesoul.com.tw/schedule/hip-hop-%e6%9e%97%e5%bd%a4-24/2024-12-05/
CATEGORIES:Hip Hop,常態課_一般,課程
END:VEVENT
END:VCALENDAR