BEGIN:VCALENDAR
VERSION:2.0
PRODID:-//DANCE SOUL 舞魂街舞學校 - ECPv6.15.18//NONSGML v1.0//EN
CALSCALE:GREGORIAN
METHOD:PUBLISH
X-WR-CALNAME:DANCE SOUL 舞魂街舞學校
X-ORIGINAL-URL:https://www.dancesoul.com.tw
X-WR-CALDESC:Events for DANCE SOUL 舞魂街舞學校
REFRESH-INTERVAL;VALUE=DURATION:PT1H
X-Robots-Tag:noindex
X-PUBLISHED-TTL:PT1H
BEGIN:VTIMEZONE
TZID:Asia/Shanghai
BEGIN:STANDARD
TZOFFSETFROM:+0800
TZOFFSETTO:+0800
TZNAME:CST
DTSTART:20250101T000000
END:STANDARD
END:VTIMEZONE
BEGIN:VEVENT
DTSTART;TZID=Asia/Shanghai:20260620T132000
DTEND;TZID=Asia/Shanghai:20260620T142000
DTSTAMP:20260420T174804
CREATED:20251201T070320Z
LAST-MODIFIED:20260315T072345Z
UID:10027302-1781961600-1781965200@www.dancesoul.com.tw
SUMMARY:兒童MV(初)(i-dle - 'Mona(Feat.skaiwater)')-薇臻
DESCRIPTION:
URL:https://www.dancesoul.com.tw/schedule/%e5%85%92%e7%ab%a5%e8%a1%97%e8%88%9e-%e8%96%87%e8%87%bb-21-2-2-2/2026-06-20/
CATEGORIES:兒童街舞,兒童課
END:VEVENT
BEGIN:VEVENT
DTSTART;TZID=Asia/Shanghai:20260620T143000
DTEND;TZID=Asia/Shanghai:20260620T153000
DTSTAMP:20260420T174804
CREATED:20251202T055414Z
LAST-MODIFIED:20260315T072223Z
UID:10027563-1781965800-1781969400@www.dancesoul.com.tw
SUMMARY:兒童MV(IVE - 'BANG BANG')-薇臻
DESCRIPTION:
URL:https://www.dancesoul.com.tw/schedule/%e5%85%92%e7%ab%a5mvbabymonster-hot-sauce-%e8%96%87%e8%87%bb-2/2026-06-20/
CATEGORIES:MV課,兒童MV,課程
END:VEVENT
BEGIN:VEVENT
DTSTART;TZID=Asia/Shanghai:20260620T154000
DTEND;TZID=Asia/Shanghai:20260620T164000
DTSTAMP:20260420T174804
CREATED:20250901T055134Z
LAST-MODIFIED:20260327T083158Z
UID:10033465-1781970000-1781973600@www.dancesoul.com.tw
SUMMARY:兒童Popping-勁宏
DESCRIPTION:
URL:https://www.dancesoul.com.tw/schedule/%e5%85%92%e7%ab%a5popping-%e5%8b%81%e5%ae%8f-2/2026-06-20/
CATEGORIES:兒童街舞,課程
END:VEVENT
BEGIN:VEVENT
DTSTART;TZID=Asia/Shanghai:20260620T164000
DTEND;TZID=Asia/Shanghai:20260620T174000
DTSTAMP:20260420T174804
CREATED:20260315T072002Z
LAST-MODIFIED:20260315T072518Z
UID:10027825-1781973600-1781977200@www.dancesoul.com.tw
SUMMARY:MV(IVE - ‘BANG BANG’)-薇臻
DESCRIPTION:
URL:https://www.dancesoul.com.tw/schedule/mvive-xoxz-%e5%87%9d%e7%90%a6-2-2/2026-06-20/
CATEGORIES:MV課,課程
END:VEVENT
BEGIN:VEVENT
DTSTART;TZID=Asia/Shanghai:20260620T182000
DTEND;TZID=Asia/Shanghai:20260620T192000
DTSTAMP:20260420T174804
CREATED:20250901T055441Z
LAST-MODIFIED:20250901T055457Z
UID:10028086-1781979600-1781983200@www.dancesoul.com.tw
SUMMARY:Popping-紀威
DESCRIPTION:
URL:https://www.dancesoul.com.tw/schedule/popping-%e7%b4%80%e5%a8%81-54/2026-06-20/
CATEGORIES:Poppin,常態課_一般,課程
END:VEVENT
BEGIN:VEVENT
DTSTART;TZID=Asia/Shanghai:20260620T192500
DTEND;TZID=Asia/Shanghai:20260620T202500
DTSTAMP:20260420T174804
CREATED:20260327T082346Z
LAST-MODIFIED:20260327T082346Z
UID:10032670-1781983500-1781987100@www.dancesoul.com.tw
SUMMARY:HIP HOP-GAGA
DESCRIPTION:
URL:https://www.dancesoul.com.tw/schedule/%e5%9f%ba%e7%a4%8e%e5%85%a5%e9%96%80-%e9%9b%9e%e8%9b%8b-41-2/2026-06-20/
CATEGORIES:基礎入門,常態課_初級,課程
END:VEVENT
BEGIN:VEVENT
DTSTART;TZID=Asia/Shanghai:20260621T132000
DTEND;TZID=Asia/Shanghai:20260621T142000
DTSTAMP:20260420T174804
CREATED:20250901T055750Z
LAST-MODIFIED:20250901T055750Z
UID:10028869-1782048000-1782051600@www.dancesoul.com.tw
SUMMARY:兒童街舞-羿芃
DESCRIPTION:
URL:https://www.dancesoul.com.tw/schedule/%e5%85%92%e7%ab%a5%e8%a1%97%e8%88%9e-%e7%be%bf%e8%8a%83-20/2026-06-21/
CATEGORIES:兒童街舞,課程
END:VEVENT
BEGIN:VEVENT
DTSTART;TZID=Asia/Shanghai:20260621T143000
DTEND;TZID=Asia/Shanghai:20260621T153000
DTSTAMP:20260420T174804
CREATED:20260315T071830Z
LAST-MODIFIED:20260315T071830Z
UID:10029130-1782052200-1782055800@www.dancesoul.com.tw
SUMMARY:兒童MV(ILLIT-opps!)-羿芃
DESCRIPTION:
URL:https://www.dancesoul.com.tw/schedule/%e5%85%92%e7%ab%a5mvizna-sass-%e7%be%bf%e8%8a%83-2-2/2026-06-21/
CATEGORIES:兒童MV,兒童課
END:VEVENT
BEGIN:VEVENT
DTSTART;TZID=Asia/Shanghai:20260621T154000
DTEND;TZID=Asia/Shanghai:20260621T164000
DTSTAMP:20260420T174804
CREATED:20250901T060229Z
LAST-MODIFIED:20250901T060229Z
UID:10029391-1782056400-1782060000@www.dancesoul.com.tw
SUMMARY:兒童Street Jazz-傘傘
DESCRIPTION:
URL:https://www.dancesoul.com.tw/schedule/%e5%85%92%e7%ab%a5street-jazz-%e5%82%98%e5%82%98-4/2026-06-21/
CATEGORIES:兒童街舞,兒童課
END:VEVENT
BEGIN:VEVENT
DTSTART;TZID=Asia/Shanghai:20260621T165000
DTEND;TZID=Asia/Shanghai:20260621T175000
DTSTAMP:20260420T174804
CREATED:20251201T095640Z
LAST-MODIFIED:20260315T071631Z
UID:10029652-1782060600-1782064200@www.dancesoul.com.tw
SUMMARY:MV(Apink - 'Love Me More')-Jenny
DESCRIPTION:
URL:https://www.dancesoul.com.tw/schedule/mvsomi-closer-%e7%91%9c%e5%ba%ad-2/2026-06-21/
CATEGORIES:MV課,課程
END:VEVENT
BEGIN:VEVENT
DTSTART;TZID=Asia/Shanghai:20260621T182000
DTEND;TZID=Asia/Shanghai:20260621T192000
DTSTAMP:20260420T174804
CREATED:20260327T085927Z
LAST-MODIFIED:20260327T085927Z
UID:10037162-1782066000-1782069600@www.dancesoul.com.tw
SUMMARY:Jazz Funk-Zulin小霖
DESCRIPTION:
URL:https://www.dancesoul.com.tw/schedule/jazz-funk-zulin%e5%b0%8f%e9%9c%96/2026-06-21/
END:VEVENT
BEGIN:VEVENT
DTSTART;TZID=Asia/Shanghai:20260621T192500
DTEND;TZID=Asia/Shanghai:20260621T202500
DTSTAMP:20260420T174804
CREATED:20260327T081608Z
LAST-MODIFIED:20260327T081608Z
UID:10030174-1782069900-1782073500@www.dancesoul.com.tw
SUMMARY:Hip Hop-ROD
DESCRIPTION:
URL:https://www.dancesoul.com.tw/schedule/hip-hop-%e6%89%bf%e7%bf%b0-2-2/2026-06-21/
CATEGORIES:Hip Hop,常態課_一般,課程
END:VEVENT
BEGIN:VEVENT
DTSTART;TZID=Asia/Shanghai:20260622T182000
DTEND;TZID=Asia/Shanghai:20260622T192000
DTSTAMP:20260420T174804
CREATED:20260327T084628Z
LAST-MODIFIED:20260327T084933Z
UID:10035310-1782152400-1782156000@www.dancesoul.com.tw
SUMMARY:MV-瑜庭
DESCRIPTION:
URL:https://www.dancesoul.com.tw/schedule/mvtwice-this-is-for-%e7%91%9c%e5%ba%ad-2/2026-06-22/
CATEGORIES:MV課,課程
END:VEVENT
BEGIN:VEVENT
DTSTART;TZID=Asia/Shanghai:20260622T192500
DTEND;TZID=Asia/Shanghai:20260622T202500
DTSTAMP:20260420T174804
CREATED:20260327T082108Z
LAST-MODIFIED:20260327T082108Z
UID:10030782-1782156300-1782159900@www.dancesoul.com.tw
SUMMARY:Jazz Funk-魏小美
DESCRIPTION:
URL:https://www.dancesoul.com.tw/schedule/jazz-funk-%e9%ad%8f%e5%b0%8f%e7%be%8e-84-2-2/2026-06-22/
END:VEVENT
BEGIN:VEVENT
DTSTART;TZID=Asia/Shanghai:20260622T203000
DTEND;TZID=Asia/Shanghai:20260622T213000
DTSTAMP:20260420T174804
CREATED:20260327T084046Z
LAST-MODIFIED:20260327T084828Z
UID:10035046-1782160200-1782163800@www.dancesoul.com.tw
SUMMARY:Heels-宋靜
DESCRIPTION:
URL:https://www.dancesoul.com.tw/schedule/heels-%e5%ae%8b%e9%9d%9c-3-2/2026-06-22/
END:VEVENT
BEGIN:VEVENT
DTSTART;TZID=Asia/Shanghai:20260622T213500
DTEND;TZID=Asia/Shanghai:20260622T223500
DTSTAMP:20260420T174804
CREATED:20260327T082216Z
LAST-MODIFIED:20260327T082217Z
UID:10032407-1782164100-1782167700@www.dancesoul.com.tw
SUMMARY:Jazz Funk-姿昀
DESCRIPTION:
URL:https://www.dancesoul.com.tw/schedule/jazz-funk-%e5%a7%bf%e6%98%80-15-2/2026-06-22/
CATEGORIES:Jazz Funk,課程
END:VEVENT
BEGIN:VEVENT
DTSTART;TZID=Asia/Shanghai:20260623T182000
DTEND;TZID=Asia/Shanghai:20260623T192000
DTSTAMP:20260420T174804
CREATED:20250828T095545Z
LAST-MODIFIED:20250828T095545Z
UID:10023655-1782238800-1782242400@www.dancesoul.com.tw
SUMMARY:MV-薇臻
DESCRIPTION:
URL:https://www.dancesoul.com.tw/schedule/mv-%e8%96%87%e8%87%bb-4/2026-06-23/
END:VEVENT
BEGIN:VEVENT
DTSTART;TZID=Asia/Shanghai:20260623T192500
DTEND;TZID=Asia/Shanghai:20260623T202500
DTSTAMP:20260420T174804
CREATED:20260327T083744Z
LAST-MODIFIED:20260327T083744Z
UID:10034255-1782242700-1782246300@www.dancesoul.com.tw
SUMMARY:Choreography-羅毅
DESCRIPTION:
URL:https://www.dancesoul.com.tw/schedule/choreography-%e7%be%85%e6%af%85-2-2/2026-06-23/
CATEGORIES:Choreography,常態課_一般,課程
END:VEVENT
BEGIN:VEVENT
DTSTART;TZID=Asia/Shanghai:20260623T202000
DTEND;TZID=Asia/Shanghai:20260623T212000
DTSTAMP:20260420T174804
CREATED:20250828T100203Z
LAST-MODIFIED:20250828T100203Z
UID:10023917-1782246000-1782249600@www.dancesoul.com.tw
SUMMARY:Free Style-俊宏
DESCRIPTION:
URL:https://www.dancesoul.com.tw/schedule/free-style-%e4%bf%8a%e5%ae%8f-29/2026-06-23/
CATEGORIES:Freestyle,常態課_一般,課程
END:VEVENT
BEGIN:VEVENT
DTSTART;TZID=Asia/Shanghai:20260623T213500
DTEND;TZID=Asia/Shanghai:20260623T223500
DTSTAMP:20260420T174804
CREATED:20260327T081822Z
LAST-MODIFIED:20260327T081932Z
UID:10032123-1782250500-1782254100@www.dancesoul.com.tw
SUMMARY:Hip Hop-承翰
DESCRIPTION:
URL:https://www.dancesoul.com.tw/schedule/hip-hop-%e6%89%bf%e7%bf%b0-2-3/2026-06-23/
CATEGORIES:Hip Hop,常態課_一般,課程
END:VEVENT
BEGIN:VEVENT
DTSTART;TZID=Asia/Shanghai:20260624T182000
DTEND;TZID=Asia/Shanghai:20260624T192000
DTSTAMP:20260420T174804
CREATED:20260327T082544Z
LAST-MODIFIED:20260327T082544Z
UID:10032936-1782325200-1782328800@www.dancesoul.com.tw
SUMMARY:Choreography(初)-無盡
DESCRIPTION:
URL:https://www.dancesoul.com.tw/schedule/choreography%e5%88%9d-%e7%84%a1%e7%9b%a1-14-2/2026-06-24/
CATEGORIES:Choreography 初級,常態課_初級,課程
END:VEVENT
BEGIN:VEVENT
DTSTART;TZID=Asia/Shanghai:20260624T192500
DTEND;TZID=Asia/Shanghai:20260624T202500
DTSTAMP:20260420T174804
CREATED:20250828T102504Z
LAST-MODIFIED:20250828T102504Z
UID:10024700-1782329100-1782332700@www.dancesoul.com.tw
SUMMARY:Street Jazz-Larry
DESCRIPTION:
URL:https://www.dancesoul.com.tw/schedule/street-jazz-larry-30/2026-06-24/
CATEGORIES:STREET JAZZ,常態課_一般,課程
END:VEVENT
BEGIN:VEVENT
DTSTART;TZID=Asia/Shanghai:20260624T203000
DTEND;TZID=Asia/Shanghai:20260624T213000
DTSTAMP:20260420T174804
CREATED:20250828T103540Z
LAST-MODIFIED:20250828T103540Z
UID:10024961-1782333000-1782336600@www.dancesoul.com.tw
SUMMARY:Street Jazz-Kyle
DESCRIPTION:
URL:https://www.dancesoul.com.tw/schedule/street-jazz-kyle-4/2026-06-24/
CATEGORIES:STREET JAZZ,常態課_一般,課程
END:VEVENT
BEGIN:VEVENT
DTSTART;TZID=Asia/Shanghai:20260624T213500
DTEND;TZID=Asia/Shanghai:20260624T223500
DTSTAMP:20260420T174804
CREATED:20260327T085649Z
LAST-MODIFIED:20260327T085650Z
UID:10036633-1782336900-1782340500@www.dancesoul.com.tw
SUMMARY:MV-緗緗
DESCRIPTION:
URL:https://www.dancesoul.com.tw/schedule/mv-%e7%b7%97%e7%b7%97-2-2/2026-06-24/
END:VEVENT
BEGIN:VEVENT
DTSTART;TZID=Asia/Shanghai:20260625T182000
DTEND;TZID=Asia/Shanghai:20260625T192000
DTSTAMP:20260420T174804
CREATED:20251202T055643Z
LAST-MODIFIED:20251202T055645Z
UID:10025483-1782411600-1782415200@www.dancesoul.com.tw
SUMMARY:Street Jazz-羊羊
DESCRIPTION:
URL:https://www.dancesoul.com.tw/schedule/hip-hop-%e4%bd%90%e4%bd%90-2-2/2026-06-25/
CATEGORIES:Hip Hop,常態課_一般,課程
END:VEVENT
BEGIN:VEVENT
DTSTART;TZID=Asia/Shanghai:20260625T192500
DTEND;TZID=Asia/Shanghai:20260625T202500
DTSTAMP:20260420T174804
CREATED:20260327T082918Z
LAST-MODIFIED:20260327T084510Z
UID:10034782-1782415500-1782419100@www.dancesoul.com.tw
SUMMARY:Hip Hop(初)-林彤
DESCRIPTION:
URL:https://www.dancesoul.com.tw/schedule/hip-hop%e5%88%9d-%e6%9e%97%e5%bd%a4-3-2/2026-06-25/
CATEGORIES:Hip Hop 初級,常態課_初級,課程
END:VEVENT
BEGIN:VEVENT
DTSTART;TZID=Asia/Shanghai:20260625T203000
DTEND;TZID=Asia/Shanghai:20260625T213000
DTSTAMP:20260420T174804
CREATED:20260327T085246Z
LAST-MODIFIED:20260327T085313Z
UID:10036105-1782419400-1782423000@www.dancesoul.com.tw
SUMMARY:Choreography-HU RUEI胡睿
DESCRIPTION:
URL:https://www.dancesoul.com.tw/schedule/choreography-hu-ruei%e8%83%a1%e7%9d%bf/2026-06-25/
END:VEVENT
BEGIN:VEVENT
DTSTART;TZID=Asia/Shanghai:20260625T213500
DTEND;TZID=Asia/Shanghai:20260625T223500
DTSTAMP:20260420T174804
CREATED:20250828T104929Z
LAST-MODIFIED:20250828T104929Z
UID:10026263-1782423300-1782426900@www.dancesoul.com.tw
SUMMARY:Choreography-巴豪
DESCRIPTION:
URL:https://www.dancesoul.com.tw/schedule/choreography-%e5%b7%b4%e8%b1%aa-7/2026-06-25/
CATEGORIES:Choreography,常態課_一般,課程
END:VEVENT
BEGIN:VEVENT
DTSTART;TZID=Asia/Shanghai:20260626T182000
DTEND;TZID=Asia/Shanghai:20260626T192000
DTSTAMP:20260420T174804
CREATED:20260327T083919Z
LAST-MODIFIED:20260327T083920Z
UID:10034519-1782498000-1782501600@www.dancesoul.com.tw
SUMMARY:Twerk（初）-碗公
DESCRIPTION:
URL:https://www.dancesoul.com.tw/schedule/twerk%ef%bc%88%e5%88%9d%ef%bc%89-%e7%a2%97%e5%85%ac-2-2/2026-06-26/
END:VEVENT
BEGIN:VEVENT
DTSTART;TZID=Asia/Shanghai:20260626T192500
DTEND;TZID=Asia/Shanghai:20260626T202500
DTSTAMP:20260420T174804
CREATED:20260327T090205Z
LAST-MODIFIED:20260327T090205Z
UID:10037427-1782501900-1782505500@www.dancesoul.com.tw
SUMMARY:Street Jazz-CenMei
DESCRIPTION:
URL:https://www.dancesoul.com.tw/schedule/street-jazz-cenmei/2026-06-26/
END:VEVENT
END:VCALENDAR