BEGIN:VCALENDAR
VERSION:2.0
PRODID:-//DANCE SOUL 舞魂街舞學校 - ECPv6.15.18//NONSGML v1.0//EN
CALSCALE:GREGORIAN
METHOD:PUBLISH
X-WR-CALNAME:DANCE SOUL 舞魂街舞學校
X-ORIGINAL-URL:https://www.dancesoul.com.tw
X-WR-CALDESC:Events for DANCE SOUL 舞魂街舞學校
REFRESH-INTERVAL;VALUE=DURATION:PT1H
X-Robots-Tag:noindex
X-PUBLISHED-TTL:PT1H
BEGIN:VTIMEZONE
TZID:Asia/Shanghai
BEGIN:STANDARD
TZOFFSETFROM:+0800
TZOFFSETTO:+0800
TZNAME:CST
DTSTART:20250101T000000
END:STANDARD
END:VTIMEZONE
BEGIN:VEVENT
DTSTART;TZID=Asia/Shanghai:20261024T132000
DTEND;TZID=Asia/Shanghai:20261024T142000
DTSTAMP:20260421T092833
CREATED:20251201T070320Z
LAST-MODIFIED:20260315T072345Z
UID:10027320-1792848000-1792851600@www.dancesoul.com.tw
SUMMARY:兒童MV(初)(i-dle - 'Mona(Feat.skaiwater)')-薇臻
DESCRIPTION:
URL:https://www.dancesoul.com.tw/schedule/%e5%85%92%e7%ab%a5%e8%a1%97%e8%88%9e-%e8%96%87%e8%87%bb-21-2-2-2/2026-10-24/
CATEGORIES:兒童街舞,兒童課
END:VEVENT
BEGIN:VEVENT
DTSTART;TZID=Asia/Shanghai:20261024T143000
DTEND;TZID=Asia/Shanghai:20261024T153000
DTSTAMP:20260421T092833
CREATED:20251202T055414Z
LAST-MODIFIED:20260315T072223Z
UID:10027581-1792852200-1792855800@www.dancesoul.com.tw
SUMMARY:兒童MV(IVE - 'BANG BANG')-薇臻
DESCRIPTION:
URL:https://www.dancesoul.com.tw/schedule/%e5%85%92%e7%ab%a5mvbabymonster-hot-sauce-%e8%96%87%e8%87%bb-2/2026-10-24/
CATEGORIES:MV課,兒童MV,課程
END:VEVENT
BEGIN:VEVENT
DTSTART;TZID=Asia/Shanghai:20261024T154000
DTEND;TZID=Asia/Shanghai:20261024T164000
DTSTAMP:20260421T092833
CREATED:20250901T055134Z
LAST-MODIFIED:20260327T083158Z
UID:10033483-1792856400-1792860000@www.dancesoul.com.tw
SUMMARY:兒童Popping-勁宏
DESCRIPTION:
URL:https://www.dancesoul.com.tw/schedule/%e5%85%92%e7%ab%a5popping-%e5%8b%81%e5%ae%8f-2/2026-10-24/
CATEGORIES:兒童街舞,課程
END:VEVENT
BEGIN:VEVENT
DTSTART;TZID=Asia/Shanghai:20261024T164000
DTEND;TZID=Asia/Shanghai:20261024T174000
DTSTAMP:20260421T092833
CREATED:20260315T072002Z
LAST-MODIFIED:20260315T072518Z
UID:10027843-1792860000-1792863600@www.dancesoul.com.tw
SUMMARY:MV(IVE - ‘BANG BANG’)-薇臻
DESCRIPTION:
URL:https://www.dancesoul.com.tw/schedule/mvive-xoxz-%e5%87%9d%e7%90%a6-2-2/2026-10-24/
CATEGORIES:MV課,課程
END:VEVENT
BEGIN:VEVENT
DTSTART;TZID=Asia/Shanghai:20261024T182000
DTEND;TZID=Asia/Shanghai:20261024T192000
DTSTAMP:20260421T092833
CREATED:20250901T055441Z
LAST-MODIFIED:20250901T055457Z
UID:10028104-1792866000-1792869600@www.dancesoul.com.tw
SUMMARY:Popping-紀威
DESCRIPTION:
URL:https://www.dancesoul.com.tw/schedule/popping-%e7%b4%80%e5%a8%81-54/2026-10-24/
CATEGORIES:Poppin,常態課_一般,課程
END:VEVENT
BEGIN:VEVENT
DTSTART;TZID=Asia/Shanghai:20261024T192500
DTEND;TZID=Asia/Shanghai:20261024T202500
DTSTAMP:20260421T092833
CREATED:20260327T082346Z
LAST-MODIFIED:20260327T082346Z
UID:10032688-1792869900-1792873500@www.dancesoul.com.tw
SUMMARY:HIP HOP-GAGA
DESCRIPTION:
URL:https://www.dancesoul.com.tw/schedule/%e5%9f%ba%e7%a4%8e%e5%85%a5%e9%96%80-%e9%9b%9e%e8%9b%8b-41-2/2026-10-24/
CATEGORIES:基礎入門,常態課_初級,課程
END:VEVENT
BEGIN:VEVENT
DTSTART;TZID=Asia/Shanghai:20261025T132000
DTEND;TZID=Asia/Shanghai:20261025T142000
DTSTAMP:20260421T092833
CREATED:20250901T055750Z
LAST-MODIFIED:20250901T055750Z
UID:10028887-1792934400-1792938000@www.dancesoul.com.tw
SUMMARY:兒童街舞-羿芃
DESCRIPTION:
URL:https://www.dancesoul.com.tw/schedule/%e5%85%92%e7%ab%a5%e8%a1%97%e8%88%9e-%e7%be%bf%e8%8a%83-20/2026-10-25/
CATEGORIES:兒童街舞,課程
END:VEVENT
BEGIN:VEVENT
DTSTART;TZID=Asia/Shanghai:20261025T143000
DTEND;TZID=Asia/Shanghai:20261025T153000
DTSTAMP:20260421T092833
CREATED:20260315T071830Z
LAST-MODIFIED:20260315T071830Z
UID:10029148-1792938600-1792942200@www.dancesoul.com.tw
SUMMARY:兒童MV(ILLIT-opps!)-羿芃
DESCRIPTION:
URL:https://www.dancesoul.com.tw/schedule/%e5%85%92%e7%ab%a5mvizna-sass-%e7%be%bf%e8%8a%83-2-2/2026-10-25/
CATEGORIES:兒童MV,兒童課
END:VEVENT
BEGIN:VEVENT
DTSTART;TZID=Asia/Shanghai:20261025T154000
DTEND;TZID=Asia/Shanghai:20261025T164000
DTSTAMP:20260421T092833
CREATED:20250901T060229Z
LAST-MODIFIED:20250901T060229Z
UID:10029409-1792942800-1792946400@www.dancesoul.com.tw
SUMMARY:兒童Street Jazz-傘傘
DESCRIPTION:
URL:https://www.dancesoul.com.tw/schedule/%e5%85%92%e7%ab%a5street-jazz-%e5%82%98%e5%82%98-4/2026-10-25/
CATEGORIES:兒童街舞,兒童課
END:VEVENT
BEGIN:VEVENT
DTSTART;TZID=Asia/Shanghai:20261025T165000
DTEND;TZID=Asia/Shanghai:20261025T175000
DTSTAMP:20260421T092833
CREATED:20251201T095640Z
LAST-MODIFIED:20260315T071631Z
UID:10029670-1792947000-1792950600@www.dancesoul.com.tw
SUMMARY:MV(Apink - 'Love Me More')-Jenny
DESCRIPTION:
URL:https://www.dancesoul.com.tw/schedule/mvsomi-closer-%e7%91%9c%e5%ba%ad-2/2026-10-25/
CATEGORIES:MV課,課程
END:VEVENT
BEGIN:VEVENT
DTSTART;TZID=Asia/Shanghai:20261025T182000
DTEND;TZID=Asia/Shanghai:20261025T192000
DTSTAMP:20260421T092833
CREATED:20260327T085927Z
LAST-MODIFIED:20260327T085927Z
UID:10037180-1792952400-1792956000@www.dancesoul.com.tw
SUMMARY:Jazz Funk-Zulin小霖
DESCRIPTION:
URL:https://www.dancesoul.com.tw/schedule/jazz-funk-zulin%e5%b0%8f%e9%9c%96/2026-10-25/
END:VEVENT
BEGIN:VEVENT
DTSTART;TZID=Asia/Shanghai:20261025T192500
DTEND;TZID=Asia/Shanghai:20261025T202500
DTSTAMP:20260421T092833
CREATED:20260327T081608Z
LAST-MODIFIED:20260327T081608Z
UID:10030192-1792956300-1792959900@www.dancesoul.com.tw
SUMMARY:Hip Hop-ROD
DESCRIPTION:
URL:https://www.dancesoul.com.tw/schedule/hip-hop-%e6%89%bf%e7%bf%b0-2-2/2026-10-25/
CATEGORIES:Hip Hop,常態課_一般,課程
END:VEVENT
BEGIN:VEVENT
DTSTART;TZID=Asia/Shanghai:20261026T182000
DTEND;TZID=Asia/Shanghai:20261026T192000
DTSTAMP:20260421T092833
CREATED:20260327T084628Z
LAST-MODIFIED:20260327T084933Z
UID:10035328-1793038800-1793042400@www.dancesoul.com.tw
SUMMARY:MV-瑜庭
DESCRIPTION:
URL:https://www.dancesoul.com.tw/schedule/mvtwice-this-is-for-%e7%91%9c%e5%ba%ad-2/2026-10-26/
CATEGORIES:MV課,課程
END:VEVENT
BEGIN:VEVENT
DTSTART;TZID=Asia/Shanghai:20261026T192500
DTEND;TZID=Asia/Shanghai:20261026T202500
DTSTAMP:20260421T092833
CREATED:20260327T082108Z
LAST-MODIFIED:20260327T082108Z
UID:10030800-1793042700-1793046300@www.dancesoul.com.tw
SUMMARY:Jazz Funk-魏小美
DESCRIPTION:
URL:https://www.dancesoul.com.tw/schedule/jazz-funk-%e9%ad%8f%e5%b0%8f%e7%be%8e-84-2-2/2026-10-26/
END:VEVENT
BEGIN:VEVENT
DTSTART;TZID=Asia/Shanghai:20261026T203000
DTEND;TZID=Asia/Shanghai:20261026T213000
DTSTAMP:20260421T092833
CREATED:20260327T084046Z
LAST-MODIFIED:20260327T084828Z
UID:10035064-1793046600-1793050200@www.dancesoul.com.tw
SUMMARY:Heels-宋靜
DESCRIPTION:
URL:https://www.dancesoul.com.tw/schedule/heels-%e5%ae%8b%e9%9d%9c-3-2/2026-10-26/
END:VEVENT
BEGIN:VEVENT
DTSTART;TZID=Asia/Shanghai:20261026T213500
DTEND;TZID=Asia/Shanghai:20261026T223500
DTSTAMP:20260421T092833
CREATED:20260327T082216Z
LAST-MODIFIED:20260327T082217Z
UID:10032425-1793050500-1793054100@www.dancesoul.com.tw
SUMMARY:Jazz Funk-姿昀
DESCRIPTION:
URL:https://www.dancesoul.com.tw/schedule/jazz-funk-%e5%a7%bf%e6%98%80-15-2/2026-10-26/
CATEGORIES:Jazz Funk,課程
END:VEVENT
BEGIN:VEVENT
DTSTART;TZID=Asia/Shanghai:20261027T182000
DTEND;TZID=Asia/Shanghai:20261027T192000
DTSTAMP:20260421T092833
CREATED:20250828T095545Z
LAST-MODIFIED:20250828T095545Z
UID:10023673-1793125200-1793128800@www.dancesoul.com.tw
SUMMARY:MV-薇臻
DESCRIPTION:
URL:https://www.dancesoul.com.tw/schedule/mv-%e8%96%87%e8%87%bb-4/2026-10-27/
END:VEVENT
BEGIN:VEVENT
DTSTART;TZID=Asia/Shanghai:20261027T192500
DTEND;TZID=Asia/Shanghai:20261027T202500
DTSTAMP:20260421T092833
CREATED:20260327T083744Z
LAST-MODIFIED:20260327T083744Z
UID:10034273-1793129100-1793132700@www.dancesoul.com.tw
SUMMARY:Choreography-羅毅
DESCRIPTION:
URL:https://www.dancesoul.com.tw/schedule/choreography-%e7%be%85%e6%af%85-2-2/2026-10-27/
CATEGORIES:Choreography,常態課_一般,課程
END:VEVENT
BEGIN:VEVENT
DTSTART;TZID=Asia/Shanghai:20261027T202000
DTEND;TZID=Asia/Shanghai:20261027T212000
DTSTAMP:20260421T092833
CREATED:20250828T100203Z
LAST-MODIFIED:20250828T100203Z
UID:10023935-1793132400-1793136000@www.dancesoul.com.tw
SUMMARY:Free Style-俊宏
DESCRIPTION:
URL:https://www.dancesoul.com.tw/schedule/free-style-%e4%bf%8a%e5%ae%8f-29/2026-10-27/
CATEGORIES:Freestyle,常態課_一般,課程
END:VEVENT
BEGIN:VEVENT
DTSTART;TZID=Asia/Shanghai:20261027T213500
DTEND;TZID=Asia/Shanghai:20261027T223500
DTSTAMP:20260421T092833
CREATED:20260327T081822Z
LAST-MODIFIED:20260327T081932Z
UID:10032141-1793136900-1793140500@www.dancesoul.com.tw
SUMMARY:Hip Hop-承翰
DESCRIPTION:
URL:https://www.dancesoul.com.tw/schedule/hip-hop-%e6%89%bf%e7%bf%b0-2-3/2026-10-27/
CATEGORIES:Hip Hop,常態課_一般,課程
END:VEVENT
BEGIN:VEVENT
DTSTART;TZID=Asia/Shanghai:20261028T182000
DTEND;TZID=Asia/Shanghai:20261028T192000
DTSTAMP:20260421T092833
CREATED:20260327T082544Z
LAST-MODIFIED:20260327T082544Z
UID:10032954-1793211600-1793215200@www.dancesoul.com.tw
SUMMARY:Choreography(初)-無盡
DESCRIPTION:
URL:https://www.dancesoul.com.tw/schedule/choreography%e5%88%9d-%e7%84%a1%e7%9b%a1-14-2/2026-10-28/
CATEGORIES:Choreography 初級,常態課_初級,課程
END:VEVENT
BEGIN:VEVENT
DTSTART;TZID=Asia/Shanghai:20261028T192500
DTEND;TZID=Asia/Shanghai:20261028T202500
DTSTAMP:20260421T092833
CREATED:20250828T102504Z
LAST-MODIFIED:20250828T102504Z
UID:10024718-1793215500-1793219100@www.dancesoul.com.tw
SUMMARY:Street Jazz-Larry
DESCRIPTION:
URL:https://www.dancesoul.com.tw/schedule/street-jazz-larry-30/2026-10-28/
CATEGORIES:STREET JAZZ,常態課_一般,課程
END:VEVENT
BEGIN:VEVENT
DTSTART;TZID=Asia/Shanghai:20261028T203000
DTEND;TZID=Asia/Shanghai:20261028T213000
DTSTAMP:20260421T092833
CREATED:20250828T103540Z
LAST-MODIFIED:20250828T103540Z
UID:10024979-1793219400-1793223000@www.dancesoul.com.tw
SUMMARY:Street Jazz-Kyle
DESCRIPTION:
URL:https://www.dancesoul.com.tw/schedule/street-jazz-kyle-4/2026-10-28/
CATEGORIES:STREET JAZZ,常態課_一般,課程
END:VEVENT
BEGIN:VEVENT
DTSTART;TZID=Asia/Shanghai:20261028T213500
DTEND;TZID=Asia/Shanghai:20261028T223500
DTSTAMP:20260421T092833
CREATED:20260327T085649Z
LAST-MODIFIED:20260327T085650Z
UID:10036651-1793223300-1793226900@www.dancesoul.com.tw
SUMMARY:MV-緗緗
DESCRIPTION:
URL:https://www.dancesoul.com.tw/schedule/mv-%e7%b7%97%e7%b7%97-2-2/2026-10-28/
END:VEVENT
BEGIN:VEVENT
DTSTART;TZID=Asia/Shanghai:20261029T182000
DTEND;TZID=Asia/Shanghai:20261029T192000
DTSTAMP:20260421T092833
CREATED:20251202T055643Z
LAST-MODIFIED:20251202T055645Z
UID:10025501-1793298000-1793301600@www.dancesoul.com.tw
SUMMARY:Street Jazz-羊羊
DESCRIPTION:
URL:https://www.dancesoul.com.tw/schedule/hip-hop-%e4%bd%90%e4%bd%90-2-2/2026-10-29/
CATEGORIES:Hip Hop,常態課_一般,課程
END:VEVENT
BEGIN:VEVENT
DTSTART;TZID=Asia/Shanghai:20261029T192500
DTEND;TZID=Asia/Shanghai:20261029T202500
DTSTAMP:20260421T092833
CREATED:20260327T082918Z
LAST-MODIFIED:20260327T084510Z
UID:10034800-1793301900-1793305500@www.dancesoul.com.tw
SUMMARY:Hip Hop(初)-林彤
DESCRIPTION:
URL:https://www.dancesoul.com.tw/schedule/hip-hop%e5%88%9d-%e6%9e%97%e5%bd%a4-3-2/2026-10-29/
CATEGORIES:Hip Hop 初級,常態課_初級,課程
END:VEVENT
BEGIN:VEVENT
DTSTART;TZID=Asia/Shanghai:20261029T203000
DTEND;TZID=Asia/Shanghai:20261029T213000
DTSTAMP:20260421T092833
CREATED:20260327T085246Z
LAST-MODIFIED:20260327T085313Z
UID:10036123-1793305800-1793309400@www.dancesoul.com.tw
SUMMARY:Choreography-HU RUEI胡睿
DESCRIPTION:
URL:https://www.dancesoul.com.tw/schedule/choreography-hu-ruei%e8%83%a1%e7%9d%bf/2026-10-29/
END:VEVENT
BEGIN:VEVENT
DTSTART;TZID=Asia/Shanghai:20261029T213500
DTEND;TZID=Asia/Shanghai:20261029T223500
DTSTAMP:20260421T092833
CREATED:20250828T104929Z
LAST-MODIFIED:20250828T104929Z
UID:10026281-1793309700-1793313300@www.dancesoul.com.tw
SUMMARY:Choreography-巴豪
DESCRIPTION:
URL:https://www.dancesoul.com.tw/schedule/choreography-%e5%b7%b4%e8%b1%aa-7/2026-10-29/
CATEGORIES:Choreography,常態課_一般,課程
END:VEVENT
BEGIN:VEVENT
DTSTART;TZID=Asia/Shanghai:20261030T182000
DTEND;TZID=Asia/Shanghai:20261030T192000
DTSTAMP:20260421T092833
CREATED:20260327T083919Z
LAST-MODIFIED:20260327T083920Z
UID:10034537-1793384400-1793388000@www.dancesoul.com.tw
SUMMARY:Twerk（初）-碗公
DESCRIPTION:
URL:https://www.dancesoul.com.tw/schedule/twerk%ef%bc%88%e5%88%9d%ef%bc%89-%e7%a2%97%e5%85%ac-2-2/2026-10-30/
END:VEVENT
BEGIN:VEVENT
DTSTART;TZID=Asia/Shanghai:20261030T192500
DTEND;TZID=Asia/Shanghai:20261030T202500
DTSTAMP:20260421T092833
CREATED:20260327T090205Z
LAST-MODIFIED:20260327T090205Z
UID:10037445-1793388300-1793391900@www.dancesoul.com.tw
SUMMARY:Street Jazz-CenMei
DESCRIPTION:
URL:https://www.dancesoul.com.tw/schedule/street-jazz-cenmei/2026-10-30/
END:VEVENT
END:VCALENDAR