BEGIN:VCALENDAR
VERSION:2.0
PRODID:-//DANCE SOUL 舞魂街舞學校 - ECPv6.15.18//NONSGML v1.0//EN
CALSCALE:GREGORIAN
METHOD:PUBLISH
X-WR-CALNAME:DANCE SOUL 舞魂街舞學校
X-ORIGINAL-URL:https://www.dancesoul.com.tw
X-WR-CALDESC:Events for DANCE SOUL 舞魂街舞學校
REFRESH-INTERVAL;VALUE=DURATION:PT1H
X-Robots-Tag:noindex
X-PUBLISHED-TTL:PT1H
BEGIN:VTIMEZONE
TZID:Asia/Shanghai
BEGIN:STANDARD
TZOFFSETFROM:+0800
TZOFFSETTO:+0800
TZNAME:CST
DTSTART:20260101T000000
END:STANDARD
END:VTIMEZONE
BEGIN:VEVENT
DTSTART;TZID=Asia/Shanghai:20270215T182000
DTEND;TZID=Asia/Shanghai:20270215T192000
DTSTAMP:20260423T061201
CREATED:20260327T084628Z
LAST-MODIFIED:20260327T084933Z
UID:10035344-1802715600-1802719200@www.dancesoul.com.tw
SUMMARY:MV-瑜庭
DESCRIPTION:
URL:https://www.dancesoul.com.tw/schedule/mvtwice-this-is-for-%e7%91%9c%e5%ba%ad-2/2027-02-15/
CATEGORIES:MV課,課程
END:VEVENT
BEGIN:VEVENT
DTSTART;TZID=Asia/Shanghai:20270215T192500
DTEND;TZID=Asia/Shanghai:20270215T202500
DTSTAMP:20260423T061201
CREATED:20260327T082108Z
LAST-MODIFIED:20260327T082108Z
UID:10030816-1802719500-1802723100@www.dancesoul.com.tw
SUMMARY:Jazz Funk-魏小美
DESCRIPTION:
URL:https://www.dancesoul.com.tw/schedule/jazz-funk-%e9%ad%8f%e5%b0%8f%e7%be%8e-84-2-2/2027-02-15/
END:VEVENT
BEGIN:VEVENT
DTSTART;TZID=Asia/Shanghai:20270215T203000
DTEND;TZID=Asia/Shanghai:20270215T213000
DTSTAMP:20260423T061201
CREATED:20260327T084046Z
LAST-MODIFIED:20260327T084828Z
UID:10035080-1802723400-1802727000@www.dancesoul.com.tw
SUMMARY:Heels-宋靜
DESCRIPTION:
URL:https://www.dancesoul.com.tw/schedule/heels-%e5%ae%8b%e9%9d%9c-3-2/2027-02-15/
END:VEVENT
BEGIN:VEVENT
DTSTART;TZID=Asia/Shanghai:20270215T213500
DTEND;TZID=Asia/Shanghai:20270215T223500
DTSTAMP:20260423T061201
CREATED:20260327T082216Z
LAST-MODIFIED:20260327T082217Z
UID:10032441-1802727300-1802730900@www.dancesoul.com.tw
SUMMARY:Jazz Funk-姿昀
DESCRIPTION:
URL:https://www.dancesoul.com.tw/schedule/jazz-funk-%e5%a7%bf%e6%98%80-15-2/2027-02-15/
CATEGORIES:Jazz Funk,課程
END:VEVENT
BEGIN:VEVENT
DTSTART;TZID=Asia/Shanghai:20270216T182000
DTEND;TZID=Asia/Shanghai:20270216T192000
DTSTAMP:20260423T061201
CREATED:20250828T095545Z
LAST-MODIFIED:20250828T095545Z
UID:10023689-1802802000-1802805600@www.dancesoul.com.tw
SUMMARY:MV-薇臻
DESCRIPTION:
URL:https://www.dancesoul.com.tw/schedule/mv-%e8%96%87%e8%87%bb-4/2027-02-16/
END:VEVENT
BEGIN:VEVENT
DTSTART;TZID=Asia/Shanghai:20270216T192500
DTEND;TZID=Asia/Shanghai:20270216T202500
DTSTAMP:20260423T061201
CREATED:20260327T083744Z
LAST-MODIFIED:20260327T083744Z
UID:10034289-1802805900-1802809500@www.dancesoul.com.tw
SUMMARY:Choreography-羅毅
DESCRIPTION:
URL:https://www.dancesoul.com.tw/schedule/choreography-%e7%be%85%e6%af%85-2-2/2027-02-16/
CATEGORIES:Choreography,常態課_一般,課程
END:VEVENT
BEGIN:VEVENT
DTSTART;TZID=Asia/Shanghai:20270216T202000
DTEND;TZID=Asia/Shanghai:20270216T212000
DTSTAMP:20260423T061201
CREATED:20250828T100203Z
LAST-MODIFIED:20250828T100203Z
UID:10023951-1802809200-1802812800@www.dancesoul.com.tw
SUMMARY:Free Style-俊宏
DESCRIPTION:
URL:https://www.dancesoul.com.tw/schedule/free-style-%e4%bf%8a%e5%ae%8f-29/2027-02-16/
CATEGORIES:Freestyle,常態課_一般,課程
END:VEVENT
BEGIN:VEVENT
DTSTART;TZID=Asia/Shanghai:20270216T213500
DTEND;TZID=Asia/Shanghai:20270216T223500
DTSTAMP:20260423T061201
CREATED:20260327T081822Z
LAST-MODIFIED:20260327T081932Z
UID:10032157-1802813700-1802817300@www.dancesoul.com.tw
SUMMARY:Hip Hop-承翰
DESCRIPTION:
URL:https://www.dancesoul.com.tw/schedule/hip-hop-%e6%89%bf%e7%bf%b0-2-3/2027-02-16/
CATEGORIES:Hip Hop,常態課_一般,課程
END:VEVENT
BEGIN:VEVENT
DTSTART;TZID=Asia/Shanghai:20270217T182000
DTEND;TZID=Asia/Shanghai:20270217T192000
DTSTAMP:20260423T061201
CREATED:20260327T082544Z
LAST-MODIFIED:20260327T082544Z
UID:10032970-1802888400-1802892000@www.dancesoul.com.tw
SUMMARY:Choreography(初)-無盡
DESCRIPTION:
URL:https://www.dancesoul.com.tw/schedule/choreography%e5%88%9d-%e7%84%a1%e7%9b%a1-14-2/2027-02-17/
CATEGORIES:Choreography 初級,常態課_初級,課程
END:VEVENT
BEGIN:VEVENT
DTSTART;TZID=Asia/Shanghai:20270217T192500
DTEND;TZID=Asia/Shanghai:20270217T202500
DTSTAMP:20260423T061201
CREATED:20250828T102504Z
LAST-MODIFIED:20250828T102504Z
UID:10024734-1802892300-1802895900@www.dancesoul.com.tw
SUMMARY:Street Jazz-Larry
DESCRIPTION:
URL:https://www.dancesoul.com.tw/schedule/street-jazz-larry-30/2027-02-17/
CATEGORIES:STREET JAZZ,常態課_一般,課程
END:VEVENT
BEGIN:VEVENT
DTSTART;TZID=Asia/Shanghai:20270217T203000
DTEND;TZID=Asia/Shanghai:20270217T213000
DTSTAMP:20260423T061201
CREATED:20250828T103540Z
LAST-MODIFIED:20250828T103540Z
UID:10024995-1802896200-1802899800@www.dancesoul.com.tw
SUMMARY:Street Jazz-Kyle
DESCRIPTION:
URL:https://www.dancesoul.com.tw/schedule/street-jazz-kyle-4/2027-02-17/
CATEGORIES:STREET JAZZ,常態課_一般,課程
END:VEVENT
BEGIN:VEVENT
DTSTART;TZID=Asia/Shanghai:20270217T213500
DTEND;TZID=Asia/Shanghai:20270217T223500
DTSTAMP:20260423T061201
CREATED:20260327T085649Z
LAST-MODIFIED:20260327T085650Z
UID:10036667-1802900100-1802903700@www.dancesoul.com.tw
SUMMARY:MV-緗緗
DESCRIPTION:
URL:https://www.dancesoul.com.tw/schedule/mv-%e7%b7%97%e7%b7%97-2-2/2027-02-17/
END:VEVENT
BEGIN:VEVENT
DTSTART;TZID=Asia/Shanghai:20270218T182000
DTEND;TZID=Asia/Shanghai:20270218T192000
DTSTAMP:20260423T061201
CREATED:20251202T055643Z
LAST-MODIFIED:20251202T055645Z
UID:10025517-1802974800-1802978400@www.dancesoul.com.tw
SUMMARY:Street Jazz-羊羊
DESCRIPTION:
URL:https://www.dancesoul.com.tw/schedule/hip-hop-%e4%bd%90%e4%bd%90-2-2/2027-02-18/
CATEGORIES:Hip Hop,常態課_一般,課程
END:VEVENT
BEGIN:VEVENT
DTSTART;TZID=Asia/Shanghai:20270218T192500
DTEND;TZID=Asia/Shanghai:20270218T202500
DTSTAMP:20260423T061201
CREATED:20260327T082918Z
LAST-MODIFIED:20260327T084510Z
UID:10034816-1802978700-1802982300@www.dancesoul.com.tw
SUMMARY:Hip Hop(初)-林彤
DESCRIPTION:
URL:https://www.dancesoul.com.tw/schedule/hip-hop%e5%88%9d-%e6%9e%97%e5%bd%a4-3-2/2027-02-18/
CATEGORIES:Hip Hop 初級,常態課_初級,課程
END:VEVENT
BEGIN:VEVENT
DTSTART;TZID=Asia/Shanghai:20270218T203000
DTEND;TZID=Asia/Shanghai:20270218T213000
DTSTAMP:20260423T061201
CREATED:20260327T085246Z
LAST-MODIFIED:20260327T085313Z
UID:10036139-1802982600-1802986200@www.dancesoul.com.tw
SUMMARY:Choreography-HU RUEI胡睿
DESCRIPTION:
URL:https://www.dancesoul.com.tw/schedule/choreography-hu-ruei%e8%83%a1%e7%9d%bf/2027-02-18/
END:VEVENT
BEGIN:VEVENT
DTSTART;TZID=Asia/Shanghai:20270218T213500
DTEND;TZID=Asia/Shanghai:20270218T223500
DTSTAMP:20260423T061201
CREATED:20250828T104929Z
LAST-MODIFIED:20250828T104929Z
UID:10026297-1802986500-1802990100@www.dancesoul.com.tw
SUMMARY:Choreography-巴豪
DESCRIPTION:
URL:https://www.dancesoul.com.tw/schedule/choreography-%e5%b7%b4%e8%b1%aa-7/2027-02-18/
CATEGORIES:Choreography,常態課_一般,課程
END:VEVENT
BEGIN:VEVENT
DTSTART;TZID=Asia/Shanghai:20270219T182000
DTEND;TZID=Asia/Shanghai:20270219T192000
DTSTAMP:20260423T061201
CREATED:20260327T083919Z
LAST-MODIFIED:20260327T083920Z
UID:10034553-1803061200-1803064800@www.dancesoul.com.tw
SUMMARY:Twerk（初）-碗公
DESCRIPTION:
URL:https://www.dancesoul.com.tw/schedule/twerk%ef%bc%88%e5%88%9d%ef%bc%89-%e7%a2%97%e5%85%ac-2-2/2027-02-19/
END:VEVENT
BEGIN:VEVENT
DTSTART;TZID=Asia/Shanghai:20270219T192500
DTEND;TZID=Asia/Shanghai:20270219T202500
DTSTAMP:20260423T061201
CREATED:20260327T090205Z
LAST-MODIFIED:20260327T090205Z
UID:10037461-1803065100-1803068700@www.dancesoul.com.tw
SUMMARY:Street Jazz-CenMei
DESCRIPTION:
URL:https://www.dancesoul.com.tw/schedule/street-jazz-cenmei/2027-02-19/
END:VEVENT
BEGIN:VEVENT
DTSTART;TZID=Asia/Shanghai:20270219T203000
DTEND;TZID=Asia/Shanghai:20270219T213000
DTSTAMP:20260423T061201
CREATED:20260327T090256Z
LAST-MODIFIED:20260327T090256Z
UID:10037725-1803069000-1803072600@www.dancesoul.com.tw
SUMMARY:Jazz Funk-Dang 鈴鐺
DESCRIPTION:
URL:https://www.dancesoul.com.tw/schedule/jazz-funk-dang-%e9%88%b4%e9%90%ba/2027-02-19/
END:VEVENT
BEGIN:VEVENT
DTSTART;TZID=Asia/Shanghai:20270219T213500
DTEND;TZID=Asia/Shanghai:20270219T223500
DTSTAMP:20260423T061201
CREATED:20260327T085804Z
LAST-MODIFIED:20260327T085804Z
UID:10036932-1803072900-1803076500@www.dancesoul.com.tw
SUMMARY:Street Jazz-Roy燦伊
DESCRIPTION:
URL:https://www.dancesoul.com.tw/schedule/street-jazz-roy%e7%87%a6%e4%bc%8a/2027-02-19/
END:VEVENT
BEGIN:VEVENT
DTSTART;TZID=Asia/Shanghai:20270220T132000
DTEND;TZID=Asia/Shanghai:20270220T142000
DTSTAMP:20260423T061201
CREATED:20251201T070320Z
LAST-MODIFIED:20260315T072345Z
UID:10027337-1803129600-1803133200@www.dancesoul.com.tw
SUMMARY:兒童MV(初)(i-dle - 'Mona(Feat.skaiwater)')-薇臻
DESCRIPTION:
URL:https://www.dancesoul.com.tw/schedule/%e5%85%92%e7%ab%a5%e8%a1%97%e8%88%9e-%e8%96%87%e8%87%bb-21-2-2-2/2027-02-20/
CATEGORIES:兒童街舞,兒童課
END:VEVENT
BEGIN:VEVENT
DTSTART;TZID=Asia/Shanghai:20270220T143000
DTEND;TZID=Asia/Shanghai:20270220T153000
DTSTAMP:20260423T061201
CREATED:20251202T055414Z
LAST-MODIFIED:20260315T072223Z
UID:10027598-1803133800-1803137400@www.dancesoul.com.tw
SUMMARY:兒童MV(IVE - 'BANG BANG')-薇臻
DESCRIPTION:
URL:https://www.dancesoul.com.tw/schedule/%e5%85%92%e7%ab%a5mvbabymonster-hot-sauce-%e8%96%87%e8%87%bb-2/2027-02-20/
CATEGORIES:MV課,兒童MV,課程
END:VEVENT
BEGIN:VEVENT
DTSTART;TZID=Asia/Shanghai:20270220T154000
DTEND;TZID=Asia/Shanghai:20270220T164000
DTSTAMP:20260423T061201
CREATED:20250901T055134Z
LAST-MODIFIED:20260327T083158Z
UID:10033500-1803138000-1803141600@www.dancesoul.com.tw
SUMMARY:兒童Popping-勁宏
DESCRIPTION:
URL:https://www.dancesoul.com.tw/schedule/%e5%85%92%e7%ab%a5popping-%e5%8b%81%e5%ae%8f-2/2027-02-20/
CATEGORIES:兒童街舞,課程
END:VEVENT
BEGIN:VEVENT
DTSTART;TZID=Asia/Shanghai:20270220T164000
DTEND;TZID=Asia/Shanghai:20270220T174000
DTSTAMP:20260423T061201
CREATED:20260315T072002Z
LAST-MODIFIED:20260315T072518Z
UID:10027860-1803141600-1803145200@www.dancesoul.com.tw
SUMMARY:MV(IVE - ‘BANG BANG’)-薇臻
DESCRIPTION:
URL:https://www.dancesoul.com.tw/schedule/mvive-xoxz-%e5%87%9d%e7%90%a6-2-2/2027-02-20/
CATEGORIES:MV課,課程
END:VEVENT
BEGIN:VEVENT
DTSTART;TZID=Asia/Shanghai:20270220T182000
DTEND;TZID=Asia/Shanghai:20270220T192000
DTSTAMP:20260423T061201
CREATED:20250901T055441Z
LAST-MODIFIED:20250901T055457Z
UID:10028121-1803147600-1803151200@www.dancesoul.com.tw
SUMMARY:Popping-紀威
DESCRIPTION:
URL:https://www.dancesoul.com.tw/schedule/popping-%e7%b4%80%e5%a8%81-54/2027-02-20/
CATEGORIES:Poppin,常態課_一般,課程
END:VEVENT
BEGIN:VEVENT
DTSTART;TZID=Asia/Shanghai:20270220T192500
DTEND;TZID=Asia/Shanghai:20270220T202500
DTSTAMP:20260423T061201
CREATED:20260327T082346Z
LAST-MODIFIED:20260327T082346Z
UID:10032705-1803151500-1803155100@www.dancesoul.com.tw
SUMMARY:HIP HOP-GAGA
DESCRIPTION:
URL:https://www.dancesoul.com.tw/schedule/%e5%9f%ba%e7%a4%8e%e5%85%a5%e9%96%80-%e9%9b%9e%e8%9b%8b-41-2/2027-02-20/
CATEGORIES:基礎入門,常態課_初級,課程
END:VEVENT
BEGIN:VEVENT
DTSTART;TZID=Asia/Shanghai:20270221T132000
DTEND;TZID=Asia/Shanghai:20270221T142000
DTSTAMP:20260423T061201
CREATED:20250901T055750Z
LAST-MODIFIED:20250901T055750Z
UID:10028904-1803216000-1803219600@www.dancesoul.com.tw
SUMMARY:兒童街舞-羿芃
DESCRIPTION:
URL:https://www.dancesoul.com.tw/schedule/%e5%85%92%e7%ab%a5%e8%a1%97%e8%88%9e-%e7%be%bf%e8%8a%83-20/2027-02-21/
CATEGORIES:兒童街舞,課程
END:VEVENT
BEGIN:VEVENT
DTSTART;TZID=Asia/Shanghai:20270221T143000
DTEND;TZID=Asia/Shanghai:20270221T153000
DTSTAMP:20260423T061201
CREATED:20260315T071830Z
LAST-MODIFIED:20260315T071830Z
UID:10029165-1803220200-1803223800@www.dancesoul.com.tw
SUMMARY:兒童MV(ILLIT-opps!)-羿芃
DESCRIPTION:
URL:https://www.dancesoul.com.tw/schedule/%e5%85%92%e7%ab%a5mvizna-sass-%e7%be%bf%e8%8a%83-2-2/2027-02-21/
CATEGORIES:兒童MV,兒童課
END:VEVENT
BEGIN:VEVENT
DTSTART;TZID=Asia/Shanghai:20270221T154000
DTEND;TZID=Asia/Shanghai:20270221T164000
DTSTAMP:20260423T061201
CREATED:20250901T060229Z
LAST-MODIFIED:20250901T060229Z
UID:10029426-1803224400-1803228000@www.dancesoul.com.tw
SUMMARY:兒童Street Jazz-傘傘
DESCRIPTION:
URL:https://www.dancesoul.com.tw/schedule/%e5%85%92%e7%ab%a5street-jazz-%e5%82%98%e5%82%98-4/2027-02-21/
CATEGORIES:兒童街舞,兒童課
END:VEVENT
BEGIN:VEVENT
DTSTART;TZID=Asia/Shanghai:20270221T165000
DTEND;TZID=Asia/Shanghai:20270221T175000
DTSTAMP:20260423T061201
CREATED:20251201T095640Z
LAST-MODIFIED:20260315T071631Z
UID:10029687-1803228600-1803232200@www.dancesoul.com.tw
SUMMARY:MV(Apink - 'Love Me More')-Jenny
DESCRIPTION:
URL:https://www.dancesoul.com.tw/schedule/mvsomi-closer-%e7%91%9c%e5%ba%ad-2/2027-02-21/
CATEGORIES:MV課,課程
END:VEVENT
END:VCALENDAR