BEGIN:VCALENDAR
VERSION:2.0
PRODID:-//DANCE SOUL 舞魂街舞學校 - ECPv6.15.18//NONSGML v1.0//EN
CALSCALE:GREGORIAN
METHOD:PUBLISH
X-ORIGINAL-URL:https://www.dancesoul.com.tw
X-WR-CALDESC:Events for DANCE SOUL 舞魂街舞學校
REFRESH-INTERVAL;VALUE=DURATION:PT1H
X-Robots-Tag:noindex
X-PUBLISHED-TTL:PT1H
BEGIN:VTIMEZONE
TZID:Asia/Shanghai
BEGIN:STANDARD
TZOFFSETFROM:+0800
TZOFFSETTO:+0800
TZNAME:CST
DTSTART:20230101T000000
END:STANDARD
END:VTIMEZONE
BEGIN:VEVENT
DTSTART;TZID=Asia/Shanghai:20240605T183000
DTEND;TZID=Asia/Shanghai:20240605T193000
DTSTAMP:20260422T012623
CREATED:20240523T103716Z
LAST-MODIFIED:20240523T103716Z
UID:10019673-1717612200-1717615800@www.dancesoul.com.tw
SUMMARY:Street Jazz(初)-Kyle
DESCRIPTION:
URL:https://www.dancesoul.com.tw/schedule/street-jazz%e5%88%9d-kyle-13/2024-06-05/
CATEGORIES:STREET JAZZ 初級,常態課_初級,課程
END:VEVENT
BEGIN:VEVENT
DTSTART;TZID=Asia/Shanghai:20240605T194000
DTEND;TZID=Asia/Shanghai:20240605T204000
DTSTAMP:20260422T012623
CREATED:20240523T103814Z
LAST-MODIFIED:20240523T103814Z
UID:10019677-1717616400-1717620000@www.dancesoul.com.tw
SUMMARY:Street Jazz-Larry
DESCRIPTION:
URL:https://www.dancesoul.com.tw/schedule/street-jazz-larry-16/2024-06-05/
CATEGORIES:STREET JAZZ,常態課_一般,課程
END:VEVENT
BEGIN:VEVENT
DTSTART;TZID=Asia/Shanghai:20240605T205000
DTEND;TZID=Asia/Shanghai:20240605T215000
DTSTAMP:20260422T012623
CREATED:20240523T104015Z
LAST-MODIFIED:20240523T104015Z
UID:10019681-1717620600-1717624200@www.dancesoul.com.tw
SUMMARY:Free Style-承達
DESCRIPTION:
URL:https://www.dancesoul.com.tw/schedule/free-style-%e6%89%bf%e9%81%94-39/2024-06-05/
CATEGORIES:Freestyle,常態課_一般,課程
END:VEVENT
BEGIN:VEVENT
DTSTART;TZID=Asia/Shanghai:20240606T183000
DTEND;TZID=Asia/Shanghai:20240606T193000
DTSTAMP:20260422T012623
CREATED:20240523T104124Z
LAST-MODIFIED:20240523T104124Z
UID:10019685-1717698600-1717702200@www.dancesoul.com.tw
SUMMARY:Choreography-芭比
DESCRIPTION:
URL:https://www.dancesoul.com.tw/schedule/choreography-%e8%8a%ad%e6%af%94-22/2024-06-06/
CATEGORIES:Choreography,常態課_一般,課程
END:VEVENT
BEGIN:VEVENT
DTSTART;TZID=Asia/Shanghai:20240606T194000
DTEND;TZID=Asia/Shanghai:20240606T204000
DTSTAMP:20260422T012623
CREATED:20240523T104403Z
LAST-MODIFIED:20240523T104403Z
UID:10019689-1717702800-1717706400@www.dancesoul.com.tw
SUMMARY:Hip Hop-林彤
DESCRIPTION:
URL:https://www.dancesoul.com.tw/schedule/hip-hop-%e6%9e%97%e5%bd%a4-18/2024-06-06/
CATEGORIES:Hip Hop,常態課_一般,課程
END:VEVENT
BEGIN:VEVENT
DTSTART;TZID=Asia/Shanghai:20240606T205000
DTEND;TZID=Asia/Shanghai:20240606T215000
DTSTAMP:20260422T012623
CREATED:20240523T104503Z
LAST-MODIFIED:20240523T104503Z
UID:10019693-1717707000-1717710600@www.dancesoul.com.tw
SUMMARY:Afro Style-巴豪
DESCRIPTION:
URL:https://www.dancesoul.com.tw/schedule/afro-style-%e5%b7%b4%e8%b1%aa/2024-06-06/
CATEGORIES:Afro Style,常態課_一般,課程
END:VEVENT
BEGIN:VEVENT
DTSTART;TZID=Asia/Shanghai:20240607T183000
DTEND;TZID=Asia/Shanghai:20240607T193000
DTSTAMP:20260422T012623
CREATED:20240523T104729Z
LAST-MODIFIED:20240523T104729Z
UID:10019697-1717785000-1717788600@www.dancesoul.com.tw
SUMMARY:Street Jazz(初)-Cen妹
DESCRIPTION:
URL:https://www.dancesoul.com.tw/schedule/street-jazz%e5%88%9d-cen%e5%a6%b9-32/2024-06-07/
CATEGORIES:STREET JAZZ 初級,常態課_初級,課程
END:VEVENT
BEGIN:VEVENT
DTSTART;TZID=Asia/Shanghai:20240607T194000
DTEND;TZID=Asia/Shanghai:20240607T204000
DTSTAMP:20260422T012623
CREATED:20240523T104822Z
LAST-MODIFIED:20240523T104822Z
UID:10019701-1717789200-1717792800@www.dancesoul.com.tw
SUMMARY:Hip Hop(初)-佐佐
DESCRIPTION:
URL:https://www.dancesoul.com.tw/schedule/hip-hop%e5%88%9d-%e4%bd%90%e4%bd%90-11/2024-06-07/
CATEGORIES:Hip Hop 初級,常態課_初級,課程
END:VEVENT
BEGIN:VEVENT
DTSTART;TZID=Asia/Shanghai:20240607T205000
DTEND;TZID=Asia/Shanghai:20240607T215000
DTSTAMP:20260422T012623
CREATED:20240523T104947Z
LAST-MODIFIED:20240523T104947Z
UID:10019705-1717793400-1717797000@www.dancesoul.com.tw
SUMMARY:Jazz Funk-鈴鐺
DESCRIPTION:
URL:https://www.dancesoul.com.tw/schedule/jazz-funk-%e9%88%b4%e9%90%ba-19/2024-06-07/
CATEGORIES:Jazz Funk,常態課_一般,課程
END:VEVENT
BEGIN:VEVENT
DTSTART;TZID=Asia/Shanghai:20240608T132000
DTEND;TZID=Asia/Shanghai:20240608T142000
DTSTAMP:20260422T012623
CREATED:20240523T095134Z
LAST-MODIFIED:20240523T095134Z
UID:10019582-1717852800-1717856400@www.dancesoul.com.tw
SUMMARY:兒童街舞-薇臻
DESCRIPTION:
URL:https://www.dancesoul.com.tw/schedule/%e5%85%92%e7%ab%a5%e8%a1%97%e8%88%9e-%e8%96%87%e8%87%bb-7/2024-06-08/
CATEGORIES:兒童街舞,兒童課,課程
END:VEVENT
BEGIN:VEVENT
DTSTART;TZID=Asia/Shanghai:20240608T143000
DTEND;TZID=Asia/Shanghai:20240608T153000
DTSTAMP:20260422T012623
CREATED:20240523T095250Z
LAST-MODIFIED:20240523T095250Z
UID:10019587-1717857000-1717860600@www.dancesoul.com.tw
SUMMARY:兒童MV-(IVE - Accendio)-薇臻
DESCRIPTION:
URL:https://www.dancesoul.com.tw/schedule/%e5%85%92%e7%ab%a5mv-ive-accendio-%e8%96%87%e8%87%bb/2024-06-08/
CATEGORIES:兒童MV,兒童課,課程
END:VEVENT
BEGIN:VEVENT
DTSTART;TZID=Asia/Shanghai:20240608T154000
DTEND;TZID=Asia/Shanghai:20240608T164000
DTSTAMP:20260422T012623
CREATED:20240523T095423Z
LAST-MODIFIED:20240523T095423Z
UID:10019592-1717861200-1717864800@www.dancesoul.com.tw
SUMMARY:兒童街舞-傘傘
DESCRIPTION:
URL:https://www.dancesoul.com.tw/schedule/%e5%85%92%e7%ab%a5%e8%a1%97%e8%88%9e-%e5%82%98%e5%82%98-38/2024-06-08/
CATEGORIES:兒童街舞,兒童課,課程
END:VEVENT
BEGIN:VEVENT
DTSTART;TZID=Asia/Shanghai:20240608T165000
DTEND;TZID=Asia/Shanghai:20240608T175000
DTSTAMP:20260422T012623
CREATED:20240523T095527Z
LAST-MODIFIED:20240523T095742Z
UID:10019602-1717865400-1717869000@www.dancesoul.com.tw
SUMMARY:MV-(IVE - HEYA)-怡妏
DESCRIPTION:
URL:https://www.dancesoul.com.tw/schedule/mv-ive-heya-%e6%80%a1%e5%a6%8f/2024-06-08/
CATEGORIES:MV課,課程
END:VEVENT
BEGIN:VEVENT
DTSTART;TZID=Asia/Shanghai:20240608T180000
DTEND;TZID=Asia/Shanghai:20240608T190000
DTSTAMP:20260422T012623
CREATED:20240523T095944Z
LAST-MODIFIED:20240523T095944Z
UID:10019607-1717869600-1717873200@www.dancesoul.com.tw
SUMMARY:Popping-紀威
DESCRIPTION:
URL:https://www.dancesoul.com.tw/schedule/popping-%e7%b4%80%e5%a8%81-41/2024-06-08/
CATEGORIES:Poppin,常態課_一般,課程
END:VEVENT
BEGIN:VEVENT
DTSTART;TZID=Asia/Shanghai:20240608T191000
DTEND;TZID=Asia/Shanghai:20240608T201000
DTSTAMP:20260422T012623
CREATED:20240523T100042Z
LAST-MODIFIED:20240523T100042Z
UID:10019612-1717873800-1717877400@www.dancesoul.com.tw
SUMMARY:Choreography(初)-無盡
DESCRIPTION:
URL:https://www.dancesoul.com.tw/schedule/choreography%e5%88%9d-%e7%84%a1%e7%9b%a1/2024-06-08/
CATEGORIES:Choreography 初級,常態課_初級,課程
END:VEVENT
BEGIN:VEVENT
DTSTART;TZID=Asia/Shanghai:20240608T202000
DTEND;TZID=Asia/Shanghai:20240608T212000
DTSTAMP:20260422T012623
CREATED:20240523T100223Z
LAST-MODIFIED:20240523T100223Z
UID:10019617-1717878000-1717881600@www.dancesoul.com.tw
SUMMARY:基礎入門-雞蛋
DESCRIPTION:
URL:https://www.dancesoul.com.tw/schedule/%e5%9f%ba%e7%a4%8e%e5%85%a5%e9%96%80-%e9%9b%9e%e8%9b%8b-28/2024-06-08/
CATEGORIES:基礎入門,常態課_初級,課程
END:VEVENT
BEGIN:VEVENT
DTSTART;TZID=Asia/Shanghai:20240609T132000
DTEND;TZID=Asia/Shanghai:20240609T142000
DTSTAMP:20260422T012623
CREATED:20240523T100321Z
LAST-MODIFIED:20240523T100321Z
UID:10019622-1717939200-1717942800@www.dancesoul.com.tw
SUMMARY:兒童街舞-羿芃
DESCRIPTION:
URL:https://www.dancesoul.com.tw/schedule/%e5%85%92%e7%ab%a5%e8%a1%97%e8%88%9e-%e7%be%bf%e8%8a%83-6/2024-06-09/
CATEGORIES:兒童街舞,兒童課,課程
END:VEVENT
BEGIN:VEVENT
DTSTART;TZID=Asia/Shanghai:20240609T143000
DTEND;TZID=Asia/Shanghai:20240609T153000
DTSTAMP:20260422T012623
CREATED:20240523T101335Z
LAST-MODIFIED:20240523T101335Z
UID:10019627-1717943400-1717947000@www.dancesoul.com.tw
SUMMARY:兒童MV-(IVE - HEYA)-羿芃
DESCRIPTION:
URL:https://www.dancesoul.com.tw/schedule/%e5%85%92%e7%ab%a5mv-ive-heya-%e7%be%bf%e8%8a%83/2024-06-09/
CATEGORIES:兒童MV,兒童課,課程
END:VEVENT
BEGIN:VEVENT
DTSTART;TZID=Asia/Shanghai:20240609T154000
DTEND;TZID=Asia/Shanghai:20240609T164000
DTSTAMP:20260422T012623
CREATED:20240523T101428Z
LAST-MODIFIED:20240523T101428Z
UID:10019632-1717947600-1717951200@www.dancesoul.com.tw
SUMMARY:兒童街舞-傘傘
DESCRIPTION:
URL:https://www.dancesoul.com.tw/schedule/%e5%85%92%e7%ab%a5%e8%a1%97%e8%88%9e-%e5%82%98%e5%82%98-39/2024-06-09/
CATEGORIES:兒童街舞,兒童課,課程
END:VEVENT
BEGIN:VEVENT
DTSTART;TZID=Asia/Shanghai:20240609T165000
DTEND;TZID=Asia/Shanghai:20240609T175000
DTSTAMP:20260422T012623
CREATED:20240523T101700Z
LAST-MODIFIED:20240611T075853Z
UID:10019710-1717951800-1717955400@www.dancesoul.com.tw
SUMMARY:MV-(aespa - Supernova)-瑜庭
DESCRIPTION:
URL:https://www.dancesoul.com.tw/schedule/mv-aespa-supernova-%e7%91%9c%e5%ba%ad/2024-06-09/
CATEGORIES:MV課,課程
END:VEVENT
BEGIN:VEVENT
DTSTART;TZID=Asia/Shanghai:20240609T180000
DTEND;TZID=Asia/Shanghai:20240609T190000
DTSTAMP:20260422T012623
CREATED:20240523T101857Z
LAST-MODIFIED:20240523T101857Z
UID:10019642-1717956000-1717959600@www.dancesoul.com.tw
SUMMARY:Afro Style-聖恩
DESCRIPTION:
URL:https://www.dancesoul.com.tw/schedule/afro-style-%e8%81%96%e6%81%a9/2024-06-09/
CATEGORIES:Afro Style,Afro Style,常態課_一般,課程
END:VEVENT
BEGIN:VEVENT
DTSTART;TZID=Asia/Shanghai:20240609T191000
DTEND;TZID=Asia/Shanghai:20240609T201000
DTSTAMP:20260422T012623
CREATED:20240523T102137Z
LAST-MODIFIED:20240523T102137Z
UID:10019647-1717960200-1717963800@www.dancesoul.com.tw
SUMMARY:Hip Hop(初)-承翰
DESCRIPTION:
URL:https://www.dancesoul.com.tw/schedule/hip-hop%e5%88%9d-%e6%89%bf%e7%bf%b0-4/2024-06-09/
CATEGORIES:Hip Hop 初級,常態課_初級,課程
END:VEVENT
BEGIN:VEVENT
DTSTART;TZID=Asia/Shanghai:20240610T183000
DTEND;TZID=Asia/Shanghai:20240610T193000
DTSTAMP:20260422T012623
CREATED:20240523T102257Z
LAST-MODIFIED:20240523T102257Z
UID:10019652-1718044200-1718047800@www.dancesoul.com.tw
SUMMARY:Twerk(初)-碗公
DESCRIPTION:
URL:https://www.dancesoul.com.tw/schedule/twerk%e5%88%9d-%e7%a2%97%e5%85%ac-31/2024-06-10/
CATEGORIES:Twerk 初級,常態課_初級,課程
END:VEVENT
BEGIN:VEVENT
DTSTART;TZID=Asia/Shanghai:20240610T194000
DTEND;TZID=Asia/Shanghai:20240610T204000
DTSTAMP:20260422T012623
CREATED:20240523T102829Z
LAST-MODIFIED:20240523T102829Z
UID:10019656-1718048400-1718052000@www.dancesoul.com.tw
SUMMARY:Heels(初)-宋靜
DESCRIPTION:
URL:https://www.dancesoul.com.tw/schedule/heels%e5%88%9d-%e5%ae%8b%e9%9d%9c-29/2024-06-10/
CATEGORIES:Heels 初級,常態課_初級,課程
END:VEVENT
BEGIN:VEVENT
DTSTART;TZID=Asia/Shanghai:20240610T205000
DTEND;TZID=Asia/Shanghai:20240610T215000
DTSTAMP:20260422T012623
CREATED:20240523T102923Z
LAST-MODIFIED:20240523T102923Z
UID:10019660-1718052600-1718056200@www.dancesoul.com.tw
SUMMARY:Jazz Funk-魏小美
DESCRIPTION:
URL:https://www.dancesoul.com.tw/schedule/jazz-funk-%e9%ad%8f%e5%b0%8f%e7%be%8e-72/2024-06-10/
CATEGORIES:Jazz Funk,常態課_一般,課程
END:VEVENT
BEGIN:VEVENT
DTSTART;TZID=Asia/Shanghai:20240611T183000
DTEND;TZID=Asia/Shanghai:20240611T193000
DTSTAMP:20260422T012623
CREATED:20240523T103222Z
LAST-MODIFIED:20240523T103222Z
UID:10019664-1718130600-1718134200@www.dancesoul.com.tw
SUMMARY:Free Style(初)-俊宏
DESCRIPTION:
URL:https://www.dancesoul.com.tw/schedule/free-style%e5%88%9d-%e4%bf%8a%e5%ae%8f-21/2024-06-11/
CATEGORIES:Freestyle 初級,常態課_初級,課程
END:VEVENT
BEGIN:VEVENT
DTSTART;TZID=Asia/Shanghai:20240611T194000
DTEND;TZID=Asia/Shanghai:20240611T204000
DTSTAMP:20260422T012623
CREATED:20240523T103322Z
LAST-MODIFIED:20240523T103322Z
UID:10019668-1718134800-1718138400@www.dancesoul.com.tw
SUMMARY:Street Jazz-Denis
DESCRIPTION:
URL:https://www.dancesoul.com.tw/schedule/street-jazz-denis-45/2024-06-11/
CATEGORIES:STREET JAZZ,常態課_一般,課程
END:VEVENT
BEGIN:VEVENT
DTSTART;TZID=Asia/Shanghai:20240611T205000
DTEND;TZID=Asia/Shanghai:20240611T215000
DTSTAMP:20260422T012623
CREATED:20240523T103521Z
LAST-MODIFIED:20240523T103521Z
UID:10019672-1718139000-1718142600@www.dancesoul.com.tw
SUMMARY:Choreography-少麟
DESCRIPTION:
URL:https://www.dancesoul.com.tw/schedule/choreography-%e5%b0%91%e9%ba%9f-9/2024-06-11/
CATEGORIES:Choreography,常態課_一般,課程
END:VEVENT
BEGIN:VEVENT
DTSTART;TZID=Asia/Shanghai:20240612T183000
DTEND;TZID=Asia/Shanghai:20240612T193000
DTSTAMP:20260422T012623
CREATED:20240523T103716Z
LAST-MODIFIED:20240523T103716Z
UID:10019674-1718217000-1718220600@www.dancesoul.com.tw
SUMMARY:Street Jazz(初)-Kyle
DESCRIPTION:
URL:https://www.dancesoul.com.tw/schedule/street-jazz%e5%88%9d-kyle-13/2024-06-12/
CATEGORIES:STREET JAZZ 初級,常態課_初級,課程
END:VEVENT
BEGIN:VEVENT
DTSTART;TZID=Asia/Shanghai:20240612T194000
DTEND;TZID=Asia/Shanghai:20240612T204000
DTSTAMP:20260422T012623
CREATED:20240523T103814Z
LAST-MODIFIED:20240523T103814Z
UID:10019678-1718221200-1718224800@www.dancesoul.com.tw
SUMMARY:Street Jazz-Larry
DESCRIPTION:
URL:https://www.dancesoul.com.tw/schedule/street-jazz-larry-16/2024-06-12/
CATEGORIES:STREET JAZZ,常態課_一般,課程
END:VEVENT
END:VCALENDAR