BEGIN:VCALENDAR
VERSION:2.0
PRODID:-//DANCE SOUL 舞魂街舞學校 - ECPv6.15.18//NONSGML v1.0//EN
CALSCALE:GREGORIAN
METHOD:PUBLISH
X-ORIGINAL-URL:https://www.dancesoul.com.tw
X-WR-CALDESC:Events for DANCE SOUL 舞魂街舞學校
REFRESH-INTERVAL;VALUE=DURATION:PT1H
X-Robots-Tag:noindex
X-PUBLISHED-TTL:PT1H
BEGIN:VTIMEZONE
TZID:Asia/Shanghai
BEGIN:STANDARD
TZOFFSETFROM:+0800
TZOFFSETTO:+0800
TZNAME:CST
DTSTART:20230101T000000
END:STANDARD
END:VTIMEZONE
BEGIN:VEVENT
DTSTART;TZID=Asia/Shanghai:20240809T150000
DTEND;TZID=Asia/Shanghai:20240809T160000
DTSTAMP:20260421T163510
CREATED:20240726T113004Z
LAST-MODIFIED:20240726T113004Z
UID:10020001-1723215600-1723219200@www.dancesoul.com.tw
SUMMARY:兒童MV-(BABYMONSTER - FOREVER)-昀珊
DESCRIPTION:
URL:https://www.dancesoul.com.tw/schedule/%e5%85%92%e7%ab%a5mv-babymonster-forever-%e6%98%80%e7%8f%8a/2024-08-09/
CATEGORIES:兒童MV,兒童課,課程
END:VEVENT
BEGIN:VEVENT
DTSTART;TZID=Asia/Shanghai:20240809T161000
DTEND;TZID=Asia/Shanghai:20240809T171000
DTSTAMP:20260421T163510
CREATED:20240726T121428Z
LAST-MODIFIED:20240726T121428Z
UID:10020094-1723219800-1723223400@www.dancesoul.com.tw
SUMMARY:Jazz Funk(初)-Larry
DESCRIPTION:
URL:https://www.dancesoul.com.tw/schedule/jazz-funk%e5%88%9d-larry-4/2024-08-09/
CATEGORIES:Jazz Funk 初級,常態課_初級,課程
END:VEVENT
BEGIN:VEVENT
DTSTART;TZID=Asia/Shanghai:20240809T172000
DTEND;TZID=Asia/Shanghai:20240809T182000
DTSTAMP:20260421T163510
CREATED:20240726T121516Z
LAST-MODIFIED:20240726T121516Z
UID:10020098-1723224000-1723227600@www.dancesoul.com.tw
SUMMARY:Choreography-達達
DESCRIPTION:
URL:https://www.dancesoul.com.tw/schedule/choreography-%e9%81%94%e9%81%94-2/2024-08-09/
CATEGORIES:Choreography,常態課_一般,課程
END:VEVENT
BEGIN:VEVENT
DTSTART;TZID=Asia/Shanghai:20240809T183000
DTEND;TZID=Asia/Shanghai:20240809T193000
DTSTAMP:20260421T163510
CREATED:20240726T121637Z
LAST-MODIFIED:20240726T121637Z
UID:10020102-1723228200-1723231800@www.dancesoul.com.tw
SUMMARY:Street Jazz(初)-Cen妹
DESCRIPTION:
URL:https://www.dancesoul.com.tw/schedule/street-jazz%e5%88%9d-cen%e5%a6%b9-34/2024-08-09/
CATEGORIES:STREET JAZZ 初級,常態課_初級,課程
END:VEVENT
BEGIN:VEVENT
DTSTART;TZID=Asia/Shanghai:20240809T194000
DTEND;TZID=Asia/Shanghai:20240809T204000
DTSTAMP:20260421T163510
CREATED:20240726T121727Z
LAST-MODIFIED:20240726T121727Z
UID:10020107-1723232400-1723236000@www.dancesoul.com.tw
SUMMARY:Hip Hop(初)-佐佐
DESCRIPTION:
URL:https://www.dancesoul.com.tw/schedule/hip-hop%e5%88%9d-%e4%bd%90%e4%bd%90-13/2024-08-09/
CATEGORIES:Hip Hop 初級,常態課_初級,課程
END:VEVENT
BEGIN:VEVENT
DTSTART;TZID=Asia/Shanghai:20240809T205000
DTEND;TZID=Asia/Shanghai:20240809T215000
DTSTAMP:20260421T163510
CREATED:20240726T121850Z
LAST-MODIFIED:20240726T121850Z
UID:10020112-1723236600-1723240200@www.dancesoul.com.tw
SUMMARY:Jazz Funk-鈴鐺
DESCRIPTION:
URL:https://www.dancesoul.com.tw/schedule/jazz-funk-%e9%88%b4%e9%90%ba-21/2024-08-09/
CATEGORIES:Jazz Funk,常態課_一般,課程
END:VEVENT
BEGIN:VEVENT
DTSTART;TZID=Asia/Shanghai:20240810T132000
DTEND;TZID=Asia/Shanghai:20240810T142000
DTSTAMP:20260421T163510
CREATED:20240726T105755Z
LAST-MODIFIED:20240726T105755Z
UID:10019934-1723296000-1723299600@www.dancesoul.com.tw
SUMMARY:兒童街舞-薇臻
DESCRIPTION:
URL:https://www.dancesoul.com.tw/schedule/%e5%85%92%e7%ab%a5%e8%a1%97%e8%88%9e-%e8%96%87%e8%87%bb-9/2024-08-10/
CATEGORIES:兒童街舞,兒童課,課程
END:VEVENT
BEGIN:VEVENT
DTSTART;TZID=Asia/Shanghai:20240810T143000
DTEND;TZID=Asia/Shanghai:20240810T153000
DTSTAMP:20260421T163510
CREATED:20240729T055037Z
LAST-MODIFIED:20240729T055037Z
UID:10020117-1723300200-1723303800@www.dancesoul.com.tw
SUMMARY:兒童MV-(LISA - ROCKSTAR)-薇臻
DESCRIPTION:
URL:https://www.dancesoul.com.tw/schedule/%e5%85%92%e7%ab%a5mv-lisa-rockstar-%e8%96%87%e8%87%bb/2024-08-10/
CATEGORIES:兒童MV,兒童課,課程
END:VEVENT
BEGIN:VEVENT
DTSTART;TZID=Asia/Shanghai:20240810T154000
DTEND;TZID=Asia/Shanghai:20240810T164000
DTSTAMP:20260421T163510
CREATED:20240726T110003Z
LAST-MODIFIED:20240726T110003Z
UID:10019939-1723304400-1723308000@www.dancesoul.com.tw
SUMMARY:兒童基礎街舞-傘傘
DESCRIPTION:
URL:https://www.dancesoul.com.tw/schedule/%e5%85%92%e7%ab%a5%e5%9f%ba%e7%a4%8e%e8%a1%97%e8%88%9e-%e5%82%98%e5%82%98-2/2024-08-10/
CATEGORIES:兒童基礎街舞,兒童課,課程
END:VEVENT
BEGIN:VEVENT
DTSTART;TZID=Asia/Shanghai:20240810T165000
DTEND;TZID=Asia/Shanghai:20240810T175000
DTSTAMP:20260421T163510
CREATED:20240726T110157Z
LAST-MODIFIED:20240726T110157Z
UID:10019944-1723308600-1723312200@www.dancesoul.com.tw
SUMMARY:MV-(KISS OF LIFE - Sticky)-怡妏
DESCRIPTION:
URL:https://www.dancesoul.com.tw/schedule/mv-kiss-of-life-sticky-%e6%80%a1%e5%a6%8f/2024-08-10/
CATEGORIES:MV課,課程
END:VEVENT
BEGIN:VEVENT
DTSTART;TZID=Asia/Shanghai:20240810T180000
DTEND;TZID=Asia/Shanghai:20240810T190000
DTSTAMP:20260421T163510
CREATED:20240726T110259Z
LAST-MODIFIED:20240726T110259Z
UID:10019949-1723312800-1723316400@www.dancesoul.com.tw
SUMMARY:Popping-紀威
DESCRIPTION:
URL:https://www.dancesoul.com.tw/schedule/popping-%e7%b4%80%e5%a8%81-43/2024-08-10/
CATEGORIES:Poppin,常態課_一般,課程
END:VEVENT
BEGIN:VEVENT
DTSTART;TZID=Asia/Shanghai:20240810T191000
DTEND;TZID=Asia/Shanghai:20240810T201000
DTSTAMP:20260421T163510
CREATED:20240726T110428Z
LAST-MODIFIED:20240726T110428Z
UID:10019954-1723317000-1723320600@www.dancesoul.com.tw
SUMMARY:Choreography(初)-無盡
DESCRIPTION:
URL:https://www.dancesoul.com.tw/schedule/choreography%e5%88%9d-%e7%84%a1%e7%9b%a1-3/2024-08-10/
CATEGORIES:Choreography 初級,常態課_初級,課程
END:VEVENT
BEGIN:VEVENT
DTSTART;TZID=Asia/Shanghai:20240810T202000
DTEND;TZID=Asia/Shanghai:20240810T212000
DTSTAMP:20260421T163510
CREATED:20240726T110529Z
LAST-MODIFIED:20240726T110529Z
UID:10019959-1723321200-1723324800@www.dancesoul.com.tw
SUMMARY:基礎入門-雞蛋
DESCRIPTION:
URL:https://www.dancesoul.com.tw/schedule/%e5%9f%ba%e7%a4%8e%e5%85%a5%e9%96%80-%e9%9b%9e%e8%9b%8b-30/2024-08-10/
CATEGORIES:基礎入門,常態課_初級,課程
END:VEVENT
BEGIN:VEVENT
DTSTART;TZID=Asia/Shanghai:20240811T132000
DTEND;TZID=Asia/Shanghai:20240811T142000
DTSTAMP:20260421T163510
CREATED:20240726T110716Z
LAST-MODIFIED:20240726T110716Z
UID:10019964-1723382400-1723386000@www.dancesoul.com.tw
SUMMARY:兒童街舞-羿芃
DESCRIPTION:
URL:https://www.dancesoul.com.tw/schedule/%e5%85%92%e7%ab%a5%e8%a1%97%e8%88%9e-%e7%be%bf%e8%8a%83-8/2024-08-11/
CATEGORIES:兒童街舞,兒童課,課程
END:VEVENT
BEGIN:VEVENT
DTSTART;TZID=Asia/Shanghai:20240811T143000
DTEND;TZID=Asia/Shanghai:20240811T153000
DTSTAMP:20260421T163510
CREATED:20240726T111524Z
LAST-MODIFIED:20240726T111524Z
UID:10019968-1723386600-1723390200@www.dancesoul.com.tw
SUMMARY:兒童MV-((G)I-DLE - Klaxon)-羿芃
DESCRIPTION:
URL:https://www.dancesoul.com.tw/schedule/%e5%85%92%e7%ab%a5mv-gi-dle-klaxon-%e7%be%bf%e8%8a%83/2024-08-11/
CATEGORIES:兒童MV,兒童課,課程
END:VEVENT
BEGIN:VEVENT
DTSTART;TZID=Asia/Shanghai:20240811T154000
DTEND;TZID=Asia/Shanghai:20240811T164000
DTSTAMP:20260421T163510
CREATED:20240726T111702Z
LAST-MODIFIED:20240726T111702Z
UID:10019972-1723390800-1723394400@www.dancesoul.com.tw
SUMMARY:兒童 Street Jazz-傘傘
DESCRIPTION:
URL:https://www.dancesoul.com.tw/schedule/%e5%85%92%e7%ab%a5-street-jazz-%e5%82%98%e5%82%98-2/2024-08-11/
CATEGORIES:兒童 Street Jazz,兒童課,課程
END:VEVENT
BEGIN:VEVENT
DTSTART;TZID=Asia/Shanghai:20240811T165000
DTEND;TZID=Asia/Shanghai:20240811T175000
DTSTAMP:20260421T163510
CREATED:20240726T111812Z
LAST-MODIFIED:20240726T111812Z
UID:10019976-1723395000-1723398600@www.dancesoul.com.tw
SUMMARY:MV-(LISA - ROCKSTAR)-瑜庭
DESCRIPTION:
URL:https://www.dancesoul.com.tw/schedule/mv-lisa-rockstar-%e7%91%9c%e5%ba%ad/2024-08-11/
CATEGORIES:MV課,課程
END:VEVENT
BEGIN:VEVENT
DTSTART;TZID=Asia/Shanghai:20240811T180000
DTEND;TZID=Asia/Shanghai:20240811T190000
DTSTAMP:20260421T163510
CREATED:20240726T112005Z
LAST-MODIFIED:20240726T112330Z
UID:10019989-1723399200-1723402800@www.dancesoul.com.tw
SUMMARY:Jazz Funk-姿昀
DESCRIPTION:
URL:https://www.dancesoul.com.tw/schedule/jazz-funk-%e5%a7%bf%e6%98%80/2024-08-11/
CATEGORIES:Jazz Funk,常態課_一般,課程
END:VEVENT
BEGIN:VEVENT
DTSTART;TZID=Asia/Shanghai:20240811T191000
DTEND;TZID=Asia/Shanghai:20240811T201000
DTSTAMP:20260421T163510
CREATED:20240726T112141Z
LAST-MODIFIED:20240726T112141Z
UID:10019985-1723403400-1723407000@www.dancesoul.com.tw
SUMMARY:Hip Hop(初)-承翰
DESCRIPTION:
URL:https://www.dancesoul.com.tw/schedule/hip-hop%e5%88%9d-%e6%89%bf%e7%bf%b0-6/2024-08-11/
CATEGORIES:Hip Hop 初級,常態課_初級,課程
END:VEVENT
BEGIN:VEVENT
DTSTART;TZID=Asia/Shanghai:20240812T150000
DTEND;TZID=Asia/Shanghai:20240812T160000
DTSTAMP:20260421T163510
CREATED:20240726T112653Z
LAST-MODIFIED:20240726T112653Z
UID:10019993-1723474800-1723478400@www.dancesoul.com.tw
SUMMARY:兒童MV-(STAYC - Cheeky Icy Thang)-昀珊
DESCRIPTION:
URL:https://www.dancesoul.com.tw/schedule/%e5%85%92%e7%ab%a5mv-stayc-cheeky-icy-thang-%e6%98%80%e7%8f%8a/2024-08-12/
CATEGORIES:兒童MV,兒童課,課程
END:VEVENT
BEGIN:VEVENT
DTSTART;TZID=Asia/Shanghai:20240812T161000
DTEND;TZID=Asia/Shanghai:20240812T171000
DTSTAMP:20260421T163510
CREATED:20240726T114237Z
LAST-MODIFIED:20240726T114237Z
UID:10020014-1723479000-1723482600@www.dancesoul.com.tw
SUMMARY:Street Jazz(初)-Kyle
DESCRIPTION:
URL:https://www.dancesoul.com.tw/schedule/street-jazz%e5%88%9d-kyle-16/2024-08-12/
CATEGORIES:STREET JAZZ 初級,常態課_初級,課程
END:VEVENT
BEGIN:VEVENT
DTSTART;TZID=Asia/Shanghai:20240812T172000
DTEND;TZID=Asia/Shanghai:20240812T182000
DTSTAMP:20260421T163510
CREATED:20240726T114354Z
LAST-MODIFIED:20240726T114354Z
UID:10020018-1723483200-1723486800@www.dancesoul.com.tw
SUMMARY:Choreography-俊宏
DESCRIPTION:
URL:https://www.dancesoul.com.tw/schedule/choreography-%e4%bf%8a%e5%ae%8f-2/2024-08-12/
CATEGORIES:Choreography,常態課_一般
END:VEVENT
BEGIN:VEVENT
DTSTART;TZID=Asia/Shanghai:20240812T183000
DTEND;TZID=Asia/Shanghai:20240812T193000
DTSTAMP:20260421T163510
CREATED:20240726T114555Z
LAST-MODIFIED:20240726T114555Z
UID:10020022-1723487400-1723491000@www.dancesoul.com.tw
SUMMARY:Twerk(初)-碗公
DESCRIPTION:
URL:https://www.dancesoul.com.tw/schedule/twerk%e5%88%9d-%e7%a2%97%e5%85%ac-33/2024-08-12/
CATEGORIES:Twerk 初級,常態課_初級,課程
END:VEVENT
BEGIN:VEVENT
DTSTART;TZID=Asia/Shanghai:20240812T194000
DTEND;TZID=Asia/Shanghai:20240812T204000
DTSTAMP:20260421T163510
CREATED:20240726T114656Z
LAST-MODIFIED:20240726T114656Z
UID:10020026-1723491600-1723495200@www.dancesoul.com.tw
SUMMARY:Heels(初)-宋靜
DESCRIPTION:
URL:https://www.dancesoul.com.tw/schedule/heels%e5%88%9d-%e5%ae%8b%e9%9d%9c-31/2024-08-12/
CATEGORIES:Heels 初級,常態課_初級,課程
END:VEVENT
BEGIN:VEVENT
DTSTART;TZID=Asia/Shanghai:20240812T205000
DTEND;TZID=Asia/Shanghai:20240812T215000
DTSTAMP:20260421T163510
CREATED:20240726T114939Z
LAST-MODIFIED:20240726T114939Z
UID:10020030-1723495800-1723499400@www.dancesoul.com.tw
SUMMARY:Jazz Funk-魏小美
DESCRIPTION:
URL:https://www.dancesoul.com.tw/schedule/jazz-funk-%e9%ad%8f%e5%b0%8f%e7%be%8e-74/2024-08-12/
CATEGORIES:Jazz Funk,常態課_一般,課程
END:VEVENT
BEGIN:VEVENT
DTSTART;TZID=Asia/Shanghai:20240813T150000
DTEND;TZID=Asia/Shanghai:20240813T160000
DTSTAMP:20260421T163510
CREATED:20240726T113636Z
LAST-MODIFIED:20240730T075712Z
UID:10020130-1723561200-1723564800@www.dancesoul.com.tw
SUMMARY:兒童MV-(BABYMONSTER - FOREVER)-薇臻
DESCRIPTION:
URL:https://www.dancesoul.com.tw/schedule/%e5%85%92%e7%ab%a5mv-babymonster-forever-%e8%96%87%e8%87%bb/2024-08-13/
CATEGORIES:兒童MV,兒童課,課程
END:VEVENT
BEGIN:VEVENT
DTSTART;TZID=Asia/Shanghai:20240813T161000
DTEND;TZID=Asia/Shanghai:20240813T171000
DTSTAMP:20260421T163510
CREATED:20240726T115336Z
LAST-MODIFIED:20240726T115336Z
UID:10020034-1723565400-1723569000@www.dancesoul.com.tw
SUMMARY:Waacking(初)-品后
DESCRIPTION:
URL:https://www.dancesoul.com.tw/schedule/waacking%e5%88%9d-%e5%93%81%e5%90%8e-6/2024-08-13/
CATEGORIES:Waacking 初級,常態課_初級,課程
END:VEVENT
BEGIN:VEVENT
DTSTART;TZID=Asia/Shanghai:20240813T172000
DTEND;TZID=Asia/Shanghai:20240813T182000
DTSTAMP:20260421T163511
CREATED:20240726T115640Z
LAST-MODIFIED:20240726T115640Z
UID:10020038-1723569600-1723573200@www.dancesoul.com.tw
SUMMARY:Hip Hop-子賢
DESCRIPTION:
URL:https://www.dancesoul.com.tw/schedule/hip-hop-%e5%ad%90%e8%b3%a2-2/2024-08-13/
CATEGORIES:Hip Hop,常態課_一般,課程
END:VEVENT
BEGIN:VEVENT
DTSTART;TZID=Asia/Shanghai:20240813T183000
DTEND;TZID=Asia/Shanghai:20240813T193000
DTSTAMP:20260421T163511
CREATED:20240726T115736Z
LAST-MODIFIED:20240726T115736Z
UID:10020042-1723573800-1723577400@www.dancesoul.com.tw
SUMMARY:Free Style(初)-俊宏
DESCRIPTION:
URL:https://www.dancesoul.com.tw/schedule/free-style%e5%88%9d-%e4%bf%8a%e5%ae%8f-23/2024-08-13/
CATEGORIES:Freestyle 初級,常態課_初級,課程
END:VEVENT
BEGIN:VEVENT
DTSTART;TZID=Asia/Shanghai:20240813T194000
DTEND;TZID=Asia/Shanghai:20240813T204000
DTSTAMP:20260421T163511
CREATED:20240726T115955Z
LAST-MODIFIED:20240726T115955Z
UID:10020046-1723578000-1723581600@www.dancesoul.com.tw
SUMMARY:Street Jazz-Denis
DESCRIPTION:
URL:https://www.dancesoul.com.tw/schedule/street-jazz-denis-47/2024-08-13/
CATEGORIES:STREET JAZZ,常態課_一般,課程
END:VEVENT
END:VCALENDAR