BEGIN:VCALENDAR
VERSION:2.0
PRODID:-//DANCE SOUL 舞魂街舞學校 - ECPv6.15.18//NONSGML v1.0//EN
CALSCALE:GREGORIAN
METHOD:PUBLISH
X-ORIGINAL-URL:https://www.dancesoul.com.tw
X-WR-CALDESC:Events for DANCE SOUL 舞魂街舞學校
REFRESH-INTERVAL;VALUE=DURATION:PT1H
X-Robots-Tag:noindex
X-PUBLISHED-TTL:PT1H
BEGIN:VTIMEZONE
TZID:Asia/Shanghai
BEGIN:STANDARD
TZOFFSETFROM:+0800
TZOFFSETTO:+0800
TZNAME:CST
DTSTART:20230101T000000
END:STANDARD
END:VTIMEZONE
BEGIN:VEVENT
DTSTART;TZID=Asia/Shanghai:20240927T183000
DTEND;TZID=Asia/Shanghai:20240927T193000
DTSTAMP:20260421T021443
CREATED:20240829T093605Z
LAST-MODIFIED:20240829T093605Z
UID:10020247-1727461800-1727465400@www.dancesoul.com.tw
SUMMARY:Street Jazz(初)-Cen妹
DESCRIPTION:
URL:https://www.dancesoul.com.tw/schedule/street-jazz%e5%88%9d-cen%e5%a6%b9-35/2024-09-27/
CATEGORIES:STREET JAZZ 初級,常態課_初級,課程
END:VEVENT
BEGIN:VEVENT
DTSTART;TZID=Asia/Shanghai:20240927T194000
DTEND;TZID=Asia/Shanghai:20240927T204000
DTSTAMP:20260421T021443
CREATED:20240829T093809Z
LAST-MODIFIED:20240829T093809Z
UID:10020251-1727466000-1727469600@www.dancesoul.com.tw
SUMMARY:Hip Hop(初)-佐佐
DESCRIPTION:
URL:https://www.dancesoul.com.tw/schedule/hip-hop%e5%88%9d-%e4%bd%90%e4%bd%90-14/2024-09-27/
CATEGORIES:Hip Hop 初級,常態課_初級,課程
END:VEVENT
BEGIN:VEVENT
DTSTART;TZID=Asia/Shanghai:20240927T205000
DTEND;TZID=Asia/Shanghai:20240927T215000
DTSTAMP:20260421T021443
CREATED:20240829T093903Z
LAST-MODIFIED:20240829T093903Z
UID:10020255-1727470200-1727473800@www.dancesoul.com.tw
SUMMARY:Jazz Funk-鈴鐺
DESCRIPTION:
URL:https://www.dancesoul.com.tw/schedule/jazz-funk-%e9%88%b4%e9%90%ba-22/2024-09-27/
CATEGORIES:Jazz Funk,常態課_一般,課程
END:VEVENT
BEGIN:VEVENT
DTSTART;TZID=Asia/Shanghai:20240928T132000
DTEND;TZID=Asia/Shanghai:20240928T142000
DTSTAMP:20260421T021443
CREATED:20240829T072832Z
LAST-MODIFIED:20240829T072832Z
UID:10020136-1727529600-1727533200@www.dancesoul.com.tw
SUMMARY:兒童街舞-薇臻
DESCRIPTION:
URL:https://www.dancesoul.com.tw/schedule/%e5%85%92%e7%ab%a5%e8%a1%97%e8%88%9e-%e8%96%87%e8%87%bb-10/2024-09-28/
CATEGORIES:兒童街舞,兒童課,課程
END:VEVENT
BEGIN:VEVENT
DTSTART;TZID=Asia/Shanghai:20240928T143000
DTEND;TZID=Asia/Shanghai:20240928T153000
DTSTAMP:20260421T021443
CREATED:20240914T083328Z
LAST-MODIFIED:20240914T083328Z
UID:10020307-1727533800-1727537400@www.dancesoul.com.tw
SUMMARY:兒童MV-(當日Dance Soul IG限動公佈歌曲)-鈴鐺代課
DESCRIPTION:
URL:https://www.dancesoul.com.tw/schedule/%e5%85%92%e7%ab%a5mv-%e7%95%b6%e6%97%a5dance-soul-ig%e9%99%90%e5%8b%95%e5%85%ac%e4%bd%88%e6%ad%8c%e6%9b%b2-%e9%88%b4%e9%90%ba%e4%bb%a3%e8%aa%b2/
CATEGORIES:兒童MV,兒童課
END:VEVENT
BEGIN:VEVENT
DTSTART;TZID=Asia/Shanghai:20240928T154000
DTEND;TZID=Asia/Shanghai:20240928T164000
DTSTAMP:20260421T021443
CREATED:20240829T080200Z
LAST-MODIFIED:20240829T080200Z
UID:10020144-1727538000-1727541600@www.dancesoul.com.tw
SUMMARY:兒童基礎街舞-傘傘
DESCRIPTION:
URL:https://www.dancesoul.com.tw/schedule/%e5%85%92%e7%ab%a5%e5%9f%ba%e7%a4%8e%e8%a1%97%e8%88%9e-%e5%82%98%e5%82%98-3/2024-09-28/
CATEGORIES:兒童基礎街舞,兒童課,課程
END:VEVENT
BEGIN:VEVENT
DTSTART;TZID=Asia/Shanghai:20240928T165000
DTEND;TZID=Asia/Shanghai:20240928T175000
DTSTAMP:20260421T021443
CREATED:20240829T080521Z
LAST-MODIFIED:20240829T080521Z
UID:10020148-1727542200-1727545800@www.dancesoul.com.tw
SUMMARY:MV-(KARINA - UP)-牛牛
DESCRIPTION:
URL:https://www.dancesoul.com.tw/schedule/mv-karina-up-%e7%89%9b%e7%89%9b/2024-09-28/
CATEGORIES:MV課,課程
END:VEVENT
BEGIN:VEVENT
DTSTART;TZID=Asia/Shanghai:20240928T180000
DTEND;TZID=Asia/Shanghai:20240928T190000
DTSTAMP:20260421T021443
CREATED:20240829T080620Z
LAST-MODIFIED:20240829T080620Z
UID:10020152-1727546400-1727550000@www.dancesoul.com.tw
SUMMARY:Popping-紀威
DESCRIPTION:
URL:https://www.dancesoul.com.tw/schedule/popping-%e7%b4%80%e5%a8%81-44/2024-09-28/
CATEGORIES:Poppin,常態課_一般,課程
END:VEVENT
BEGIN:VEVENT
DTSTART;TZID=Asia/Shanghai:20240928T191000
DTEND;TZID=Asia/Shanghai:20240928T201000
DTSTAMP:20260421T021443
CREATED:20240829T080759Z
LAST-MODIFIED:20240829T080759Z
UID:10020156-1727550600-1727554200@www.dancesoul.com.tw
SUMMARY:Choreography(初)-無盡
DESCRIPTION:
URL:https://www.dancesoul.com.tw/schedule/choreography%e5%88%9d-%e7%84%a1%e7%9b%a1-4/2024-09-28/
CATEGORIES:Choreography 初級,常態課_初級,課程
END:VEVENT
BEGIN:VEVENT
DTSTART;TZID=Asia/Shanghai:20240928T202000
DTEND;TZID=Asia/Shanghai:20240928T212000
DTSTAMP:20260421T021443
CREATED:20240829T080905Z
LAST-MODIFIED:20240829T080905Z
UID:10020160-1727554800-1727558400@www.dancesoul.com.tw
SUMMARY:基礎入門-雞蛋
DESCRIPTION:
URL:https://www.dancesoul.com.tw/schedule/%e5%9f%ba%e7%a4%8e%e5%85%a5%e9%96%80-%e9%9b%9e%e8%9b%8b-31/2024-09-28/
CATEGORIES:基礎入門,常態課_初級,課程
END:VEVENT
BEGIN:VEVENT
DTSTART;TZID=Asia/Shanghai:20240929T132000
DTEND;TZID=Asia/Shanghai:20240929T142000
DTSTAMP:20260421T021443
CREATED:20240829T081729Z
LAST-MODIFIED:20240829T081729Z
UID:10020165-1727616000-1727619600@www.dancesoul.com.tw
SUMMARY:兒童街舞-羿芃
DESCRIPTION:
URL:https://www.dancesoul.com.tw/schedule/%e5%85%92%e7%ab%a5%e8%a1%97%e8%88%9e-%e7%be%bf%e8%8a%83-9/2024-09-29/
CATEGORIES:兒童街舞,兒童課,課程
END:VEVENT
BEGIN:VEVENT
DTSTART;TZID=Asia/Shanghai:20240929T143000
DTEND;TZID=Asia/Shanghai:20240929T153000
DTSTAMP:20260421T021443
CREATED:20240829T083116Z
LAST-MODIFIED:20240829T083116Z
UID:10020170-1727620200-1727623800@www.dancesoul.com.tw
SUMMARY:兒童MV-(XG - SOMETHING AIN'T RIGHT)-羿芃
DESCRIPTION:
URL:https://www.dancesoul.com.tw/schedule/%e5%85%92%e7%ab%a5mv-xg-something-aint-right-%e7%be%bf%e8%8a%83/2024-09-29/
CATEGORIES:兒童MV,兒童課,課程
END:VEVENT
BEGIN:VEVENT
DTSTART;TZID=Asia/Shanghai:20240929T154000
DTEND;TZID=Asia/Shanghai:20240929T164000
DTSTAMP:20260421T021443
CREATED:20240829T083425Z
LAST-MODIFIED:20240829T083425Z
UID:10020175-1727624400-1727628000@www.dancesoul.com.tw
SUMMARY:兒童 Street Jazz-羿芃
DESCRIPTION:
URL:https://www.dancesoul.com.tw/schedule/%e5%85%92%e7%ab%a5-street-jazz-%e7%be%bf%e8%8a%83/2024-09-29/
CATEGORIES:兒童 Street Jazz,兒童課,課程
END:VEVENT
BEGIN:VEVENT
DTSTART;TZID=Asia/Shanghai:20240929T165000
DTEND;TZID=Asia/Shanghai:20240929T175000
DTSTAMP:20260421T021443
CREATED:20240829T083535Z
LAST-MODIFIED:20240829T083535Z
UID:10020180-1727628600-1727632200@www.dancesoul.com.tw
SUMMARY:MV-(KATSEYE - Touch)-瑜庭
DESCRIPTION:
URL:https://www.dancesoul.com.tw/schedule/mv-katseye-touch-%e7%91%9c%e5%ba%ad/2024-09-29/
CATEGORIES:MV課,課程
END:VEVENT
BEGIN:VEVENT
DTSTART;TZID=Asia/Shanghai:20240929T180000
DTEND;TZID=Asia/Shanghai:20240929T190000
DTSTAMP:20260421T021443
CREATED:20240829T083705Z
LAST-MODIFIED:20240829T083705Z
UID:10020185-1727632800-1727636400@www.dancesoul.com.tw
SUMMARY:Jazz Funk-姿昀
DESCRIPTION:
URL:https://www.dancesoul.com.tw/schedule/jazz-funk-%e5%a7%bf%e6%98%80-2/2024-09-29/
CATEGORIES:Jazz Funk,常態課_一般,課程
END:VEVENT
BEGIN:VEVENT
DTSTART;TZID=Asia/Shanghai:20240929T191000
DTEND;TZID=Asia/Shanghai:20240929T201000
DTSTAMP:20260421T021443
CREATED:20240829T083808Z
LAST-MODIFIED:20240829T083808Z
UID:10020191-1727637000-1727640600@www.dancesoul.com.tw
SUMMARY:Hip Hop(初)-承翰
DESCRIPTION:
URL:https://www.dancesoul.com.tw/schedule/hip-hop%e5%88%9d-%e6%89%bf%e7%bf%b0-7/2024-09-29/
CATEGORIES:Hip Hop 初級,常態課_初級,課程
END:VEVENT
BEGIN:VEVENT
DTSTART;TZID=Asia/Shanghai:20240930T183000
DTEND;TZID=Asia/Shanghai:20240930T193000
DTSTAMP:20260421T021443
CREATED:20240829T084019Z
LAST-MODIFIED:20240829T084019Z
UID:10020196-1727721000-1727724600@www.dancesoul.com.tw
SUMMARY:Twerk(初)-碗公
DESCRIPTION:
URL:https://www.dancesoul.com.tw/schedule/twerk%e5%88%9d-%e7%a2%97%e5%85%ac-34/2024-09-30/
CATEGORIES:Twerk 初級,常態課_初級,課程
END:VEVENT
BEGIN:VEVENT
DTSTART;TZID=Asia/Shanghai:20240930T194000
DTEND;TZID=Asia/Shanghai:20240930T204000
DTSTAMP:20260421T021443
CREATED:20240829T084121Z
LAST-MODIFIED:20240829T084121Z
UID:10020201-1727725200-1727728800@www.dancesoul.com.tw
SUMMARY:Heels(初)-宋靜
DESCRIPTION:
URL:https://www.dancesoul.com.tw/schedule/heels%e5%88%9d-%e5%ae%8b%e9%9d%9c-32/2024-09-30/
CATEGORIES:Heels 初級,常態課_初級,課程
END:VEVENT
BEGIN:VEVENT
DTSTART;TZID=Asia/Shanghai:20240930T205000
DTEND;TZID=Asia/Shanghai:20240930T215000
DTSTAMP:20260421T021443
CREATED:20240829T084306Z
LAST-MODIFIED:20240829T084306Z
UID:10020206-1727729400-1727733000@www.dancesoul.com.tw
SUMMARY:Jazz Funk-魏小美
DESCRIPTION:
URL:https://www.dancesoul.com.tw/schedule/jazz-funk-%e9%ad%8f%e5%b0%8f%e7%be%8e-75/2024-09-30/
CATEGORIES:Jazz Funk,常態課_一般,課程
END:VEVENT
BEGIN:VEVENT
DTSTART;TZID=Asia/Shanghai:20241001T183000
DTEND;TZID=Asia/Shanghai:20241001T193000
DTSTAMP:20260421T021443
CREATED:20241010T084745Z
LAST-MODIFIED:20241010T084745Z
UID:10020471-1727807400-1727811000@www.dancesoul.com.tw
SUMMARY:Free Style(初)-俊宏
DESCRIPTION:
URL:https://www.dancesoul.com.tw/schedule/free-style%e5%88%9d-%e4%bf%8a%e5%ae%8f-25/2024-10-01/
CATEGORIES:Freestyle 初級,常態課_初級,課程
END:VEVENT
BEGIN:VEVENT
DTSTART;TZID=Asia/Shanghai:20241001T194000
DTEND;TZID=Asia/Shanghai:20241001T204000
DTSTAMP:20260421T021443
CREATED:20240924T084909Z
LAST-MODIFIED:20240924T084909Z
UID:10020375-1727811600-1727815200@www.dancesoul.com.tw
SUMMARY:Street Jazz-Denis
DESCRIPTION:
URL:https://www.dancesoul.com.tw/schedule/street-jazz-denis-49/2024-10-01/
CATEGORIES:STREET JAZZ,常態課_一般,課程
END:VEVENT
BEGIN:VEVENT
DTSTART;TZID=Asia/Shanghai:20241002T183000
DTEND;TZID=Asia/Shanghai:20241002T193000
DTSTAMP:20260421T021443
CREATED:20240924T085154Z
LAST-MODIFIED:20240924T085154Z
UID:10020380-1727893800-1727897400@www.dancesoul.com.tw
SUMMARY:Street Jazz(初)-Kyle
DESCRIPTION:
URL:https://www.dancesoul.com.tw/schedule/street-jazz%e5%88%9d-kyle-19/2024-10-02/
CATEGORIES:STREET JAZZ 初級,常態課_初級,課程
END:VEVENT
BEGIN:VEVENT
DTSTART;TZID=Asia/Shanghai:20241002T194000
DTEND;TZID=Asia/Shanghai:20241002T204000
DTSTAMP:20260421T021443
CREATED:20240924T085245Z
LAST-MODIFIED:20240924T085245Z
UID:10020385-1727898000-1727901600@www.dancesoul.com.tw
SUMMARY:Street Jazz-Larry
DESCRIPTION:
URL:https://www.dancesoul.com.tw/schedule/street-jazz-larry-20/2024-10-02/
CATEGORIES:STREET JAZZ,常態課_一般,課程
END:VEVENT
BEGIN:VEVENT
DTSTART;TZID=Asia/Shanghai:20241002T205000
DTEND;TZID=Asia/Shanghai:20241002T215000
DTSTAMP:20260421T021443
CREATED:20240924T085420Z
LAST-MODIFIED:20240924T085420Z
UID:10020390-1727902200-1727905800@www.dancesoul.com.tw
SUMMARY:Free Style-承達
DESCRIPTION:
URL:https://www.dancesoul.com.tw/schedule/free-style-%e6%89%bf%e9%81%94-43/2024-10-02/
CATEGORIES:Freestyle,常態課_一般,課程
END:VEVENT
BEGIN:VEVENT
DTSTART;TZID=Asia/Shanghai:20241003T183000
DTEND;TZID=Asia/Shanghai:20241003T193000
DTSTAMP:20260421T021443
CREATED:20240924T085521Z
LAST-MODIFIED:20240924T085521Z
UID:10020395-1727980200-1727983800@www.dancesoul.com.tw
SUMMARY:Choreography-芭比
DESCRIPTION:
URL:https://www.dancesoul.com.tw/schedule/choreography-%e8%8a%ad%e6%af%94-26/2024-10-03/
CATEGORIES:Choreography,常態課_一般,課程
END:VEVENT
BEGIN:VEVENT
DTSTART;TZID=Asia/Shanghai:20241003T194000
DTEND;TZID=Asia/Shanghai:20241003T204000
DTSTAMP:20260421T021443
CREATED:20240924T085656Z
LAST-MODIFIED:20240924T085656Z
UID:10020400-1727984400-1727988000@www.dancesoul.com.tw
SUMMARY:Hip Hop-林彤
DESCRIPTION:
URL:https://www.dancesoul.com.tw/schedule/hip-hop-%e6%9e%97%e5%bd%a4-22/2024-10-03/
CATEGORIES:Hip Hop,常態課_一般,課程
END:VEVENT
BEGIN:VEVENT
DTSTART;TZID=Asia/Shanghai:20241003T205000
DTEND;TZID=Asia/Shanghai:20241003T215000
DTSTAMP:20260421T021443
CREATED:20240924T085817Z
LAST-MODIFIED:20240924T085817Z
UID:10020405-1727988600-1727992200@www.dancesoul.com.tw
SUMMARY:Afro Style-巴豪
DESCRIPTION:
URL:https://www.dancesoul.com.tw/schedule/afro-style-%e5%b7%b4%e8%b1%aa-5/2024-10-03/
CATEGORIES:Afro Style,常態課_一般,課程
END:VEVENT
BEGIN:VEVENT
DTSTART;TZID=Asia/Shanghai:20241004T183000
DTEND;TZID=Asia/Shanghai:20241004T193000
DTSTAMP:20260421T021443
CREATED:20240924T092640Z
LAST-MODIFIED:20240924T092640Z
UID:10020410-1728066600-1728070200@www.dancesoul.com.tw
SUMMARY:Street Jazz(初)-Cen妹
DESCRIPTION:
URL:https://www.dancesoul.com.tw/schedule/street-jazz%e5%88%9d-cen%e5%a6%b9-36/2024-10-04/
CATEGORIES:STREET JAZZ 初級,常態課_初級,課程
END:VEVENT
BEGIN:VEVENT
DTSTART;TZID=Asia/Shanghai:20241004T194000
DTEND;TZID=Asia/Shanghai:20241004T204000
DTSTAMP:20260421T021443
CREATED:20240924T092924Z
LAST-MODIFIED:20240924T092924Z
UID:10020414-1728070800-1728074400@www.dancesoul.com.tw
SUMMARY:Hip Hop(初)-佐佐
DESCRIPTION:
URL:https://www.dancesoul.com.tw/schedule/hip-hop%e5%88%9d-%e4%bd%90%e4%bd%90-15/2024-10-04/
CATEGORIES:Hip Hop 初級,常態課_初級,課程
END:VEVENT
BEGIN:VEVENT
DTSTART;TZID=Asia/Shanghai:20241004T205000
DTEND;TZID=Asia/Shanghai:20241004T215000
DTSTAMP:20260421T021443
CREATED:20240924T093551Z
LAST-MODIFIED:20240924T093551Z
UID:10020418-1728075000-1728078600@www.dancesoul.com.tw
SUMMARY:Jazz Funk-鈴鐺
DESCRIPTION:
URL:https://www.dancesoul.com.tw/schedule/jazz-funk-%e9%88%b4%e9%90%ba-23/2024-10-04/
CATEGORIES:Jazz Funk,常態課_一般,課程
END:VEVENT
END:VCALENDAR