BEGIN:VCALENDAR
VERSION:2.0
PRODID:-//DANCE SOUL 舞魂街舞學校 - ECPv6.15.18//NONSGML v1.0//EN
CALSCALE:GREGORIAN
METHOD:PUBLISH
X-ORIGINAL-URL:https://www.dancesoul.com.tw
X-WR-CALDESC:Events for DANCE SOUL 舞魂街舞學校
REFRESH-INTERVAL;VALUE=DURATION:PT1H
X-Robots-Tag:noindex
X-PUBLISHED-TTL:PT1H
BEGIN:VTIMEZONE
TZID:Asia/Shanghai
BEGIN:STANDARD
TZOFFSETFROM:+0800
TZOFFSETTO:+0800
TZNAME:CST
DTSTART:20270101T000000
END:STANDARD
END:VTIMEZONE
BEGIN:VEVENT
DTSTART;TZID=Asia/Shanghai:20280718T192500
DTEND;TZID=Asia/Shanghai:20280718T202500
DTSTAMP:20260422T194907
CREATED:20260327T083744Z
LAST-MODIFIED:20260327T083744Z
UID:10034363-1847561100-1847564700@www.dancesoul.com.tw
SUMMARY:Choreography-羅毅
DESCRIPTION:
URL:https://www.dancesoul.com.tw/schedule/choreography-%e7%be%85%e6%af%85-2-2/2028-07-18/
CATEGORIES:Choreography,常態課_一般,課程
END:VEVENT
BEGIN:VEVENT
DTSTART;TZID=Asia/Shanghai:20280718T202000
DTEND;TZID=Asia/Shanghai:20280718T212000
DTSTAMP:20260422T194907
CREATED:20250828T100203Z
LAST-MODIFIED:20250828T100203Z
UID:10024025-1847564400-1847568000@www.dancesoul.com.tw
SUMMARY:Free Style-俊宏
DESCRIPTION:
URL:https://www.dancesoul.com.tw/schedule/free-style-%e4%bf%8a%e5%ae%8f-29/2028-07-18/
CATEGORIES:Freestyle,常態課_一般,課程
END:VEVENT
BEGIN:VEVENT
DTSTART;TZID=Asia/Shanghai:20280718T213500
DTEND;TZID=Asia/Shanghai:20280718T223500
DTSTAMP:20260422T194907
CREATED:20260327T081822Z
LAST-MODIFIED:20260327T081932Z
UID:10032231-1847568900-1847572500@www.dancesoul.com.tw
SUMMARY:Hip Hop-承翰
DESCRIPTION:
URL:https://www.dancesoul.com.tw/schedule/hip-hop-%e6%89%bf%e7%bf%b0-2-3/2028-07-18/
CATEGORIES:Hip Hop,常態課_一般,課程
END:VEVENT
BEGIN:VEVENT
DTSTART;TZID=Asia/Shanghai:20280719T182000
DTEND;TZID=Asia/Shanghai:20280719T192000
DTSTAMP:20260422T194907
CREATED:20260327T082544Z
LAST-MODIFIED:20260327T082544Z
UID:10033044-1847643600-1847647200@www.dancesoul.com.tw
SUMMARY:Choreography(初)-無盡
DESCRIPTION:
URL:https://www.dancesoul.com.tw/schedule/choreography%e5%88%9d-%e7%84%a1%e7%9b%a1-14-2/2028-07-19/
CATEGORIES:Choreography 初級,常態課_初級,課程
END:VEVENT
BEGIN:VEVENT
DTSTART;TZID=Asia/Shanghai:20280719T192500
DTEND;TZID=Asia/Shanghai:20280719T202500
DTSTAMP:20260422T194907
CREATED:20250828T102504Z
LAST-MODIFIED:20250828T102504Z
UID:10024808-1847647500-1847651100@www.dancesoul.com.tw
SUMMARY:Street Jazz-Larry
DESCRIPTION:
URL:https://www.dancesoul.com.tw/schedule/street-jazz-larry-30/2028-07-19/
CATEGORIES:STREET JAZZ,常態課_一般,課程
END:VEVENT
BEGIN:VEVENT
DTSTART;TZID=Asia/Shanghai:20280719T203000
DTEND;TZID=Asia/Shanghai:20280719T213000
DTSTAMP:20260422T194907
CREATED:20250828T103540Z
LAST-MODIFIED:20250828T103540Z
UID:10025069-1847651400-1847655000@www.dancesoul.com.tw
SUMMARY:Street Jazz-Kyle
DESCRIPTION:
URL:https://www.dancesoul.com.tw/schedule/street-jazz-kyle-4/2028-07-19/
CATEGORIES:STREET JAZZ,常態課_一般,課程
END:VEVENT
BEGIN:VEVENT
DTSTART;TZID=Asia/Shanghai:20280719T213500
DTEND;TZID=Asia/Shanghai:20280719T223500
DTSTAMP:20260422T194907
CREATED:20260327T085649Z
LAST-MODIFIED:20260327T085650Z
UID:10036741-1847655300-1847658900@www.dancesoul.com.tw
SUMMARY:MV-緗緗
DESCRIPTION:
URL:https://www.dancesoul.com.tw/schedule/mv-%e7%b7%97%e7%b7%97-2-2/2028-07-19/
END:VEVENT
BEGIN:VEVENT
DTSTART;TZID=Asia/Shanghai:20280720T182000
DTEND;TZID=Asia/Shanghai:20280720T192000
DTSTAMP:20260422T194907
CREATED:20251202T055643Z
LAST-MODIFIED:20251202T055645Z
UID:10025591-1847730000-1847733600@www.dancesoul.com.tw
SUMMARY:Street Jazz-羊羊
DESCRIPTION:
URL:https://www.dancesoul.com.tw/schedule/hip-hop-%e4%bd%90%e4%bd%90-2-2/2028-07-20/
CATEGORIES:Hip Hop,常態課_一般,課程
END:VEVENT
BEGIN:VEVENT
DTSTART;TZID=Asia/Shanghai:20280720T192500
DTEND;TZID=Asia/Shanghai:20280720T202500
DTSTAMP:20260422T194907
CREATED:20260327T082918Z
LAST-MODIFIED:20260327T084510Z
UID:10034890-1847733900-1847737500@www.dancesoul.com.tw
SUMMARY:Hip Hop(初)-林彤
DESCRIPTION:
URL:https://www.dancesoul.com.tw/schedule/hip-hop%e5%88%9d-%e6%9e%97%e5%bd%a4-3-2/2028-07-20/
CATEGORIES:Hip Hop 初級,常態課_初級,課程
END:VEVENT
BEGIN:VEVENT
DTSTART;TZID=Asia/Shanghai:20280720T203000
DTEND;TZID=Asia/Shanghai:20280720T213000
DTSTAMP:20260422T194907
CREATED:20260327T085246Z
LAST-MODIFIED:20260327T085313Z
UID:10036213-1847737800-1847741400@www.dancesoul.com.tw
SUMMARY:Choreography-HU RUEI胡睿
DESCRIPTION:
URL:https://www.dancesoul.com.tw/schedule/choreography-hu-ruei%e8%83%a1%e7%9d%bf/2028-07-20/
END:VEVENT
BEGIN:VEVENT
DTSTART;TZID=Asia/Shanghai:20280720T213500
DTEND;TZID=Asia/Shanghai:20280720T223500
DTSTAMP:20260422T194907
CREATED:20250828T104929Z
LAST-MODIFIED:20250828T104929Z
UID:10026371-1847741700-1847745300@www.dancesoul.com.tw
SUMMARY:Choreography-巴豪
DESCRIPTION:
URL:https://www.dancesoul.com.tw/schedule/choreography-%e5%b7%b4%e8%b1%aa-7/2028-07-20/
CATEGORIES:Choreography,常態課_一般,課程
END:VEVENT
BEGIN:VEVENT
DTSTART;TZID=Asia/Shanghai:20280721T182000
DTEND;TZID=Asia/Shanghai:20280721T192000
DTSTAMP:20260422T194907
CREATED:20260327T083919Z
LAST-MODIFIED:20260327T083920Z
UID:10034627-1847816400-1847820000@www.dancesoul.com.tw
SUMMARY:Twerk（初）-碗公
DESCRIPTION:
URL:https://www.dancesoul.com.tw/schedule/twerk%ef%bc%88%e5%88%9d%ef%bc%89-%e7%a2%97%e5%85%ac-2-2/2028-07-21/
END:VEVENT
BEGIN:VEVENT
DTSTART;TZID=Asia/Shanghai:20280721T192500
DTEND;TZID=Asia/Shanghai:20280721T202500
DTSTAMP:20260422T194907
CREATED:20260327T090205Z
LAST-MODIFIED:20260327T090205Z
UID:10037535-1847820300-1847823900@www.dancesoul.com.tw
SUMMARY:Street Jazz-CenMei
DESCRIPTION:
URL:https://www.dancesoul.com.tw/schedule/street-jazz-cenmei/2028-07-21/
END:VEVENT
BEGIN:VEVENT
DTSTART;TZID=Asia/Shanghai:20280721T203000
DTEND;TZID=Asia/Shanghai:20280721T213000
DTSTAMP:20260422T194907
CREATED:20260327T090256Z
LAST-MODIFIED:20260327T090256Z
UID:10037799-1847824200-1847827800@www.dancesoul.com.tw
SUMMARY:Jazz Funk-Dang 鈴鐺
DESCRIPTION:
URL:https://www.dancesoul.com.tw/schedule/jazz-funk-dang-%e9%88%b4%e9%90%ba/2028-07-21/
END:VEVENT
BEGIN:VEVENT
DTSTART;TZID=Asia/Shanghai:20280721T213500
DTEND;TZID=Asia/Shanghai:20280721T223500
DTSTAMP:20260422T194907
CREATED:20260327T085804Z
LAST-MODIFIED:20260327T085804Z
UID:10037006-1847828100-1847831700@www.dancesoul.com.tw
SUMMARY:Street Jazz-Roy燦伊
DESCRIPTION:
URL:https://www.dancesoul.com.tw/schedule/street-jazz-roy%e7%87%a6%e4%bc%8a/2028-07-21/
END:VEVENT
BEGIN:VEVENT
DTSTART;TZID=Asia/Shanghai:20280722T132000
DTEND;TZID=Asia/Shanghai:20280722T142000
DTSTAMP:20260422T194907
CREATED:20251201T070320Z
LAST-MODIFIED:20260315T072345Z
UID:10027411-1847884800-1847888400@www.dancesoul.com.tw
SUMMARY:兒童MV(初)(i-dle - 'Mona(Feat.skaiwater)')-薇臻
DESCRIPTION:
URL:https://www.dancesoul.com.tw/schedule/%e5%85%92%e7%ab%a5%e8%a1%97%e8%88%9e-%e8%96%87%e8%87%bb-21-2-2-2/2028-07-22/
CATEGORIES:兒童街舞,兒童課
END:VEVENT
BEGIN:VEVENT
DTSTART;TZID=Asia/Shanghai:20280722T143000
DTEND;TZID=Asia/Shanghai:20280722T153000
DTSTAMP:20260422T194907
CREATED:20251202T055414Z
LAST-MODIFIED:20260315T072223Z
UID:10027672-1847889000-1847892600@www.dancesoul.com.tw
SUMMARY:兒童MV(IVE - 'BANG BANG')-薇臻
DESCRIPTION:
URL:https://www.dancesoul.com.tw/schedule/%e5%85%92%e7%ab%a5mvbabymonster-hot-sauce-%e8%96%87%e8%87%bb-2/2028-07-22/
CATEGORIES:MV課,兒童MV,課程
END:VEVENT
BEGIN:VEVENT
DTSTART;TZID=Asia/Shanghai:20280722T154000
DTEND;TZID=Asia/Shanghai:20280722T164000
DTSTAMP:20260422T194907
CREATED:20250901T055134Z
LAST-MODIFIED:20260327T083158Z
UID:10033574-1847893200-1847896800@www.dancesoul.com.tw
SUMMARY:兒童Popping-勁宏
DESCRIPTION:
URL:https://www.dancesoul.com.tw/schedule/%e5%85%92%e7%ab%a5popping-%e5%8b%81%e5%ae%8f-2/2028-07-22/
CATEGORIES:兒童街舞,課程
END:VEVENT
BEGIN:VEVENT
DTSTART;TZID=Asia/Shanghai:20280722T164000
DTEND;TZID=Asia/Shanghai:20280722T174000
DTSTAMP:20260422T194907
CREATED:20260315T072002Z
LAST-MODIFIED:20260315T072518Z
UID:10027934-1847896800-1847900400@www.dancesoul.com.tw
SUMMARY:MV(IVE - ‘BANG BANG’)-薇臻
DESCRIPTION:
URL:https://www.dancesoul.com.tw/schedule/mvive-xoxz-%e5%87%9d%e7%90%a6-2-2/2028-07-22/
CATEGORIES:MV課,課程
END:VEVENT
BEGIN:VEVENT
DTSTART;TZID=Asia/Shanghai:20280722T182000
DTEND;TZID=Asia/Shanghai:20280722T192000
DTSTAMP:20260422T194907
CREATED:20250901T055441Z
LAST-MODIFIED:20250901T055457Z
UID:10028195-1847902800-1847906400@www.dancesoul.com.tw
SUMMARY:Popping-紀威
DESCRIPTION:
URL:https://www.dancesoul.com.tw/schedule/popping-%e7%b4%80%e5%a8%81-54/2028-07-22/
CATEGORIES:Poppin,常態課_一般,課程
END:VEVENT
BEGIN:VEVENT
DTSTART;TZID=Asia/Shanghai:20280722T192500
DTEND;TZID=Asia/Shanghai:20280722T202500
DTSTAMP:20260422T194907
CREATED:20260327T082346Z
LAST-MODIFIED:20260327T082346Z
UID:10032779-1847906700-1847910300@www.dancesoul.com.tw
SUMMARY:HIP HOP-GAGA
DESCRIPTION:
URL:https://www.dancesoul.com.tw/schedule/%e5%9f%ba%e7%a4%8e%e5%85%a5%e9%96%80-%e9%9b%9e%e8%9b%8b-41-2/2028-07-22/
CATEGORIES:基礎入門,常態課_初級,課程
END:VEVENT
BEGIN:VEVENT
DTSTART;TZID=Asia/Shanghai:20280723T132000
DTEND;TZID=Asia/Shanghai:20280723T142000
DTSTAMP:20260422T194907
CREATED:20250901T055750Z
LAST-MODIFIED:20250901T055750Z
UID:10028978-1847971200-1847974800@www.dancesoul.com.tw
SUMMARY:兒童街舞-羿芃
DESCRIPTION:
URL:https://www.dancesoul.com.tw/schedule/%e5%85%92%e7%ab%a5%e8%a1%97%e8%88%9e-%e7%be%bf%e8%8a%83-20/2028-07-23/
CATEGORIES:兒童街舞,課程
END:VEVENT
BEGIN:VEVENT
DTSTART;TZID=Asia/Shanghai:20280723T143000
DTEND;TZID=Asia/Shanghai:20280723T153000
DTSTAMP:20260422T194907
CREATED:20260315T071830Z
LAST-MODIFIED:20260315T071830Z
UID:10029239-1847975400-1847979000@www.dancesoul.com.tw
SUMMARY:兒童MV(ILLIT-opps!)-羿芃
DESCRIPTION:
URL:https://www.dancesoul.com.tw/schedule/%e5%85%92%e7%ab%a5mvizna-sass-%e7%be%bf%e8%8a%83-2-2/2028-07-23/
CATEGORIES:兒童MV,兒童課
END:VEVENT
BEGIN:VEVENT
DTSTART;TZID=Asia/Shanghai:20280723T154000
DTEND;TZID=Asia/Shanghai:20280723T164000
DTSTAMP:20260422T194907
CREATED:20250901T060229Z
LAST-MODIFIED:20250901T060229Z
UID:10029500-1847979600-1847983200@www.dancesoul.com.tw
SUMMARY:兒童Street Jazz-傘傘
DESCRIPTION:
URL:https://www.dancesoul.com.tw/schedule/%e5%85%92%e7%ab%a5street-jazz-%e5%82%98%e5%82%98-4/2028-07-23/
CATEGORIES:兒童街舞,兒童課
END:VEVENT
BEGIN:VEVENT
DTSTART;TZID=Asia/Shanghai:20280723T165000
DTEND;TZID=Asia/Shanghai:20280723T175000
DTSTAMP:20260422T194907
CREATED:20251201T095640Z
LAST-MODIFIED:20260315T071631Z
UID:10029761-1847983800-1847987400@www.dancesoul.com.tw
SUMMARY:MV(Apink - 'Love Me More')-Jenny
DESCRIPTION:
URL:https://www.dancesoul.com.tw/schedule/mvsomi-closer-%e7%91%9c%e5%ba%ad-2/2028-07-23/
CATEGORIES:MV課,課程
END:VEVENT
BEGIN:VEVENT
DTSTART;TZID=Asia/Shanghai:20280723T182000
DTEND;TZID=Asia/Shanghai:20280723T192000
DTSTAMP:20260422T194907
CREATED:20260327T085927Z
LAST-MODIFIED:20260327T085927Z
UID:10037271-1847989200-1847992800@www.dancesoul.com.tw
SUMMARY:Jazz Funk-Zulin小霖
DESCRIPTION:
URL:https://www.dancesoul.com.tw/schedule/jazz-funk-zulin%e5%b0%8f%e9%9c%96/2028-07-23/
END:VEVENT
BEGIN:VEVENT
DTSTART;TZID=Asia/Shanghai:20280723T192500
DTEND;TZID=Asia/Shanghai:20280723T202500
DTSTAMP:20260422T194907
CREATED:20260327T081608Z
LAST-MODIFIED:20260327T081608Z
UID:10030283-1847993100-1847996700@www.dancesoul.com.tw
SUMMARY:Hip Hop-ROD
DESCRIPTION:
URL:https://www.dancesoul.com.tw/schedule/hip-hop-%e6%89%bf%e7%bf%b0-2-2/2028-07-23/
CATEGORIES:Hip Hop,常態課_一般,課程
END:VEVENT
BEGIN:VEVENT
DTSTART;TZID=Asia/Shanghai:20280724T182000
DTEND;TZID=Asia/Shanghai:20280724T192000
DTSTAMP:20260422T194907
CREATED:20260327T084628Z
LAST-MODIFIED:20260327T084933Z
UID:10035419-1848075600-1848079200@www.dancesoul.com.tw
SUMMARY:MV-瑜庭
DESCRIPTION:
URL:https://www.dancesoul.com.tw/schedule/mvtwice-this-is-for-%e7%91%9c%e5%ba%ad-2/2028-07-24/
CATEGORIES:MV課,課程
END:VEVENT
BEGIN:VEVENT
DTSTART;TZID=Asia/Shanghai:20280724T192500
DTEND;TZID=Asia/Shanghai:20280724T202500
DTSTAMP:20260422T194907
CREATED:20260327T082108Z
LAST-MODIFIED:20260327T082108Z
UID:10030891-1848079500-1848083100@www.dancesoul.com.tw
SUMMARY:Jazz Funk-魏小美
DESCRIPTION:
URL:https://www.dancesoul.com.tw/schedule/jazz-funk-%e9%ad%8f%e5%b0%8f%e7%be%8e-84-2-2/2028-07-24/
END:VEVENT
BEGIN:VEVENT
DTSTART;TZID=Asia/Shanghai:20280724T203000
DTEND;TZID=Asia/Shanghai:20280724T213000
DTSTAMP:20260422T194907
CREATED:20260327T084046Z
LAST-MODIFIED:20260327T084828Z
UID:10035155-1848083400-1848087000@www.dancesoul.com.tw
SUMMARY:Heels-宋靜
DESCRIPTION:
URL:https://www.dancesoul.com.tw/schedule/heels-%e5%ae%8b%e9%9d%9c-3-2/2028-07-24/
END:VEVENT
END:VCALENDAR