BEGIN:VCALENDAR
VERSION:2.0
PRODID:-//DANCE SOUL 舞魂街舞學校 - ECPv6.15.18//NONSGML v1.0//EN
CALSCALE:GREGORIAN
METHOD:PUBLISH
X-WR-CALNAME:DANCE SOUL 舞魂街舞學校
X-ORIGINAL-URL:https://www.dancesoul.com.tw
X-WR-CALDESC:Events for DANCE SOUL 舞魂街舞學校
REFRESH-INTERVAL;VALUE=DURATION:PT1H
X-Robots-Tag:noindex
X-PUBLISHED-TTL:PT1H
BEGIN:VTIMEZONE
TZID:Asia/Shanghai
BEGIN:STANDARD
TZOFFSETFROM:+0800
TZOFFSETTO:+0800
TZNAME:CST
DTSTART:20270101T000000
END:STANDARD
END:VTIMEZONE
BEGIN:VEVENT
DTSTART;TZID=Asia/Shanghai:20280722T192500
DTEND;TZID=Asia/Shanghai:20280722T202500
DTSTAMP:20260422T194336
CREATED:20260327T082346Z
LAST-MODIFIED:20260327T082346Z
UID:10032779-1847906700-1847910300@www.dancesoul.com.tw
SUMMARY:HIP HOP-GAGA
DESCRIPTION:
URL:https://www.dancesoul.com.tw/schedule/%e5%9f%ba%e7%a4%8e%e5%85%a5%e9%96%80-%e9%9b%9e%e8%9b%8b-41-2/2028-07-22/
CATEGORIES:基礎入門,常態課_初級,課程
END:VEVENT
BEGIN:VEVENT
DTSTART;TZID=Asia/Shanghai:20280723T132000
DTEND;TZID=Asia/Shanghai:20280723T142000
DTSTAMP:20260422T194336
CREATED:20250901T055750Z
LAST-MODIFIED:20250901T055750Z
UID:10028978-1847971200-1847974800@www.dancesoul.com.tw
SUMMARY:兒童街舞-羿芃
DESCRIPTION:
URL:https://www.dancesoul.com.tw/schedule/%e5%85%92%e7%ab%a5%e8%a1%97%e8%88%9e-%e7%be%bf%e8%8a%83-20/2028-07-23/
CATEGORIES:兒童街舞,課程
END:VEVENT
BEGIN:VEVENT
DTSTART;TZID=Asia/Shanghai:20280723T143000
DTEND;TZID=Asia/Shanghai:20280723T153000
DTSTAMP:20260422T194336
CREATED:20260315T071830Z
LAST-MODIFIED:20260315T071830Z
UID:10029239-1847975400-1847979000@www.dancesoul.com.tw
SUMMARY:兒童MV(ILLIT-opps!)-羿芃
DESCRIPTION:
URL:https://www.dancesoul.com.tw/schedule/%e5%85%92%e7%ab%a5mvizna-sass-%e7%be%bf%e8%8a%83-2-2/2028-07-23/
CATEGORIES:兒童MV,兒童課
END:VEVENT
BEGIN:VEVENT
DTSTART;TZID=Asia/Shanghai:20280723T154000
DTEND;TZID=Asia/Shanghai:20280723T164000
DTSTAMP:20260422T194336
CREATED:20250901T060229Z
LAST-MODIFIED:20250901T060229Z
UID:10029500-1847979600-1847983200@www.dancesoul.com.tw
SUMMARY:兒童Street Jazz-傘傘
DESCRIPTION:
URL:https://www.dancesoul.com.tw/schedule/%e5%85%92%e7%ab%a5street-jazz-%e5%82%98%e5%82%98-4/2028-07-23/
CATEGORIES:兒童街舞,兒童課
END:VEVENT
BEGIN:VEVENT
DTSTART;TZID=Asia/Shanghai:20280723T165000
DTEND;TZID=Asia/Shanghai:20280723T175000
DTSTAMP:20260422T194336
CREATED:20251201T095640Z
LAST-MODIFIED:20260315T071631Z
UID:10029761-1847983800-1847987400@www.dancesoul.com.tw
SUMMARY:MV(Apink - 'Love Me More')-Jenny
DESCRIPTION:
URL:https://www.dancesoul.com.tw/schedule/mvsomi-closer-%e7%91%9c%e5%ba%ad-2/2028-07-23/
CATEGORIES:MV課,課程
END:VEVENT
BEGIN:VEVENT
DTSTART;TZID=Asia/Shanghai:20280723T182000
DTEND;TZID=Asia/Shanghai:20280723T192000
DTSTAMP:20260422T194336
CREATED:20260327T085927Z
LAST-MODIFIED:20260327T085927Z
UID:10037271-1847989200-1847992800@www.dancesoul.com.tw
SUMMARY:Jazz Funk-Zulin小霖
DESCRIPTION:
URL:https://www.dancesoul.com.tw/schedule/jazz-funk-zulin%e5%b0%8f%e9%9c%96/2028-07-23/
END:VEVENT
BEGIN:VEVENT
DTSTART;TZID=Asia/Shanghai:20280723T192500
DTEND;TZID=Asia/Shanghai:20280723T202500
DTSTAMP:20260422T194336
CREATED:20260327T081608Z
LAST-MODIFIED:20260327T081608Z
UID:10030283-1847993100-1847996700@www.dancesoul.com.tw
SUMMARY:Hip Hop-ROD
DESCRIPTION:
URL:https://www.dancesoul.com.tw/schedule/hip-hop-%e6%89%bf%e7%bf%b0-2-2/2028-07-23/
CATEGORIES:Hip Hop,常態課_一般,課程
END:VEVENT
BEGIN:VEVENT
DTSTART;TZID=Asia/Shanghai:20280724T182000
DTEND;TZID=Asia/Shanghai:20280724T192000
DTSTAMP:20260422T194336
CREATED:20260327T084628Z
LAST-MODIFIED:20260327T084933Z
UID:10035419-1848075600-1848079200@www.dancesoul.com.tw
SUMMARY:MV-瑜庭
DESCRIPTION:
URL:https://www.dancesoul.com.tw/schedule/mvtwice-this-is-for-%e7%91%9c%e5%ba%ad-2/2028-07-24/
CATEGORIES:MV課,課程
END:VEVENT
BEGIN:VEVENT
DTSTART;TZID=Asia/Shanghai:20280724T192500
DTEND;TZID=Asia/Shanghai:20280724T202500
DTSTAMP:20260422T194336
CREATED:20260327T082108Z
LAST-MODIFIED:20260327T082108Z
UID:10030891-1848079500-1848083100@www.dancesoul.com.tw
SUMMARY:Jazz Funk-魏小美
DESCRIPTION:
URL:https://www.dancesoul.com.tw/schedule/jazz-funk-%e9%ad%8f%e5%b0%8f%e7%be%8e-84-2-2/2028-07-24/
END:VEVENT
BEGIN:VEVENT
DTSTART;TZID=Asia/Shanghai:20280724T203000
DTEND;TZID=Asia/Shanghai:20280724T213000
DTSTAMP:20260422T194336
CREATED:20260327T084046Z
LAST-MODIFIED:20260327T084828Z
UID:10035155-1848083400-1848087000@www.dancesoul.com.tw
SUMMARY:Heels-宋靜
DESCRIPTION:
URL:https://www.dancesoul.com.tw/schedule/heels-%e5%ae%8b%e9%9d%9c-3-2/2028-07-24/
END:VEVENT
BEGIN:VEVENT
DTSTART;TZID=Asia/Shanghai:20280724T213500
DTEND;TZID=Asia/Shanghai:20280724T223500
DTSTAMP:20260422T194336
CREATED:20260327T082216Z
LAST-MODIFIED:20260327T082217Z
UID:10032516-1848087300-1848090900@www.dancesoul.com.tw
SUMMARY:Jazz Funk-姿昀
DESCRIPTION:
URL:https://www.dancesoul.com.tw/schedule/jazz-funk-%e5%a7%bf%e6%98%80-15-2/2028-07-24/
CATEGORIES:Jazz Funk,課程
END:VEVENT
BEGIN:VEVENT
DTSTART;TZID=Asia/Shanghai:20280725T182000
DTEND;TZID=Asia/Shanghai:20280725T192000
DTSTAMP:20260422T194336
CREATED:20250828T095545Z
LAST-MODIFIED:20250828T095545Z
UID:10023764-1848162000-1848165600@www.dancesoul.com.tw
SUMMARY:MV-薇臻
DESCRIPTION:
URL:https://www.dancesoul.com.tw/schedule/mv-%e8%96%87%e8%87%bb-4/2028-07-25/
END:VEVENT
BEGIN:VEVENT
DTSTART;TZID=Asia/Shanghai:20280725T192500
DTEND;TZID=Asia/Shanghai:20280725T202500
DTSTAMP:20260422T194336
CREATED:20260327T083744Z
LAST-MODIFIED:20260327T083744Z
UID:10034364-1848165900-1848169500@www.dancesoul.com.tw
SUMMARY:Choreography-羅毅
DESCRIPTION:
URL:https://www.dancesoul.com.tw/schedule/choreography-%e7%be%85%e6%af%85-2-2/2028-07-25/
CATEGORIES:Choreography,常態課_一般,課程
END:VEVENT
BEGIN:VEVENT
DTSTART;TZID=Asia/Shanghai:20280725T202000
DTEND;TZID=Asia/Shanghai:20280725T212000
DTSTAMP:20260422T194336
CREATED:20250828T100203Z
LAST-MODIFIED:20250828T100203Z
UID:10024026-1848169200-1848172800@www.dancesoul.com.tw
SUMMARY:Free Style-俊宏
DESCRIPTION:
URL:https://www.dancesoul.com.tw/schedule/free-style-%e4%bf%8a%e5%ae%8f-29/2028-07-25/
CATEGORIES:Freestyle,常態課_一般,課程
END:VEVENT
BEGIN:VEVENT
DTSTART;TZID=Asia/Shanghai:20280725T213500
DTEND;TZID=Asia/Shanghai:20280725T223500
DTSTAMP:20260422T194336
CREATED:20260327T081822Z
LAST-MODIFIED:20260327T081932Z
UID:10032232-1848173700-1848177300@www.dancesoul.com.tw
SUMMARY:Hip Hop-承翰
DESCRIPTION:
URL:https://www.dancesoul.com.tw/schedule/hip-hop-%e6%89%bf%e7%bf%b0-2-3/2028-07-25/
CATEGORIES:Hip Hop,常態課_一般,課程
END:VEVENT
BEGIN:VEVENT
DTSTART;TZID=Asia/Shanghai:20280726T182000
DTEND;TZID=Asia/Shanghai:20280726T192000
DTSTAMP:20260422T194336
CREATED:20260327T082544Z
LAST-MODIFIED:20260327T082544Z
UID:10033045-1848248400-1848252000@www.dancesoul.com.tw
SUMMARY:Choreography(初)-無盡
DESCRIPTION:
URL:https://www.dancesoul.com.tw/schedule/choreography%e5%88%9d-%e7%84%a1%e7%9b%a1-14-2/2028-07-26/
CATEGORIES:Choreography 初級,常態課_初級,課程
END:VEVENT
BEGIN:VEVENT
DTSTART;TZID=Asia/Shanghai:20280726T192500
DTEND;TZID=Asia/Shanghai:20280726T202500
DTSTAMP:20260422T194336
CREATED:20250828T102504Z
LAST-MODIFIED:20250828T102504Z
UID:10024809-1848252300-1848255900@www.dancesoul.com.tw
SUMMARY:Street Jazz-Larry
DESCRIPTION:
URL:https://www.dancesoul.com.tw/schedule/street-jazz-larry-30/2028-07-26/
CATEGORIES:STREET JAZZ,常態課_一般,課程
END:VEVENT
BEGIN:VEVENT
DTSTART;TZID=Asia/Shanghai:20280726T203000
DTEND;TZID=Asia/Shanghai:20280726T213000
DTSTAMP:20260422T194336
CREATED:20250828T103540Z
LAST-MODIFIED:20250828T103540Z
UID:10025070-1848256200-1848259800@www.dancesoul.com.tw
SUMMARY:Street Jazz-Kyle
DESCRIPTION:
URL:https://www.dancesoul.com.tw/schedule/street-jazz-kyle-4/2028-07-26/
CATEGORIES:STREET JAZZ,常態課_一般,課程
END:VEVENT
BEGIN:VEVENT
DTSTART;TZID=Asia/Shanghai:20280726T213500
DTEND;TZID=Asia/Shanghai:20280726T223500
DTSTAMP:20260422T194336
CREATED:20260327T085649Z
LAST-MODIFIED:20260327T085650Z
UID:10036742-1848260100-1848263700@www.dancesoul.com.tw
SUMMARY:MV-緗緗
DESCRIPTION:
URL:https://www.dancesoul.com.tw/schedule/mv-%e7%b7%97%e7%b7%97-2-2/2028-07-26/
END:VEVENT
BEGIN:VEVENT
DTSTART;TZID=Asia/Shanghai:20280727T182000
DTEND;TZID=Asia/Shanghai:20280727T192000
DTSTAMP:20260422T194336
CREATED:20251202T055643Z
LAST-MODIFIED:20251202T055645Z
UID:10025592-1848334800-1848338400@www.dancesoul.com.tw
SUMMARY:Street Jazz-羊羊
DESCRIPTION:
URL:https://www.dancesoul.com.tw/schedule/hip-hop-%e4%bd%90%e4%bd%90-2-2/2028-07-27/
CATEGORIES:Hip Hop,常態課_一般,課程
END:VEVENT
BEGIN:VEVENT
DTSTART;TZID=Asia/Shanghai:20280727T192500
DTEND;TZID=Asia/Shanghai:20280727T202500
DTSTAMP:20260422T194336
CREATED:20260327T082918Z
LAST-MODIFIED:20260327T084510Z
UID:10034891-1848338700-1848342300@www.dancesoul.com.tw
SUMMARY:Hip Hop(初)-林彤
DESCRIPTION:
URL:https://www.dancesoul.com.tw/schedule/hip-hop%e5%88%9d-%e6%9e%97%e5%bd%a4-3-2/2028-07-27/
CATEGORIES:Hip Hop 初級,常態課_初級,課程
END:VEVENT
BEGIN:VEVENT
DTSTART;TZID=Asia/Shanghai:20280727T203000
DTEND;TZID=Asia/Shanghai:20280727T213000
DTSTAMP:20260422T194336
CREATED:20260327T085246Z
LAST-MODIFIED:20260327T085313Z
UID:10036214-1848342600-1848346200@www.dancesoul.com.tw
SUMMARY:Choreography-HU RUEI胡睿
DESCRIPTION:
URL:https://www.dancesoul.com.tw/schedule/choreography-hu-ruei%e8%83%a1%e7%9d%bf/2028-07-27/
END:VEVENT
BEGIN:VEVENT
DTSTART;TZID=Asia/Shanghai:20280727T213500
DTEND;TZID=Asia/Shanghai:20280727T223500
DTSTAMP:20260422T194336
CREATED:20250828T104929Z
LAST-MODIFIED:20250828T104929Z
UID:10026372-1848346500-1848350100@www.dancesoul.com.tw
SUMMARY:Choreography-巴豪
DESCRIPTION:
URL:https://www.dancesoul.com.tw/schedule/choreography-%e5%b7%b4%e8%b1%aa-7/2028-07-27/
CATEGORIES:Choreography,常態課_一般,課程
END:VEVENT
BEGIN:VEVENT
DTSTART;TZID=Asia/Shanghai:20280728T182000
DTEND;TZID=Asia/Shanghai:20280728T192000
DTSTAMP:20260422T194336
CREATED:20260327T083919Z
LAST-MODIFIED:20260327T083920Z
UID:10034628-1848421200-1848424800@www.dancesoul.com.tw
SUMMARY:Twerk（初）-碗公
DESCRIPTION:
URL:https://www.dancesoul.com.tw/schedule/twerk%ef%bc%88%e5%88%9d%ef%bc%89-%e7%a2%97%e5%85%ac-2-2/2028-07-28/
END:VEVENT
BEGIN:VEVENT
DTSTART;TZID=Asia/Shanghai:20280728T192500
DTEND;TZID=Asia/Shanghai:20280728T202500
DTSTAMP:20260422T194336
CREATED:20260327T090205Z
LAST-MODIFIED:20260327T090205Z
UID:10037536-1848425100-1848428700@www.dancesoul.com.tw
SUMMARY:Street Jazz-CenMei
DESCRIPTION:
URL:https://www.dancesoul.com.tw/schedule/street-jazz-cenmei/2028-07-28/
END:VEVENT
BEGIN:VEVENT
DTSTART;TZID=Asia/Shanghai:20280728T203000
DTEND;TZID=Asia/Shanghai:20280728T213000
DTSTAMP:20260422T194337
CREATED:20260327T090256Z
LAST-MODIFIED:20260327T090256Z
UID:10037800-1848429000-1848432600@www.dancesoul.com.tw
SUMMARY:Jazz Funk-Dang 鈴鐺
DESCRIPTION:
URL:https://www.dancesoul.com.tw/schedule/jazz-funk-dang-%e9%88%b4%e9%90%ba/2028-07-28/
END:VEVENT
BEGIN:VEVENT
DTSTART;TZID=Asia/Shanghai:20280728T213500
DTEND;TZID=Asia/Shanghai:20280728T223500
DTSTAMP:20260422T194337
CREATED:20260327T085804Z
LAST-MODIFIED:20260327T085804Z
UID:10037007-1848432900-1848436500@www.dancesoul.com.tw
SUMMARY:Street Jazz-Roy燦伊
DESCRIPTION:
URL:https://www.dancesoul.com.tw/schedule/street-jazz-roy%e7%87%a6%e4%bc%8a/2028-07-28/
END:VEVENT
BEGIN:VEVENT
DTSTART;TZID=Asia/Shanghai:20280729T132000
DTEND;TZID=Asia/Shanghai:20280729T142000
DTSTAMP:20260422T194337
CREATED:20251201T070320Z
LAST-MODIFIED:20260315T072345Z
UID:10027412-1848489600-1848493200@www.dancesoul.com.tw
SUMMARY:兒童MV(初)(i-dle - 'Mona(Feat.skaiwater)')-薇臻
DESCRIPTION:
URL:https://www.dancesoul.com.tw/schedule/%e5%85%92%e7%ab%a5%e8%a1%97%e8%88%9e-%e8%96%87%e8%87%bb-21-2-2-2/2028-07-29/
CATEGORIES:兒童街舞,兒童課
END:VEVENT
BEGIN:VEVENT
DTSTART;TZID=Asia/Shanghai:20280729T143000
DTEND;TZID=Asia/Shanghai:20280729T153000
DTSTAMP:20260422T194337
CREATED:20251202T055414Z
LAST-MODIFIED:20260315T072223Z
UID:10027673-1848493800-1848497400@www.dancesoul.com.tw
SUMMARY:兒童MV(IVE - 'BANG BANG')-薇臻
DESCRIPTION:
URL:https://www.dancesoul.com.tw/schedule/%e5%85%92%e7%ab%a5mvbabymonster-hot-sauce-%e8%96%87%e8%87%bb-2/2028-07-29/
CATEGORIES:MV課,兒童MV,課程
END:VEVENT
BEGIN:VEVENT
DTSTART;TZID=Asia/Shanghai:20280729T154000
DTEND;TZID=Asia/Shanghai:20280729T164000
DTSTAMP:20260422T194337
CREATED:20250901T055134Z
LAST-MODIFIED:20260327T083158Z
UID:10033575-1848498000-1848501600@www.dancesoul.com.tw
SUMMARY:兒童Popping-勁宏
DESCRIPTION:
URL:https://www.dancesoul.com.tw/schedule/%e5%85%92%e7%ab%a5popping-%e5%8b%81%e5%ae%8f-2/2028-07-29/
CATEGORIES:兒童街舞,課程
END:VEVENT
END:VCALENDAR