BEGIN:VCALENDAR
VERSION:2.0
PRODID:-//DANCE SOUL 舞魂街舞學校 - ECPv6.15.18//NONSGML v1.0//EN
CALSCALE:GREGORIAN
METHOD:PUBLISH
X-WR-CALNAME:DANCE SOUL 舞魂街舞學校
X-ORIGINAL-URL:https://www.dancesoul.com.tw
X-WR-CALDESC:Events for DANCE SOUL 舞魂街舞學校
REFRESH-INTERVAL;VALUE=DURATION:PT1H
X-Robots-Tag:noindex
X-PUBLISHED-TTL:PT1H
BEGIN:VTIMEZONE
TZID:Asia/Shanghai
BEGIN:STANDARD
TZOFFSETFROM:+0800
TZOFFSETTO:+0800
TZNAME:CST
DTSTART:20230101T000000
END:STANDARD
END:VTIMEZONE
BEGIN:VEVENT
DTSTART;TZID=Asia/Shanghai:20240829T161000
DTEND;TZID=Asia/Shanghai:20240829T171000
DTSTAMP:20260421T115717
CREATED:20240726T120943Z
LAST-MODIFIED:20240726T120943Z
UID:10020077-1724947800-1724951400@www.dancesoul.com.tw
SUMMARY:基礎入門-承翰
DESCRIPTION:
URL:https://www.dancesoul.com.tw/schedule/%e5%9f%ba%e7%a4%8e%e5%85%a5%e9%96%80-%e6%89%bf%e7%bf%b0-2/2024-08-29/
CATEGORIES:基礎入門,常態課_初級,課程
END:VEVENT
BEGIN:VEVENT
DTSTART;TZID=Asia/Shanghai:20240829T150000
DTEND;TZID=Asia/Shanghai:20240829T160000
DTSTAMP:20260421T115717
CREATED:20240726T113811Z
LAST-MODIFIED:20240729T055346Z
UID:10020012-1724943600-1724947200@www.dancesoul.com.tw
SUMMARY:兒童MV-(ILLIT - Lucky Girl Syndrome)-薇臻
DESCRIPTION:
URL:https://www.dancesoul.com.tw/schedule/%e5%85%92%e7%ab%a5mv-illit-lucky-girl-syndrome-%e8%96%87%e8%87%bb/2024-08-29/
CATEGORIES:兒童MV,兒童課,課程
END:VEVENT
BEGIN:VEVENT
DTSTART;TZID=Asia/Shanghai:20240828T205000
DTEND;TZID=Asia/Shanghai:20240828T215000
DTSTAMP:20260421T115717
CREATED:20240726T120815Z
LAST-MODIFIED:20240726T120815Z
UID:10020072-1724878200-1724881800@www.dancesoul.com.tw
SUMMARY:Free Style-承達
DESCRIPTION:
URL:https://www.dancesoul.com.tw/schedule/free-style-%e6%89%bf%e9%81%94-41/2024-08-28/
CATEGORIES:Freestyle,常態課_一般,課程
END:VEVENT
BEGIN:VEVENT
DTSTART;TZID=Asia/Shanghai:20240828T194000
DTEND;TZID=Asia/Shanghai:20240828T204000
DTSTAMP:20260421T115717
CREATED:20240726T120715Z
LAST-MODIFIED:20240726T120715Z
UID:10020068-1724874000-1724877600@www.dancesoul.com.tw
SUMMARY:Street Jazz-Larry
DESCRIPTION:
URL:https://www.dancesoul.com.tw/schedule/street-jazz-larry-18/2024-08-28/
CATEGORIES:STREET JAZZ,常態課_一般,課程
END:VEVENT
BEGIN:VEVENT
DTSTART;TZID=Asia/Shanghai:20240828T183000
DTEND;TZID=Asia/Shanghai:20240828T193000
DTSTAMP:20260421T115717
CREATED:20240726T120547Z
LAST-MODIFIED:20240726T120547Z
UID:10020064-1724869800-1724873400@www.dancesoul.com.tw
SUMMARY:Street Jazz(初)-Kyle
DESCRIPTION:
URL:https://www.dancesoul.com.tw/schedule/street-jazz%e5%88%9d-kyle-17/2024-08-28/
CATEGORIES:STREET JAZZ 初級,常態課_初級,課程
END:VEVENT
BEGIN:VEVENT
DTSTART;TZID=Asia/Shanghai:20240828T172000
DTEND;TZID=Asia/Shanghai:20240828T182000
DTSTAMP:20260421T115717
CREATED:20240726T120322Z
LAST-MODIFIED:20240726T120322Z
UID:10020060-1724865600-1724869200@www.dancesoul.com.tw
SUMMARY:Choreography-七七
DESCRIPTION:
URL:https://www.dancesoul.com.tw/schedule/choreography-%e4%b8%83%e4%b8%83-2/2024-08-28/
CATEGORIES:Choreography,常態課_一般,課程
END:VEVENT
BEGIN:VEVENT
DTSTART;TZID=Asia/Shanghai:20240828T161000
DTEND;TZID=Asia/Shanghai:20240828T171000
DTSTAMP:20260421T115717
CREATED:20240726T120229Z
LAST-MODIFIED:20240726T120229Z
UID:10020056-1724861400-1724865000@www.dancesoul.com.tw
SUMMARY:基礎入門-無盡
DESCRIPTION:
URL:https://www.dancesoul.com.tw/schedule/%e5%9f%ba%e7%a4%8e%e5%85%a5%e9%96%80-%e7%84%a1%e7%9b%a1-6/2024-08-28/
CATEGORIES:基礎入門,常態課_初級,課程
END:VEVENT
BEGIN:VEVENT
DTSTART;TZID=Asia/Shanghai:20240828T150000
DTEND;TZID=Asia/Shanghai:20240828T160000
DTSTAMP:20260421T115717
CREATED:20240726T112814Z
LAST-MODIFIED:20240726T112814Z
UID:10019999-1724857200-1724860800@www.dancesoul.com.tw
SUMMARY:兒童MV-((G)I-DLE - Klaxon)-昀珊
DESCRIPTION:
URL:https://www.dancesoul.com.tw/schedule/%e5%85%92%e7%ab%a5mv-gi-dle-klaxon-%e6%98%80%e7%8f%8a/2024-08-28/
CATEGORIES:兒童MV,兒童課,課程
END:VEVENT
BEGIN:VEVENT
DTSTART;TZID=Asia/Shanghai:20240827T205000
DTEND;TZID=Asia/Shanghai:20240827T215000
DTSTAMP:20260421T115717
CREATED:20240726T120046Z
LAST-MODIFIED:20240726T120046Z
UID:10020052-1724791800-1724795400@www.dancesoul.com.tw
SUMMARY:Choreography-少麟
DESCRIPTION:
URL:https://www.dancesoul.com.tw/schedule/choreography-%e5%b0%91%e9%ba%9f-11/2024-08-27/
CATEGORIES:Choreography,常態課_一般,課程
END:VEVENT
BEGIN:VEVENT
DTSTART;TZID=Asia/Shanghai:20240827T194000
DTEND;TZID=Asia/Shanghai:20240827T204000
DTSTAMP:20260421T115717
CREATED:20240726T115955Z
LAST-MODIFIED:20240726T115955Z
UID:10020048-1724787600-1724791200@www.dancesoul.com.tw
SUMMARY:Street Jazz-Denis
DESCRIPTION:
URL:https://www.dancesoul.com.tw/schedule/street-jazz-denis-47/2024-08-27/
CATEGORIES:STREET JAZZ,常態課_一般,課程
END:VEVENT
BEGIN:VEVENT
DTSTART;TZID=Asia/Shanghai:20240827T183000
DTEND;TZID=Asia/Shanghai:20240827T193000
DTSTAMP:20260421T115717
CREATED:20240726T115736Z
LAST-MODIFIED:20240726T115736Z
UID:10020044-1724783400-1724787000@www.dancesoul.com.tw
SUMMARY:Free Style(初)-俊宏
DESCRIPTION:
URL:https://www.dancesoul.com.tw/schedule/free-style%e5%88%9d-%e4%bf%8a%e5%ae%8f-23/2024-08-27/
CATEGORIES:Freestyle 初級,常態課_初級,課程
END:VEVENT
BEGIN:VEVENT
DTSTART;TZID=Asia/Shanghai:20240827T172000
DTEND;TZID=Asia/Shanghai:20240827T182000
DTSTAMP:20260421T115717
CREATED:20240726T115640Z
LAST-MODIFIED:20240726T115640Z
UID:10020040-1724779200-1724782800@www.dancesoul.com.tw
SUMMARY:Hip Hop-子賢
DESCRIPTION:
URL:https://www.dancesoul.com.tw/schedule/hip-hop-%e5%ad%90%e8%b3%a2-2/2024-08-27/
CATEGORIES:Hip Hop,常態課_一般,課程
END:VEVENT
BEGIN:VEVENT
DTSTART;TZID=Asia/Shanghai:20240827T161000
DTEND;TZID=Asia/Shanghai:20240827T171000
DTSTAMP:20260421T115717
CREATED:20240726T115336Z
LAST-MODIFIED:20240726T115336Z
UID:10020036-1724775000-1724778600@www.dancesoul.com.tw
SUMMARY:Waacking(初)-品后
DESCRIPTION:
URL:https://www.dancesoul.com.tw/schedule/waacking%e5%88%9d-%e5%93%81%e5%90%8e-6/2024-08-27/
CATEGORIES:Waacking 初級,常態課_初級,課程
END:VEVENT
BEGIN:VEVENT
DTSTART;TZID=Asia/Shanghai:20240827T150000
DTEND;TZID=Asia/Shanghai:20240827T160000
DTSTAMP:20260421T115717
CREATED:20240726T113449Z
LAST-MODIFIED:20240730T075854Z
UID:10020132-1724770800-1724774400@www.dancesoul.com.tw
SUMMARY:兒童MV-(NewJeans - Supernatural)-薇臻
DESCRIPTION:
URL:https://www.dancesoul.com.tw/schedule/%e5%85%92%e7%ab%a5mv-newjeans-supernatural-%e8%96%87%e8%87%bb/2024-08-27/
CATEGORIES:兒童MV,兒童課,課程
END:VEVENT
BEGIN:VEVENT
DTSTART;TZID=Asia/Shanghai:20240826T205000
DTEND;TZID=Asia/Shanghai:20240826T215000
DTSTAMP:20260421T115717
CREATED:20240726T114939Z
LAST-MODIFIED:20240726T114939Z
UID:10020032-1724705400-1724709000@www.dancesoul.com.tw
SUMMARY:Jazz Funk-魏小美
DESCRIPTION:
URL:https://www.dancesoul.com.tw/schedule/jazz-funk-%e9%ad%8f%e5%b0%8f%e7%be%8e-74/2024-08-26/
CATEGORIES:Jazz Funk,常態課_一般,課程
END:VEVENT
BEGIN:VEVENT
DTSTART;TZID=Asia/Shanghai:20240826T194000
DTEND;TZID=Asia/Shanghai:20240826T204000
DTSTAMP:20260421T115717
CREATED:20240726T114656Z
LAST-MODIFIED:20240726T114656Z
UID:10020028-1724701200-1724704800@www.dancesoul.com.tw
SUMMARY:Heels(初)-宋靜
DESCRIPTION:
URL:https://www.dancesoul.com.tw/schedule/heels%e5%88%9d-%e5%ae%8b%e9%9d%9c-31/2024-08-26/
CATEGORIES:Heels 初級,常態課_初級,課程
END:VEVENT
BEGIN:VEVENT
DTSTART;TZID=Asia/Shanghai:20240826T183000
DTEND;TZID=Asia/Shanghai:20240826T193000
DTSTAMP:20260421T115717
CREATED:20240726T114555Z
LAST-MODIFIED:20240726T114555Z
UID:10020024-1724697000-1724700600@www.dancesoul.com.tw
SUMMARY:Twerk(初)-碗公
DESCRIPTION:
URL:https://www.dancesoul.com.tw/schedule/twerk%e5%88%9d-%e7%a2%97%e5%85%ac-33/2024-08-26/
CATEGORIES:Twerk 初級,常態課_初級,課程
END:VEVENT
BEGIN:VEVENT
DTSTART;TZID=Asia/Shanghai:20240826T172000
DTEND;TZID=Asia/Shanghai:20240826T182000
DTSTAMP:20260421T115717
CREATED:20240726T114354Z
LAST-MODIFIED:20240726T114354Z
UID:10020020-1724692800-1724696400@www.dancesoul.com.tw
SUMMARY:Choreography-俊宏
DESCRIPTION:
URL:https://www.dancesoul.com.tw/schedule/choreography-%e4%bf%8a%e5%ae%8f-2/2024-08-26/
CATEGORIES:Choreography,常態課_一般
END:VEVENT
BEGIN:VEVENT
DTSTART;TZID=Asia/Shanghai:20240826T161000
DTEND;TZID=Asia/Shanghai:20240826T171000
DTSTAMP:20260421T115717
CREATED:20240726T114237Z
LAST-MODIFIED:20240726T114237Z
UID:10020016-1724688600-1724692200@www.dancesoul.com.tw
SUMMARY:Street Jazz(初)-Kyle
DESCRIPTION:
URL:https://www.dancesoul.com.tw/schedule/street-jazz%e5%88%9d-kyle-16/2024-08-26/
CATEGORIES:STREET JAZZ 初級,常態課_初級,課程
END:VEVENT
BEGIN:VEVENT
DTSTART;TZID=Asia/Shanghai:20240826T150000
DTEND;TZID=Asia/Shanghai:20240826T160000
DTSTAMP:20260421T115717
CREATED:20240726T112653Z
LAST-MODIFIED:20240726T112653Z
UID:10019995-1724684400-1724688000@www.dancesoul.com.tw
SUMMARY:兒童MV-(STAYC - Cheeky Icy Thang)-昀珊
DESCRIPTION:
URL:https://www.dancesoul.com.tw/schedule/%e5%85%92%e7%ab%a5mv-stayc-cheeky-icy-thang-%e6%98%80%e7%8f%8a/2024-08-26/
CATEGORIES:兒童MV,兒童課,課程
END:VEVENT
BEGIN:VEVENT
DTSTART;TZID=Asia/Shanghai:20240825T191000
DTEND;TZID=Asia/Shanghai:20240825T201000
DTSTAMP:20260421T115717
CREATED:20240726T112141Z
LAST-MODIFIED:20240726T112141Z
UID:10019987-1724613000-1724616600@www.dancesoul.com.tw
SUMMARY:Hip Hop(初)-承翰
DESCRIPTION:
URL:https://www.dancesoul.com.tw/schedule/hip-hop%e5%88%9d-%e6%89%bf%e7%bf%b0-6/2024-08-25/
CATEGORIES:Hip Hop 初級,常態課_初級,課程
END:VEVENT
BEGIN:VEVENT
DTSTART;TZID=Asia/Shanghai:20240825T180000
DTEND;TZID=Asia/Shanghai:20240825T190000
DTSTAMP:20260421T115717
CREATED:20240726T112005Z
LAST-MODIFIED:20240726T112330Z
UID:10019991-1724608800-1724612400@www.dancesoul.com.tw
SUMMARY:Jazz Funk-姿昀
DESCRIPTION:
URL:https://www.dancesoul.com.tw/schedule/jazz-funk-%e5%a7%bf%e6%98%80/2024-08-25/
CATEGORIES:Jazz Funk,常態課_一般,課程
END:VEVENT
BEGIN:VEVENT
DTSTART;TZID=Asia/Shanghai:20240825T165000
DTEND;TZID=Asia/Shanghai:20240825T175000
DTSTAMP:20260421T115717
CREATED:20240726T111812Z
LAST-MODIFIED:20240726T111812Z
UID:10019978-1724604600-1724608200@www.dancesoul.com.tw
SUMMARY:MV-(LISA - ROCKSTAR)-瑜庭
DESCRIPTION:
URL:https://www.dancesoul.com.tw/schedule/mv-lisa-rockstar-%e7%91%9c%e5%ba%ad/2024-08-25/
CATEGORIES:MV課,課程
END:VEVENT
BEGIN:VEVENT
DTSTART;TZID=Asia/Shanghai:20240825T154000
DTEND;TZID=Asia/Shanghai:20240825T164000
DTSTAMP:20260421T115717
CREATED:20240726T111702Z
LAST-MODIFIED:20240726T111702Z
UID:10019974-1724600400-1724604000@www.dancesoul.com.tw
SUMMARY:兒童 Street Jazz-傘傘
DESCRIPTION:
URL:https://www.dancesoul.com.tw/schedule/%e5%85%92%e7%ab%a5-street-jazz-%e5%82%98%e5%82%98-2/2024-08-25/
CATEGORIES:兒童 Street Jazz,兒童課,課程
END:VEVENT
BEGIN:VEVENT
DTSTART;TZID=Asia/Shanghai:20240825T143000
DTEND;TZID=Asia/Shanghai:20240825T153000
DTSTAMP:20260421T115717
CREATED:20240726T111524Z
LAST-MODIFIED:20240726T111524Z
UID:10019970-1724596200-1724599800@www.dancesoul.com.tw
SUMMARY:兒童MV-((G)I-DLE - Klaxon)-羿芃
DESCRIPTION:
URL:https://www.dancesoul.com.tw/schedule/%e5%85%92%e7%ab%a5mv-gi-dle-klaxon-%e7%be%bf%e8%8a%83/2024-08-25/
CATEGORIES:兒童MV,兒童課,課程
END:VEVENT
BEGIN:VEVENT
DTSTART;TZID=Asia/Shanghai:20240825T132000
DTEND;TZID=Asia/Shanghai:20240825T142000
DTSTAMP:20260421T115717
CREATED:20240726T110716Z
LAST-MODIFIED:20240726T110716Z
UID:10019966-1724592000-1724595600@www.dancesoul.com.tw
SUMMARY:兒童街舞-羿芃
DESCRIPTION:
URL:https://www.dancesoul.com.tw/schedule/%e5%85%92%e7%ab%a5%e8%a1%97%e8%88%9e-%e7%be%bf%e8%8a%83-8/2024-08-25/
CATEGORIES:兒童街舞,兒童課,課程
END:VEVENT
BEGIN:VEVENT
DTSTART;TZID=Asia/Shanghai:20240824T202000
DTEND;TZID=Asia/Shanghai:20240824T212000
DTSTAMP:20260421T115717
CREATED:20240726T110529Z
LAST-MODIFIED:20240726T110529Z
UID:10019961-1724530800-1724534400@www.dancesoul.com.tw
SUMMARY:基礎入門-雞蛋
DESCRIPTION:
URL:https://www.dancesoul.com.tw/schedule/%e5%9f%ba%e7%a4%8e%e5%85%a5%e9%96%80-%e9%9b%9e%e8%9b%8b-30/2024-08-24/
CATEGORIES:基礎入門,常態課_初級,課程
END:VEVENT
BEGIN:VEVENT
DTSTART;TZID=Asia/Shanghai:20240824T191000
DTEND;TZID=Asia/Shanghai:20240824T201000
DTSTAMP:20260421T115717
CREATED:20240726T110428Z
LAST-MODIFIED:20240726T110428Z
UID:10019956-1724526600-1724530200@www.dancesoul.com.tw
SUMMARY:Choreography(初)-無盡
DESCRIPTION:
URL:https://www.dancesoul.com.tw/schedule/choreography%e5%88%9d-%e7%84%a1%e7%9b%a1-3/2024-08-24/
CATEGORIES:Choreography 初級,常態課_初級,課程
END:VEVENT
BEGIN:VEVENT
DTSTART;TZID=Asia/Shanghai:20240824T180000
DTEND;TZID=Asia/Shanghai:20240824T190000
DTSTAMP:20260421T115717
CREATED:20240726T110259Z
LAST-MODIFIED:20240726T110259Z
UID:10019951-1724522400-1724526000@www.dancesoul.com.tw
SUMMARY:Popping-紀威
DESCRIPTION:
URL:https://www.dancesoul.com.tw/schedule/popping-%e7%b4%80%e5%a8%81-43/2024-08-24/
CATEGORIES:Poppin,常態課_一般,課程
END:VEVENT
BEGIN:VEVENT
DTSTART;TZID=Asia/Shanghai:20240824T165000
DTEND;TZID=Asia/Shanghai:20240824T175000
DTSTAMP:20260421T115717
CREATED:20240726T110157Z
LAST-MODIFIED:20240726T110157Z
UID:10019946-1724518200-1724521800@www.dancesoul.com.tw
SUMMARY:MV-(KISS OF LIFE - Sticky)-怡妏
DESCRIPTION:
URL:https://www.dancesoul.com.tw/schedule/mv-kiss-of-life-sticky-%e6%80%a1%e5%a6%8f/2024-08-24/
CATEGORIES:MV課,課程
END:VEVENT
END:VCALENDAR