BEGIN:VCALENDAR
VERSION:2.0
PRODID:-//DANCE SOUL 舞魂街舞學校 - ECPv6.15.18//NONSGML v1.0//EN
CALSCALE:GREGORIAN
METHOD:PUBLISH
X-WR-CALNAME:DANCE SOUL 舞魂街舞學校
X-ORIGINAL-URL:https://www.dancesoul.com.tw
X-WR-CALDESC:Events for DANCE SOUL 舞魂街舞學校
REFRESH-INTERVAL;VALUE=DURATION:PT1H
X-Robots-Tag:noindex
X-PUBLISHED-TTL:PT1H
BEGIN:VTIMEZONE
TZID:Asia/Shanghai
BEGIN:STANDARD
TZOFFSETFROM:+0800
TZOFFSETTO:+0800
TZNAME:CST
DTSTART:20240101T000000
END:STANDARD
END:VTIMEZONE
BEGIN:VEVENT
DTSTART;TZID=Asia/Shanghai:20250223T154000
DTEND;TZID=Asia/Shanghai:20250223T164000
DTSTAMP:20260421T115616
CREATED:20250124T080745Z
LAST-MODIFIED:20250124T080855Z
UID:10020964-1740325200-1740328800@www.dancesoul.com.tw
SUMMARY:兒童 Street Jazz-傘傘
DESCRIPTION:
URL:https://www.dancesoul.com.tw/schedule/%e5%85%92%e7%ab%a5-street-jazz-%e5%82%98%e5%82%98-6/2025-02-23/
CATEGORIES:Popping 初級,兒童 Street Jazz,兒童課,課程
END:VEVENT
BEGIN:VEVENT
DTSTART;TZID=Asia/Shanghai:20250223T143000
DTEND;TZID=Asia/Shanghai:20250223T153000
DTSTAMP:20260421T115616
CREATED:20250126T122028Z
LAST-MODIFIED:20250126T122028Z
UID:10021140-1740321000-1740324600@www.dancesoul.com.tw
SUMMARY:兒童MV-(BABYMONSTER - Really Like You)-羿芃
DESCRIPTION:
URL:https://www.dancesoul.com.tw/schedule/%e5%85%92%e7%ab%a5mv-babymonster-really-like-you-%e7%be%bf%e8%8a%83/2025-02-23/
CATEGORIES:Popping 初級,兒童MV,兒童課,課程
END:VEVENT
BEGIN:VEVENT
DTSTART;TZID=Asia/Shanghai:20250223T132000
DTEND;TZID=Asia/Shanghai:20250223T142000
DTSTAMP:20260421T115616
CREATED:20250124T080647Z
LAST-MODIFIED:20250124T080840Z
UID:10020961-1740316800-1740320400@www.dancesoul.com.tw
SUMMARY:兒童街舞-羿芃
DESCRIPTION:
URL:https://www.dancesoul.com.tw/schedule/%e5%85%92%e7%ab%a5%e8%a1%97%e8%88%9e-%e7%be%bf%e8%8a%83-14/2025-02-23/
CATEGORIES:Popping 初級,兒童街舞,兒童課,課程
END:VEVENT
BEGIN:VEVENT
DTSTART;TZID=Asia/Shanghai:20250222T203000
DTEND;TZID=Asia/Shanghai:20250222T213000
DTSTAMP:20260421T115616
CREATED:20250125T062407Z
LAST-MODIFIED:20250125T062407Z
UID:10020997-1740256200-1740259800@www.dancesoul.com.tw
SUMMARY:基礎入門-雞蛋
DESCRIPTION:
URL:https://www.dancesoul.com.tw/schedule/%e5%9f%ba%e7%a4%8e%e5%85%a5%e9%96%80-%e9%9b%9e%e8%9b%8b-36/2025-02-22/
CATEGORIES:基礎入門,常態課_初級,課程
END:VEVENT
BEGIN:VEVENT
DTSTART;TZID=Asia/Shanghai:20250222T192500
DTEND;TZID=Asia/Shanghai:20250222T202500
DTSTAMP:20260421T115616
CREATED:20250125T062248Z
LAST-MODIFIED:20250125T062248Z
UID:10020994-1740252300-1740255900@www.dancesoul.com.tw
SUMMARY:Choreography(初)-無盡
DESCRIPTION:
URL:https://www.dancesoul.com.tw/schedule/choreography%e5%88%9d-%e7%84%a1%e7%9b%a1-9/2025-02-22/
CATEGORIES:Choreography 初級,常態課_初級,課程
END:VEVENT
BEGIN:VEVENT
DTSTART;TZID=Asia/Shanghai:20250222T182000
DTEND;TZID=Asia/Shanghai:20250222T192000
DTSTAMP:20260421T115616
CREATED:20250125T061357Z
LAST-MODIFIED:20250125T061357Z
UID:10020991-1740248400-1740252000@www.dancesoul.com.tw
SUMMARY:Popping-紀威
DESCRIPTION:
URL:https://www.dancesoul.com.tw/schedule/popping-%e7%b4%80%e5%a8%81-49/2025-02-22/
CATEGORIES:Poppin,常態課_一般,課程
END:VEVENT
BEGIN:VEVENT
DTSTART;TZID=Asia/Shanghai:20250222T165000
DTEND;TZID=Asia/Shanghai:20250222T175000
DTSTAMP:20260421T115616
CREATED:20250125T061239Z
LAST-MODIFIED:20250213T201347Z
UID:10020988-1740243000-1740246600@www.dancesoul.com.tw
SUMMARY:MV-(IVE - REBEL HEART)-凝琦
DESCRIPTION:
URL:https://www.dancesoul.com.tw/schedule/mv-ive-rebel-heart-%e5%87%9d%e7%90%a6/2025-02-22/
CATEGORIES:MV課,課程
ATTACH;FMTTYPE=image/png:https://www.dancesoul.com.tw/wp-content/uploads/2024/08/cropped-DSC00222-removebg-preview.png
END:VEVENT
BEGIN:VEVENT
DTSTART;TZID=Asia/Shanghai:20250222T154000
DTEND;TZID=Asia/Shanghai:20250222T164000
DTSTAMP:20260421T115616
CREATED:20250125T061005Z
LAST-MODIFIED:20250125T061005Z
UID:10020985-1740238800-1740242400@www.dancesoul.com.tw
SUMMARY:兒童Krump-Coffee
DESCRIPTION:
URL:https://www.dancesoul.com.tw/schedule/%e5%85%92%e7%ab%a5krump-coffee-2/2025-02-22/
CATEGORIES:Popping 初級,兒童Krump,兒童課,課程
END:VEVENT
BEGIN:VEVENT
DTSTART;TZID=Asia/Shanghai:20250222T143000
DTEND;TZID=Asia/Shanghai:20250222T153000
DTSTAMP:20260421T115616
CREATED:20250125T060839Z
LAST-MODIFIED:20250213T201505Z
UID:10020982-1740234600-1740238200@www.dancesoul.com.tw
SUMMARY:兒童MV-(IVE - REBEL HEART)-薇臻
DESCRIPTION:
URL:https://www.dancesoul.com.tw/schedule/%e5%85%92%e7%ab%a5mv-ive-rebel-heart-%e8%96%87%e8%87%bb/2025-02-22/
CATEGORIES:MV課,Popping 初級,兒童MV,兒童課,課程
ATTACH;FMTTYPE=image/png:https://www.dancesoul.com.tw/wp-content/uploads/2024/08/cropped-7d6e50f3-09e4-471e-bff6-b3cb6b4e2fb2__1_-removebg-preview.png
END:VEVENT
BEGIN:VEVENT
DTSTART;TZID=Asia/Shanghai:20250222T132000
DTEND;TZID=Asia/Shanghai:20250222T142000
DTSTAMP:20260421T115616
CREATED:20250125T060555Z
LAST-MODIFIED:20250213T201526Z
UID:10020979-1740230400-1740234000@www.dancesoul.com.tw
SUMMARY:兒童街舞-薇臻
DESCRIPTION:
URL:https://www.dancesoul.com.tw/schedule/%e5%85%92%e7%ab%a5%e8%a1%97%e8%88%9e-%e8%96%87%e8%87%bb-15/2025-02-22/
CATEGORIES:Popping 初級,兒童街舞,兒童課,課程
ATTACH;FMTTYPE=image/png:https://www.dancesoul.com.tw/wp-content/uploads/2024/08/cropped-7d6e50f3-09e4-471e-bff6-b3cb6b4e2fb2__1_-removebg-preview.png
END:VEVENT
BEGIN:VEVENT
DTSTART;TZID=Asia/Shanghai:20250221T203000
DTEND;TZID=Asia/Shanghai:20250221T213000
DTSTAMP:20260421T115616
CREATED:20250126T121741Z
LAST-MODIFIED:20250213T201555Z
UID:10021135-1740169800-1740173400@www.dancesoul.com.tw
SUMMARY:Hip Hop(初)-佐佐
DESCRIPTION:
URL:https://www.dancesoul.com.tw/schedule/hip-hop%e5%88%9d-%e4%bd%90%e4%bd%90-20/2025-02-21/
CATEGORIES:Hip Hop 初級,常態課_初級,課程
ATTACH;FMTTYPE=image/png:https://www.dancesoul.com.tw/wp-content/uploads/2024/08/cropped-379633145_833939798333649_4821612741604793782_n-removebg-preview-1.png
END:VEVENT
BEGIN:VEVENT
DTSTART;TZID=Asia/Shanghai:20250221T192500
DTEND;TZID=Asia/Shanghai:20250221T202500
DTSTAMP:20260421T115616
CREATED:20250126T121634Z
LAST-MODIFIED:20250126T121634Z
UID:10021131-1740165900-1740169500@www.dancesoul.com.tw
SUMMARY:Hip Hop(初)-佐佐
DESCRIPTION:
URL:https://www.dancesoul.com.tw/schedule/hip-hop%e5%88%9d-%e4%bd%90%e4%bd%90-19/2025-02-21/
CATEGORIES:Hip Hop 初級,常態課_初級,課程
END:VEVENT
BEGIN:VEVENT
DTSTART;TZID=Asia/Shanghai:20250221T182000
DTEND;TZID=Asia/Shanghai:20250221T192000
DTSTAMP:20260421T115616
CREATED:20250126T121434Z
LAST-MODIFIED:20250126T121434Z
UID:10021127-1740162000-1740165600@www.dancesoul.com.tw
SUMMARY:Street Jazz(初)-Cen妹
DESCRIPTION:
URL:https://www.dancesoul.com.tw/schedule/street-jazz%e5%88%9d-cen%e5%a6%b9-40/2025-02-21/
CATEGORIES:STREET JAZZ 初級,常態課_初級,課程
END:VEVENT
BEGIN:VEVENT
DTSTART;TZID=Asia/Shanghai:20250220T213500
DTEND;TZID=Asia/Shanghai:20250220T223500
DTSTAMP:20260421T115616
CREATED:20250126T121205Z
LAST-MODIFIED:20250126T121205Z
UID:10021123-1740087300-1740090900@www.dancesoul.com.tw
SUMMARY:Choreography-巴豪
DESCRIPTION:
URL:https://www.dancesoul.com.tw/schedule/choreography-%e5%b7%b4%e8%b1%aa-2/2025-02-20/
CATEGORIES:Choreography,常態課_一般,課程
END:VEVENT
BEGIN:VEVENT
DTSTART;TZID=Asia/Shanghai:20250220T203000
DTEND;TZID=Asia/Shanghai:20250220T213000
DTSTAMP:20260421T115616
CREATED:20250126T121018Z
LAST-MODIFIED:20250213T200818Z
UID:10021119-1740083400-1740087000@www.dancesoul.com.tw
SUMMARY:Hip Hop-林彤
DESCRIPTION:
URL:https://www.dancesoul.com.tw/schedule/hip-hop-%e6%9e%97%e5%bd%a4-26/2025-02-20/
CATEGORIES:Hip Hop,常態課_一般,課程
ATTACH;FMTTYPE=image/jpeg:https://www.dancesoul.com.tw/wp-content/uploads/2024/08/cropped-IMG_7076-scaled-1.jpg
END:VEVENT
BEGIN:VEVENT
DTSTART;TZID=Asia/Shanghai:20250220T192500
DTEND;TZID=Asia/Shanghai:20250220T202500
DTSTAMP:20260421T115616
CREATED:20250126T120859Z
LAST-MODIFIED:20250126T120859Z
UID:10021115-1740079500-1740083100@www.dancesoul.com.tw
SUMMARY:Choreography-芭比
DESCRIPTION:
URL:https://www.dancesoul.com.tw/schedule/choreography-%e8%8a%ad%e6%af%94-30/2025-02-20/
CATEGORIES:Choreography,常態課_一般,課程
END:VEVENT
BEGIN:VEVENT
DTSTART;TZID=Asia/Shanghai:20250220T182000
DTEND;TZID=Asia/Shanghai:20250220T192000
DTSTAMP:20260421T115616
CREATED:20250126T120555Z
LAST-MODIFIED:20250126T120555Z
UID:10021111-1740075600-1740079200@www.dancesoul.com.tw
SUMMARY:Jazz Funk-瑜庭
DESCRIPTION:
URL:https://www.dancesoul.com.tw/schedule/jazz-funk-%e7%91%9c%e5%ba%ad-3/2025-02-20/
CATEGORIES:Jazz Funk,Jazz Funk 初級,Waacking 初級,常態課_一般,課程
END:VEVENT
BEGIN:VEVENT
DTSTART;TZID=Asia/Shanghai:20250219T203000
DTEND;TZID=Asia/Shanghai:20250219T213000
DTSTAMP:20260421T115616
CREATED:20250126T120428Z
LAST-MODIFIED:20250126T120428Z
UID:10021107-1739997000-1740000600@www.dancesoul.com.tw
SUMMARY:Free Style-承達
DESCRIPTION:
URL:https://www.dancesoul.com.tw/schedule/free-style-%e6%89%bf%e9%81%94-47/2025-02-19/
CATEGORIES:Freestyle,常態課_一般,課程
END:VEVENT
BEGIN:VEVENT
DTSTART;TZID=Asia/Shanghai:20250219T192500
DTEND;TZID=Asia/Shanghai:20250219T202500
DTSTAMP:20260421T115616
CREATED:20250126T115932Z
LAST-MODIFIED:20250213T201805Z
UID:10021103-1739993100-1739996700@www.dancesoul.com.tw
SUMMARY:Street Jazz-Larry
DESCRIPTION:
URL:https://www.dancesoul.com.tw/schedule/street-jazz-larry-24/2025-02-19/
CATEGORIES:STREET JAZZ,常態課_一般,課程
ATTACH;FMTTYPE=image/png:https://www.dancesoul.com.tw/wp-content/uploads/2024/08/cropped-cropped-DSC08537-removebg-preview.png
END:VEVENT
BEGIN:VEVENT
DTSTART;TZID=Asia/Shanghai:20250219T182000
DTEND;TZID=Asia/Shanghai:20250219T192000
DTSTAMP:20260421T115616
CREATED:20250126T115818Z
LAST-MODIFIED:20250126T115818Z
UID:10021098-1739989200-1739992800@www.dancesoul.com.tw
SUMMARY:Street Jazz(初)-Kyle
DESCRIPTION:
URL:https://www.dancesoul.com.tw/schedule/street-jazz%e5%88%9d-kyle-23/2025-02-19/
CATEGORIES:STREET JAZZ 初級,常態課_初級,課程
END:VEVENT
BEGIN:VEVENT
DTSTART;TZID=Asia/Shanghai:20250218T213500
DTEND;TZID=Asia/Shanghai:20250218T223500
DTSTAMP:20260421T115616
CREATED:20250126T115610Z
LAST-MODIFIED:20250126T115610Z
UID:10021094-1739914500-1739918100@www.dancesoul.com.tw
SUMMARY:Krump-Coffee
DESCRIPTION:
URL:https://www.dancesoul.com.tw/schedule/krump-coffee-2/2025-02-18/
CATEGORIES:Krump,常態課_一般,課程
END:VEVENT
BEGIN:VEVENT
DTSTART;TZID=Asia/Shanghai:20250218T203000
DTEND;TZID=Asia/Shanghai:20250218T213000
DTSTAMP:20260421T115616
CREATED:20250126T115509Z
LAST-MODIFIED:20250213T201714Z
UID:10021090-1739910600-1739914200@www.dancesoul.com.tw
SUMMARY:Free Style(初)-俊宏
DESCRIPTION:
URL:https://www.dancesoul.com.tw/schedule/free-style%e5%88%9d-%e4%bf%8a%e5%ae%8f-30/2025-02-18/
CATEGORIES:Freestyle 初級,常態課_初級,課程
ATTACH;FMTTYPE=image/jpeg:https://www.dancesoul.com.tw/wp-content/uploads/2024/08/cropped-cropped-cropped-cropped-cropped-cropped-cropped-cropped-cropped-IMG_6506-scaled-1.jpg
END:VEVENT
BEGIN:VEVENT
DTSTART;TZID=Asia/Shanghai:20250218T192500
DTEND;TZID=Asia/Shanghai:20250218T202500
DTSTAMP:20260421T115616
CREATED:20250126T115311Z
LAST-MODIFIED:20250213T201733Z
UID:10021086-1739906700-1739910300@www.dancesoul.com.tw
SUMMARY:Street Jazz-Denis
DESCRIPTION:
URL:https://www.dancesoul.com.tw/schedule/street-jazz-denis-53/2025-02-18/
CATEGORIES:STREET JAZZ,常態課_一般,課程
ATTACH;FMTTYPE=image/jpeg:https://www.dancesoul.com.tw/wp-content/uploads/2025/02/dancesoul_class_01.jpg
END:VEVENT
BEGIN:VEVENT
DTSTART;TZID=Asia/Shanghai:20250218T182000
DTEND;TZID=Asia/Shanghai:20250218T192000
DTSTAMP:20260421T115616
CREATED:20250126T115214Z
LAST-MODIFIED:20250126T115214Z
UID:10021082-1739902800-1739906400@www.dancesoul.com.tw
SUMMARY:MV-(當日Dance Soul IG 限動公布歌曲)-薇臻
DESCRIPTION:
URL:https://www.dancesoul.com.tw/schedule/mv-%e7%95%b6%e6%97%a5dance-soul-ig-%e9%99%90%e5%8b%95%e5%85%ac%e5%b8%83%e6%ad%8c%e6%9b%b2-%e8%96%87%e8%87%bb-6/2025-02-18/
CATEGORIES:MV課,課程
END:VEVENT
BEGIN:VEVENT
DTSTART;TZID=Asia/Shanghai:20250217T203000
DTEND;TZID=Asia/Shanghai:20250217T213000
DTSTAMP:20260421T115617
CREATED:20250126T065824Z
LAST-MODIFIED:20250126T065824Z
UID:10021078-1739824200-1739827800@www.dancesoul.com.tw
SUMMARY:Jazz Funk-魏小美
DESCRIPTION:
URL:https://www.dancesoul.com.tw/schedule/jazz-funk-%e9%ad%8f%e5%b0%8f%e7%be%8e-80/2025-02-17/
CATEGORIES:Jazz Funk,Jazz Funk 初級,Waacking 初級,常態課_一般,課程
END:VEVENT
BEGIN:VEVENT
DTSTART;TZID=Asia/Shanghai:20250217T192500
DTEND;TZID=Asia/Shanghai:20250217T202500
DTSTAMP:20260421T115617
CREATED:20250126T065710Z
LAST-MODIFIED:20250126T065710Z
UID:10021074-1739820300-1739823900@www.dancesoul.com.tw
SUMMARY:Heels(初)-宋靜
DESCRIPTION:
URL:https://www.dancesoul.com.tw/schedule/heels%e5%88%9d-%e5%ae%8b%e9%9d%9c-37/2025-02-17/
CATEGORIES:Heels 初級,常態課_初級,課程
END:VEVENT
BEGIN:VEVENT
DTSTART;TZID=Asia/Shanghai:20250217T182000
DTEND;TZID=Asia/Shanghai:20250217T192000
DTSTAMP:20260421T115617
CREATED:20250126T065300Z
LAST-MODIFIED:20250213T200924Z
UID:10021070-1739816400-1739820000@www.dancesoul.com.tw
SUMMARY:Twerk(初)-碗公
DESCRIPTION:
URL:https://www.dancesoul.com.tw/schedule/twerk%e5%88%9d-%e7%a2%97%e5%85%ac-39/2025-02-17/
CATEGORIES:Twerk 初級,常態課_初級,課程
ATTACH;FMTTYPE=image/jpeg:https://www.dancesoul.com.tw/wp-content/uploads/2024/08/cropped-4E5A6698-scaled-1.jpg
END:VEVENT
BEGIN:VEVENT
DTSTART;TZID=Asia/Shanghai:20250216T192500
DTEND;TZID=Asia/Shanghai:20250216T202500
DTSTAMP:20260421T115617
CREATED:20250125T060440Z
LAST-MODIFIED:20250125T060440Z
UID:10020975-1739733900-1739737500@www.dancesoul.com.tw
SUMMARY:Hip Hop(初)-承翰
DESCRIPTION:
URL:https://www.dancesoul.com.tw/schedule/hip-hop%e5%88%9d-%e6%89%bf%e7%bf%b0-13/2025-02-16/
CATEGORIES:Hip Hop 初級,常態課_初級,課程
END:VEVENT
BEGIN:VEVENT
DTSTART;TZID=Asia/Shanghai:20250216T182000
DTEND;TZID=Asia/Shanghai:20250216T192000
DTSTAMP:20260421T115617
CREATED:20250125T054734Z
LAST-MODIFIED:20250125T054734Z
UID:10020971-1739730000-1739733600@www.dancesoul.com.tw
SUMMARY:Jazz Funk-姿昀
DESCRIPTION:
URL:https://www.dancesoul.com.tw/schedule/jazz-funk-%e5%a7%bf%e6%98%80-8/2025-02-16/
CATEGORIES:Jazz Funk,Jazz Funk 初級,Waacking 初級,常態課_一般,課程
END:VEVENT
BEGIN:VEVENT
DTSTART;TZID=Asia/Shanghai:20250216T165000
DTEND;TZID=Asia/Shanghai:20250216T175000
DTSTAMP:20260421T115617
CREATED:20250125T054106Z
LAST-MODIFIED:20250127T071630Z
UID:10020967-1739724600-1739728200@www.dancesoul.com.tw
SUMMARY:MV-(MINNIE-HER)-瑜庭
DESCRIPTION:
URL:https://www.dancesoul.com.tw/schedule/mv-gfriend-season-of-memories-%e7%91%9c%e5%ba%ad/2025-02-16/
CATEGORIES:MV課,課程
END:VEVENT
END:VCALENDAR