BEGIN:VCALENDAR
VERSION:2.0
PRODID:-//DANCE SOUL 舞魂街舞學校 - ECPv6.15.18//NONSGML v1.0//EN
CALSCALE:GREGORIAN
METHOD:PUBLISH
X-WR-CALNAME:DANCE SOUL 舞魂街舞學校
X-ORIGINAL-URL:https://www.dancesoul.com.tw
X-WR-CALDESC:Events for DANCE SOUL 舞魂街舞學校
REFRESH-INTERVAL;VALUE=DURATION:PT1H
X-Robots-Tag:noindex
X-PUBLISHED-TTL:PT1H
BEGIN:VTIMEZONE
TZID:Asia/Shanghai
BEGIN:STANDARD
TZOFFSETFROM:+0800
TZOFFSETTO:+0800
TZNAME:CST
DTSTART:20240101T000000
END:STANDARD
END:VTIMEZONE
BEGIN:VEVENT
DTSTART;TZID=Asia/Shanghai:20250725T192500
DTEND;TZID=Asia/Shanghai:20250725T202500
DTSTAMP:20260421T060811
CREATED:20250623T131637Z
LAST-MODIFIED:20250725T082736Z
UID:10021965-1753471500-1753475100@www.dancesoul.com.tw
SUMMARY:Street Jazz-邱邱
DESCRIPTION:
URL:https://www.dancesoul.com.tw/schedule/street-jazz-%e9%82%b1%e9%82%b1-4/2025-07-25/
CATEGORIES:STREET JAZZ
END:VEVENT
BEGIN:VEVENT
DTSTART;TZID=Asia/Shanghai:20250725T182000
DTEND;TZID=Asia/Shanghai:20250725T192000
DTSTAMP:20260421T060811
CREATED:20250623T131317Z
LAST-MODIFIED:20250725T082638Z
UID:10021961-1753467600-1753471200@www.dancesoul.com.tw
SUMMARY:Street Jazz-Cen妹
DESCRIPTION:
URL:https://www.dancesoul.com.tw/schedule/street-jazz-cen%e5%a6%b9-2/2025-07-25/
CATEGORIES:STREET JAZZ
END:VEVENT
BEGIN:VEVENT
DTSTART;TZID=Asia/Shanghai:20250725T165000
DTEND;TZID=Asia/Shanghai:20250725T175000
DTSTAMP:20260421T060811
CREATED:20250623T131047Z
LAST-MODIFIED:20250623T131047Z
UID:10021957-1753462200-1753465800@www.dancesoul.com.tw
SUMMARY:Choreography-Larryx巴豪
DESCRIPTION:ㄓ
URL:https://www.dancesoul.com.tw/schedule/choreography-larryx%e5%b7%b4%e8%b1%aa/2025-07-25/
CATEGORIES:Choreography,特別課程
END:VEVENT
BEGIN:VEVENT
DTSTART;TZID=Asia/Shanghai:20250725T154000
DTEND;TZID=Asia/Shanghai:20250725T164000
DTSTAMP:20260421T060811
CREATED:20250623T130858Z
LAST-MODIFIED:20250725T082212Z
UID:10021953-1753458000-1753461600@www.dancesoul.com.tw
SUMMARY:Street Jazz-大可
DESCRIPTION:
URL:https://www.dancesoul.com.tw/schedule/street-jazz-%e5%a4%a7%e5%8f%af/2025-07-25/
CATEGORIES:STREET JAZZ
END:VEVENT
BEGIN:VEVENT
DTSTART;TZID=Asia/Shanghai:20250725T143000
DTEND;TZID=Asia/Shanghai:20250725T153000
DTSTAMP:20260421T060811
CREATED:20250623T130517Z
LAST-MODIFIED:20250623T130517Z
UID:10021949-1753453800-1753457400@www.dancesoul.com.tw
SUMMARY:兒童Popping
DESCRIPTION:
URL:https://www.dancesoul.com.tw/schedule/%e5%85%92%e7%ab%a5popping/2025-07-25/
CATEGORIES:兒童課
END:VEVENT
BEGIN:VEVENT
DTSTART;TZID=Asia/Shanghai:20250724T213500
DTEND;TZID=Asia/Shanghai:20250724T223500
DTSTAMP:20260421T060811
CREATED:20250623T123930Z
LAST-MODIFIED:20250725T081853Z
UID:10021944-1753392900-1753396500@www.dancesoul.com.tw
SUMMARY:Choreography-巴豪
DESCRIPTION:
URL:https://www.dancesoul.com.tw/schedule/choreography-%e5%b7%b4%e8%b1%aa-6/2025-07-24/
CATEGORIES:Choreography
END:VEVENT
BEGIN:VEVENT
DTSTART;TZID=Asia/Shanghai:20250724T203000
DTEND;TZID=Asia/Shanghai:20250724T213000
DTSTAMP:20260421T060811
CREATED:20250623T123744Z
LAST-MODIFIED:20250725T081741Z
UID:10021934-1753389000-1753392600@www.dancesoul.com.tw
SUMMARY:Hip Hop-林彤
DESCRIPTION:
URL:https://www.dancesoul.com.tw/schedule/hip-hop-%e6%9e%97%e5%bd%a4-30/2025-07-24/
CATEGORIES:Hip Hop
END:VEVENT
BEGIN:VEVENT
DTSTART;TZID=Asia/Shanghai:20250724T192500
DTEND;TZID=Asia/Shanghai:20250724T202500
DTSTAMP:20260421T060811
CREATED:20250623T123638Z
LAST-MODIFIED:20250725T081646Z
UID:10021929-1753385100-1753388700@www.dancesoul.com.tw
SUMMARY:Hip Hop-佐佐
DESCRIPTION:
URL:https://www.dancesoul.com.tw/schedule/hip-hop-%e4%bd%90%e4%bd%90/2025-07-24/
CATEGORIES:Hip Hop
END:VEVENT
BEGIN:VEVENT
DTSTART;TZID=Asia/Shanghai:20250724T182000
DTEND;TZID=Asia/Shanghai:20250724T192000
DTSTAMP:20260421T060811
CREATED:20250623T123413Z
LAST-MODIFIED:20250725T081555Z
UID:10021924-1753381200-1753384800@www.dancesoul.com.tw
SUMMARY:Jazz Funk-瑜庭
DESCRIPTION:
URL:https://www.dancesoul.com.tw/schedule/jazz-funk-%e7%91%9c%e5%ba%ad-7/2025-07-24/
CATEGORIES:Jazz Funk
END:VEVENT
BEGIN:VEVENT
DTSTART;TZID=Asia/Shanghai:20250724T165000
DTEND;TZID=Asia/Shanghai:20250724T175000
DTSTAMP:20260421T060811
CREATED:20250623T123251Z
LAST-MODIFIED:20250623T123251Z
UID:10021919-1753375800-1753379400@www.dancesoul.com.tw
SUMMARY:Choreography-俊宏xCoffee
DESCRIPTION:
URL:https://www.dancesoul.com.tw/schedule/choreography-%e4%bf%8a%e5%ae%8fxcoffee/2025-07-24/
CATEGORIES:Choreography,特別課程
END:VEVENT
BEGIN:VEVENT
DTSTART;TZID=Asia/Shanghai:20250724T154000
DTEND;TZID=Asia/Shanghai:20250724T164000
DTSTAMP:20260421T060811
CREATED:20250623T123015Z
LAST-MODIFIED:20250725T080946Z
UID:10021914-1753371600-1753375200@www.dancesoul.com.tw
SUMMARY:Street Jazz-小翁
DESCRIPTION:
URL:https://www.dancesoul.com.tw/schedule/street-jazz-%e5%b0%8f%e7%bf%81/2025-07-24/
CATEGORIES:STREET JAZZ
END:VEVENT
BEGIN:VEVENT
DTSTART;TZID=Asia/Shanghai:20250724T143000
DTEND;TZID=Asia/Shanghai:20250724T153000
DTSTAMP:20260421T060811
CREATED:20250623T122838Z
LAST-MODIFIED:20250725T080850Z
UID:10021909-1753367400-1753371000@www.dancesoul.com.tw
SUMMARY:Jazz Funk-米其林
DESCRIPTION:
URL:https://www.dancesoul.com.tw/schedule/jazz-funk-%e7%b1%b3%e5%85%b6%e6%9e%97-3/2025-07-24/
CATEGORIES:Jazz Funk
END:VEVENT
BEGIN:VEVENT
DTSTART;TZID=Asia/Shanghai:20250723T213500
DTEND;TZID=Asia/Shanghai:20250723T223500
DTSTAMP:20260421T060811
CREATED:20250623T122629Z
LAST-MODIFIED:20250623T122629Z
UID:10021904-1753306500-1753310100@www.dancesoul.com.tw
SUMMARY:Free Style-承達
DESCRIPTION:
URL:https://www.dancesoul.com.tw/schedule/free-style-%e6%89%bf%e9%81%94-51/2025-07-23/
CATEGORIES:Freestyle
END:VEVENT
BEGIN:VEVENT
DTSTART;TZID=Asia/Shanghai:20250723T203000
DTEND;TZID=Asia/Shanghai:20250723T213000
DTSTAMP:20260421T060811
CREATED:20250623T122515Z
LAST-MODIFIED:20250623T122515Z
UID:10021899-1753302600-1753306200@www.dancesoul.com.tw
SUMMARY:Street Jazz-Kyle
DESCRIPTION:
URL:https://www.dancesoul.com.tw/schedule/street-jazz-kyle-3/2025-07-23/
CATEGORIES:STREET JAZZ
END:VEVENT
BEGIN:VEVENT
DTSTART;TZID=Asia/Shanghai:20250723T192500
DTEND;TZID=Asia/Shanghai:20250723T202500
DTSTAMP:20260421T060811
CREATED:20250623T122409Z
LAST-MODIFIED:20250623T122409Z
UID:10021894-1753298700-1753302300@www.dancesoul.com.tw
SUMMARY:Street Jazz-Larry
DESCRIPTION:
URL:https://www.dancesoul.com.tw/schedule/street-jazz-larry-29/2025-07-23/
CATEGORIES:STREET JAZZ
END:VEVENT
BEGIN:VEVENT
DTSTART;TZID=Asia/Shanghai:20250723T192500
DTEND;TZID=Asia/Shanghai:20250723T202500
DTSTAMP:20260421T060811
CREATED:20250417T094436Z
LAST-MODIFIED:20250725T075734Z
UID:10022091-1753298700-1753302300@www.dancesoul.com.tw
SUMMARY:Street Jazz-Larry
DESCRIPTION:
URL:https://www.dancesoul.com.tw/schedule/street-jazz-larry-28/2025-07-23/
CATEGORIES:STREET JAZZ,常態課_一般,課程
END:VEVENT
BEGIN:VEVENT
DTSTART;TZID=Asia/Shanghai:20250723T182000
DTEND;TZID=Asia/Shanghai:20250723T192000
DTSTAMP:20260421T060811
CREATED:20250623T122258Z
LAST-MODIFIED:20250623T122258Z
UID:10021889-1753294800-1753298400@www.dancesoul.com.tw
SUMMARY:Krump-Coffee
DESCRIPTION:
URL:https://www.dancesoul.com.tw/schedule/krump-coffee-6/2025-07-23/
CATEGORIES:Krump
END:VEVENT
BEGIN:VEVENT
DTSTART;TZID=Asia/Shanghai:20250723T182000
DTEND;TZID=Asia/Shanghai:20250723T192000
DTSTAMP:20260421T060811
CREATED:20250417T094623Z
LAST-MODIFIED:20250725T075554Z
UID:10022082-1753294800-1753298400@www.dancesoul.com.tw
SUMMARY:Krump-Coffee
DESCRIPTION:
URL:https://www.dancesoul.com.tw/schedule/krump-coffee-5/2025-07-23/
CATEGORIES:Krump,常態課_一般,課程
END:VEVENT
BEGIN:VEVENT
DTSTART;TZID=Asia/Shanghai:20250723T165000
DTEND;TZID=Asia/Shanghai:20250723T175000
DTSTAMP:20260421T060811
CREATED:20250623T122146Z
LAST-MODIFIED:20250623T123123Z
UID:10021884-1753289400-1753293000@www.dancesoul.com.tw
SUMMARY:Choreography-林彤x聖恩
DESCRIPTION:
URL:https://www.dancesoul.com.tw/schedule/choreography-%e6%9e%97%e5%bd%a4x%e8%81%96%e6%81%a9/2025-07-23/
CATEGORIES:Choreography,特別課程
END:VEVENT
BEGIN:VEVENT
DTSTART;TZID=Asia/Shanghai:20250723T154000
DTEND;TZID=Asia/Shanghai:20250723T164000
DTSTAMP:20260421T060811
CREATED:20250623T121833Z
LAST-MODIFIED:20250623T121833Z
UID:10021879-1753285200-1753288800@www.dancesoul.com.tw
SUMMARY:Free Style-雞蛋
DESCRIPTION:
URL:https://www.dancesoul.com.tw/schedule/free-style-%e9%9b%9e%e8%9b%8b/2025-07-23/
CATEGORIES:Freestyle
END:VEVENT
BEGIN:VEVENT
DTSTART;TZID=Asia/Shanghai:20250723T143000
DTEND;TZID=Asia/Shanghai:20250723T153000
DTSTAMP:20260421T060811
CREATED:20250623T121721Z
LAST-MODIFIED:20250725T080546Z
UID:10021874-1753281000-1753284600@www.dancesoul.com.tw
SUMMARY:基礎入門-無盡
DESCRIPTION:
URL:https://www.dancesoul.com.tw/schedule/%e5%9f%ba%e7%a4%8e%e5%85%a5%e9%96%80-%e7%84%a1%e7%9b%a1-9/2025-07-23/
CATEGORIES:基礎入門
END:VEVENT
BEGIN:VEVENT
DTSTART;TZID=Asia/Shanghai:20250722T203000
DTEND;TZID=Asia/Shanghai:20250722T213000
DTSTAMP:20260421T060811
CREATED:20250623T121559Z
LAST-MODIFIED:20250725T075356Z
UID:10021869-1753216200-1753219800@www.dancesoul.com.tw
SUMMARY:Free Style-俊宏
DESCRIPTION:
URL:https://www.dancesoul.com.tw/schedule/free-style-%e4%bf%8a%e5%ae%8f-28/2025-07-22/
CATEGORIES:Freestyle
END:VEVENT
BEGIN:VEVENT
DTSTART;TZID=Asia/Shanghai:20250722T192500
DTEND;TZID=Asia/Shanghai:20250722T202500
DTSTAMP:20260421T060811
CREATED:20250623T121421Z
LAST-MODIFIED:20250725T075312Z
UID:10021864-1753212300-1753215900@www.dancesoul.com.tw
SUMMARY:Street Jazz-Denis
DESCRIPTION:
URL:https://www.dancesoul.com.tw/schedule/street-jazz-denis-57/2025-07-22/
CATEGORIES:STREET JAZZ
END:VEVENT
BEGIN:VEVENT
DTSTART;TZID=Asia/Shanghai:20250722T182000
DTEND;TZID=Asia/Shanghai:20250722T192000
DTSTAMP:20260421T060811
CREATED:20250623T121300Z
LAST-MODIFIED:20250725T075226Z
UID:10021859-1753208400-1753212000@www.dancesoul.com.tw
SUMMARY:MV-薇臻
DESCRIPTION:
URL:https://www.dancesoul.com.tw/schedule/mv-%e8%96%87%e8%87%bb-3/2025-07-22/
CATEGORIES:MV課
END:VEVENT
BEGIN:VEVENT
DTSTART;TZID=Asia/Shanghai:20250722T165000
DTEND;TZID=Asia/Shanghai:20250722T175000
DTSTAMP:20260421T060811
CREATED:20250623T121143Z
LAST-MODIFIED:20250623T121143Z
UID:10021854-1753203000-1753206600@www.dancesoul.com.tw
SUMMARY:MV-凝琦x薇臻
DESCRIPTION:
URL:https://www.dancesoul.com.tw/schedule/mv-%e5%87%9d%e7%90%a6x%e8%96%87%e8%87%bb/2025-07-22/
CATEGORIES:MV課,特別課程
END:VEVENT
BEGIN:VEVENT
DTSTART;TZID=Asia/Shanghai:20250722T154000
DTEND;TZID=Asia/Shanghai:20250722T164000
DTSTAMP:20260421T060811
CREATED:20250623T121009Z
LAST-MODIFIED:20250725T074903Z
UID:10021849-1753198800-1753202400@www.dancesoul.com.tw
SUMMARY:MV-俊宏
DESCRIPTION:
URL:https://www.dancesoul.com.tw/schedule/mv-%e4%bf%8a%e5%ae%8f/2025-07-22/
CATEGORIES:MV課
END:VEVENT
BEGIN:VEVENT
DTSTART;TZID=Asia/Shanghai:20250722T143000
DTEND;TZID=Asia/Shanghai:20250722T153000
DTSTAMP:20260421T060811
CREATED:20250623T120518Z
LAST-MODIFIED:20250725T074800Z
UID:10021844-1753194600-1753198200@www.dancesoul.com.tw
SUMMARY:Street Jazz-Cen妹
DESCRIPTION:
URL:https://www.dancesoul.com.tw/schedule/street-jazz-cen%e5%a6%b9/2025-07-22/
CATEGORIES:STREET JAZZ
END:VEVENT
BEGIN:VEVENT
DTSTART;TZID=Asia/Shanghai:20250721T203000
DTEND;TZID=Asia/Shanghai:20250721T213000
DTSTAMP:20260421T060811
CREATED:20250623T120332Z
LAST-MODIFIED:20250725T073323Z
UID:10021839-1753129800-1753133400@www.dancesoul.com.tw
SUMMARY:Jazz Funk-姿昀
DESCRIPTION:
URL:https://www.dancesoul.com.tw/schedule/jazz-funk-%e5%a7%bf%e6%98%80-13/2025-07-21/
CATEGORIES:Jazz Funk
END:VEVENT
BEGIN:VEVENT
DTSTART;TZID=Asia/Shanghai:20250721T192500
DTEND;TZID=Asia/Shanghai:20250721T202500
DTSTAMP:20260421T060811
CREATED:20250623T120211Z
LAST-MODIFIED:20250725T072353Z
UID:10021835-1753125900-1753129500@www.dancesoul.com.tw
SUMMARY:Heels-宋靜
DESCRIPTION:
URL:https://www.dancesoul.com.tw/schedule/heels-%e5%ae%8b%e9%9d%9c-2/2025-07-21/
CATEGORIES:Heels
END:VEVENT
BEGIN:VEVENT
DTSTART;TZID=Asia/Shanghai:20250721T165000
DTEND;TZID=Asia/Shanghai:20250721T175000
DTSTAMP:20260421T060811
CREATED:20250623T105548Z
LAST-MODIFIED:20250623T105548Z
UID:10021823-1753116600-1753120200@www.dancesoul.com.tw
SUMMARY:Heels-姿昀x太陽
DESCRIPTION:
URL:https://www.dancesoul.com.tw/schedule/heels-%e5%a7%bf%e6%98%80x%e5%a4%aa%e9%99%bd/2025-07-21/
CATEGORIES:Heels,特別課程
END:VEVENT
END:VCALENDAR