BEGIN:VCALENDAR
VERSION:2.0
PRODID:-//DANCE SOUL 舞魂街舞學校 - ECPv6.15.18//NONSGML v1.0//EN
CALSCALE:GREGORIAN
METHOD:PUBLISH
X-WR-CALNAME:DANCE SOUL 舞魂街舞學校
X-ORIGINAL-URL:https://www.dancesoul.com.tw
X-WR-CALDESC:Events for DANCE SOUL 舞魂街舞學校
REFRESH-INTERVAL;VALUE=DURATION:PT1H
X-Robots-Tag:noindex
X-PUBLISHED-TTL:PT1H
BEGIN:VTIMEZONE
TZID:Asia/Shanghai
BEGIN:STANDARD
TZOFFSETFROM:+0800
TZOFFSETTO:+0800
TZNAME:CST
DTSTART:20240101T000000
END:STANDARD
END:VTIMEZONE
BEGIN:VEVENT
DTSTART;TZID=Asia/Shanghai:20251027T192500
DTEND;TZID=Asia/Shanghai:20251027T202500
DTSTAMP:20260421T121924
CREATED:20250828T095129Z
LAST-MODIFIED:20250828T095129Z
UID:10023099-1761593100-1761596700@www.dancesoul.com.tw
SUMMARY:Heels-宋靜
DESCRIPTION:
URL:https://www.dancesoul.com.tw/schedule/heels-%e5%ae%8b%e9%9d%9c-3/2025-10-27/
END:VEVENT
BEGIN:VEVENT
DTSTART;TZID=Asia/Shanghai:20251027T202000
DTEND;TZID=Asia/Shanghai:20251027T212000
DTSTAMP:20260421T121924
CREATED:20250828T095322Z
LAST-MODIFIED:20250828T095338Z
UID:10023360-1761596400-1761600000@www.dancesoul.com.tw
SUMMARY:Jazz Funk-魏小美
DESCRIPTION:
URL:https://www.dancesoul.com.tw/schedule/jazz-funk-%e9%ad%8f%e5%b0%8f%e7%be%8e-84/2025-10-27/
END:VEVENT
BEGIN:VEVENT
DTSTART;TZID=Asia/Shanghai:20251028T182000
DTEND;TZID=Asia/Shanghai:20251028T192000
DTSTAMP:20260421T121924
CREATED:20250828T095545Z
LAST-MODIFIED:20250828T095545Z
UID:10023621-1761675600-1761679200@www.dancesoul.com.tw
SUMMARY:MV-薇臻
DESCRIPTION:
URL:https://www.dancesoul.com.tw/schedule/mv-%e8%96%87%e8%87%bb-4/2025-10-28/
END:VEVENT
BEGIN:VEVENT
DTSTART;TZID=Asia/Shanghai:20251028T202000
DTEND;TZID=Asia/Shanghai:20251028T212000
DTSTAMP:20260421T121924
CREATED:20250828T100203Z
LAST-MODIFIED:20250828T100203Z
UID:10023883-1761682800-1761686400@www.dancesoul.com.tw
SUMMARY:Free Style-俊宏
DESCRIPTION:
URL:https://www.dancesoul.com.tw/schedule/free-style-%e4%bf%8a%e5%ae%8f-29/2025-10-28/
CATEGORIES:Freestyle,常態課_一般,課程
END:VEVENT
BEGIN:VEVENT
DTSTART;TZID=Asia/Shanghai:20251029T192500
DTEND;TZID=Asia/Shanghai:20251029T202500
DTSTAMP:20260421T121924
CREATED:20250828T102504Z
LAST-MODIFIED:20250828T102504Z
UID:10024666-1761765900-1761769500@www.dancesoul.com.tw
SUMMARY:Street Jazz-Larry
DESCRIPTION:
URL:https://www.dancesoul.com.tw/schedule/street-jazz-larry-30/2025-10-29/
CATEGORIES:STREET JAZZ,常態課_一般,課程
END:VEVENT
BEGIN:VEVENT
DTSTART;TZID=Asia/Shanghai:20251029T203000
DTEND;TZID=Asia/Shanghai:20251029T213000
DTSTAMP:20260421T121924
CREATED:20250828T103540Z
LAST-MODIFIED:20250828T103540Z
UID:10024927-1761769800-1761773400@www.dancesoul.com.tw
SUMMARY:Street Jazz-Kyle
DESCRIPTION:
URL:https://www.dancesoul.com.tw/schedule/street-jazz-kyle-4/2025-10-29/
CATEGORIES:STREET JAZZ,常態課_一般,課程
END:VEVENT
BEGIN:VEVENT
DTSTART;TZID=Asia/Shanghai:20251030T182000
DTEND;TZID=Asia/Shanghai:20251030T192000
DTSTAMP:20260421T121924
CREATED:20250828T103838Z
LAST-MODIFIED:20250828T103838Z
UID:10025449-1761848400-1761852000@www.dancesoul.com.tw
SUMMARY:Hip Hop-佐佐
DESCRIPTION:
URL:https://www.dancesoul.com.tw/schedule/hip-hop-%e4%bd%90%e4%bd%90-2/2025-10-30/
CATEGORIES:Hip Hop,常態課_一般,課程
END:VEVENT
BEGIN:VEVENT
DTSTART;TZID=Asia/Shanghai:20251030T213500
DTEND;TZID=Asia/Shanghai:20251030T223500
DTSTAMP:20260421T121924
CREATED:20250828T104929Z
LAST-MODIFIED:20250828T104929Z
UID:10026229-1761860100-1761863700@www.dancesoul.com.tw
SUMMARY:Choreography-巴豪
DESCRIPTION:
URL:https://www.dancesoul.com.tw/schedule/choreography-%e5%b7%b4%e8%b1%aa-7/2025-10-30/
CATEGORIES:Choreography,常態課_一般,課程
END:VEVENT
BEGIN:VEVENT
DTSTART;TZID=Asia/Shanghai:20251101T132000
DTEND;TZID=Asia/Shanghai:20251101T142000
DTSTAMP:20260421T121924
CREATED:20250828T110222Z
LAST-MODIFIED:20250901T054527Z
UID:10027269-1762003200-1762006800@www.dancesoul.com.tw
SUMMARY:兒童MV(初)(izna-GOLDEN)-薇臻
DESCRIPTION:
URL:https://www.dancesoul.com.tw/schedule/%e5%85%92%e7%ab%a5%e8%a1%97%e8%88%9e-%e8%96%87%e8%87%bb-21/2025-11-01/
CATEGORIES:兒童街舞,兒童課
END:VEVENT
BEGIN:VEVENT
DTSTART;TZID=Asia/Shanghai:20251101T132000
DTEND;TZID=Asia/Shanghai:20251101T142000
DTSTAMP:20260421T121924
CREATED:20251201T070320Z
LAST-MODIFIED:20260315T072345Z
UID:10031405-1762003200-1762006800@www.dancesoul.com.tw
SUMMARY:兒童MV(初)(i-dle - 'Mona(Feat.skaiwater)')-薇臻
DESCRIPTION:
URL:https://www.dancesoul.com.tw/schedule/%e5%85%92%e7%ab%a5%e8%a1%97%e8%88%9e-%e8%96%87%e8%87%bb-21-2-2-2/2025-11-01/
CATEGORIES:兒童街舞,兒童課
END:VEVENT
BEGIN:VEVENT
DTSTART;TZID=Asia/Shanghai:20251101T143000
DTEND;TZID=Asia/Shanghai:20251101T153000
DTSTAMP:20260421T121924
CREATED:20250901T054940Z
LAST-MODIFIED:20250901T054940Z
UID:10027530-1762007400-1762011000@www.dancesoul.com.tw
SUMMARY:兒童MV(BABYMONSTER-HOT SAUCE)-薇臻
DESCRIPTION:
URL:https://www.dancesoul.com.tw/schedule/%e5%85%92%e7%ab%a5mvbabymonster-hot-sauce-%e8%96%87%e8%87%bb/2025-11-01/
CATEGORIES:MV課,兒童MV,課程
END:VEVENT
BEGIN:VEVENT
DTSTART;TZID=Asia/Shanghai:20251101T143000
DTEND;TZID=Asia/Shanghai:20251101T153000
DTSTAMP:20260421T121924
CREATED:20251202T055414Z
LAST-MODIFIED:20260315T072223Z
UID:10031374-1762007400-1762011000@www.dancesoul.com.tw
SUMMARY:兒童MV(IVE - 'BANG BANG')-薇臻
DESCRIPTION:
URL:https://www.dancesoul.com.tw/schedule/%e5%85%92%e7%ab%a5mvbabymonster-hot-sauce-%e8%96%87%e8%87%bb-2/2025-11-01/
CATEGORIES:MV課,兒童MV,課程
END:VEVENT
BEGIN:VEVENT
DTSTART;TZID=Asia/Shanghai:20251101T164000
DTEND;TZID=Asia/Shanghai:20251101T174000
DTSTAMP:20260421T121924
CREATED:20250901T055344Z
LAST-MODIFIED:20251202T055314Z
UID:10027792-1762015200-1762018800@www.dancesoul.com.tw
SUMMARY:MV(BABYMONSTER - ‘PSYCHO’)-凝琦
DESCRIPTION:
URL:https://www.dancesoul.com.tw/schedule/mvive-xoxz-%e5%87%9d%e7%90%a6/2025-11-01/
CATEGORIES:MV課,課程
END:VEVENT
BEGIN:VEVENT
DTSTART;TZID=Asia/Shanghai:20251101T164000
DTEND;TZID=Asia/Shanghai:20251101T174000
DTSTAMP:20260421T121924
CREATED:20260315T072002Z
LAST-MODIFIED:20260315T072518Z
UID:10031436-1762015200-1762018800@www.dancesoul.com.tw
SUMMARY:MV(IVE - ‘BANG BANG’)-薇臻
DESCRIPTION:
URL:https://www.dancesoul.com.tw/schedule/mvive-xoxz-%e5%87%9d%e7%90%a6-2-2/2025-11-01/
CATEGORIES:MV課,課程
END:VEVENT
BEGIN:VEVENT
DTSTART;TZID=Asia/Shanghai:20251101T182000
DTEND;TZID=Asia/Shanghai:20251101T192000
DTSTAMP:20260421T121924
CREATED:20250901T055441Z
LAST-MODIFIED:20250901T055457Z
UID:10028053-1762021200-1762024800@www.dancesoul.com.tw
SUMMARY:Popping-紀威
DESCRIPTION:
URL:https://www.dancesoul.com.tw/schedule/popping-%e7%b4%80%e5%a8%81-54/2025-11-01/
CATEGORIES:Poppin,常態課_一般,課程
END:VEVENT
BEGIN:VEVENT
DTSTART;TZID=Asia/Shanghai:20251102T132000
DTEND;TZID=Asia/Shanghai:20251102T142000
DTSTAMP:20260421T121924
CREATED:20250901T055750Z
LAST-MODIFIED:20250901T055750Z
UID:10028836-1762089600-1762093200@www.dancesoul.com.tw
SUMMARY:兒童街舞-羿芃
DESCRIPTION:
URL:https://www.dancesoul.com.tw/schedule/%e5%85%92%e7%ab%a5%e8%a1%97%e8%88%9e-%e7%be%bf%e8%8a%83-20/2025-11-02/
CATEGORIES:兒童街舞,課程
END:VEVENT
BEGIN:VEVENT
DTSTART;TZID=Asia/Shanghai:20251102T143000
DTEND;TZID=Asia/Shanghai:20251102T153000
DTSTAMP:20260421T121924
CREATED:20250901T060121Z
LAST-MODIFIED:20250901T060121Z
UID:10029097-1762093800-1762097400@www.dancesoul.com.tw
SUMMARY:兒童MV(IZNA-SASS)-羿芃
DESCRIPTION:
URL:https://www.dancesoul.com.tw/schedule/%e5%85%92%e7%ab%a5mvizna-sass-%e7%be%bf%e8%8a%83/2025-11-02/
CATEGORIES:兒童MV,兒童課
END:VEVENT
BEGIN:VEVENT
DTSTART;TZID=Asia/Shanghai:20251102T154000
DTEND;TZID=Asia/Shanghai:20251102T164000
DTSTAMP:20260421T121924
CREATED:20250901T060229Z
LAST-MODIFIED:20250901T060229Z
UID:10029358-1762098000-1762101600@www.dancesoul.com.tw
SUMMARY:兒童Street Jazz-傘傘
DESCRIPTION:
URL:https://www.dancesoul.com.tw/schedule/%e5%85%92%e7%ab%a5street-jazz-%e5%82%98%e5%82%98-4/2025-11-02/
CATEGORIES:兒童街舞,兒童課
END:VEVENT
BEGIN:VEVENT
DTSTART;TZID=Asia/Shanghai:20251102T165000
DTEND;TZID=Asia/Shanghai:20251102T175000
DTSTAMP:20260421T121924
CREATED:20251201T095640Z
LAST-MODIFIED:20260315T071631Z
UID:10031286-1762102200-1762105800@www.dancesoul.com.tw
SUMMARY:MV(Apink - 'Love Me More')-Jenny
DESCRIPTION:
URL:https://www.dancesoul.com.tw/schedule/mvsomi-closer-%e7%91%9c%e5%ba%ad-2/2025-11-02/
CATEGORIES:MV課,課程
END:VEVENT
BEGIN:VEVENT
DTSTART;TZID=Asia/Shanghai:20251102T192500
DTEND;TZID=Asia/Shanghai:20251102T202500
DTSTAMP:20260421T121924
CREATED:20250901T060526Z
LAST-MODIFIED:20250901T060526Z
UID:10030141-1762111500-1762115100@www.dancesoul.com.tw
SUMMARY:Hip Hop-承翰
DESCRIPTION:
URL:https://www.dancesoul.com.tw/schedule/hip-hop-%e6%89%bf%e7%bf%b0-2/2025-11-02/
CATEGORIES:Hip Hop,常態課_一般,課程
END:VEVENT
BEGIN:VEVENT
DTSTART;TZID=Asia/Shanghai:20251103T192500
DTEND;TZID=Asia/Shanghai:20251103T202500
DTSTAMP:20260421T121924
CREATED:20250828T095129Z
LAST-MODIFIED:20250828T095129Z
UID:10023100-1762197900-1762201500@www.dancesoul.com.tw
SUMMARY:Heels-宋靜
DESCRIPTION:
URL:https://www.dancesoul.com.tw/schedule/heels-%e5%ae%8b%e9%9d%9c-3/2025-11-03/
END:VEVENT
BEGIN:VEVENT
DTSTART;TZID=Asia/Shanghai:20251103T202000
DTEND;TZID=Asia/Shanghai:20251103T212000
DTSTAMP:20260421T121924
CREATED:20250828T095322Z
LAST-MODIFIED:20250828T095338Z
UID:10023361-1762201200-1762204800@www.dancesoul.com.tw
SUMMARY:Jazz Funk-魏小美
DESCRIPTION:
URL:https://www.dancesoul.com.tw/schedule/jazz-funk-%e9%ad%8f%e5%b0%8f%e7%be%8e-84/2025-11-03/
END:VEVENT
BEGIN:VEVENT
DTSTART;TZID=Asia/Shanghai:20251104T182000
DTEND;TZID=Asia/Shanghai:20251104T192000
DTSTAMP:20260421T121924
CREATED:20250828T095545Z
LAST-MODIFIED:20250828T095545Z
UID:10023622-1762280400-1762284000@www.dancesoul.com.tw
SUMMARY:MV-薇臻
DESCRIPTION:
URL:https://www.dancesoul.com.tw/schedule/mv-%e8%96%87%e8%87%bb-4/2025-11-04/
END:VEVENT
BEGIN:VEVENT
DTSTART;TZID=Asia/Shanghai:20251104T202000
DTEND;TZID=Asia/Shanghai:20251104T212000
DTSTAMP:20260421T121924
CREATED:20250828T100203Z
LAST-MODIFIED:20250828T100203Z
UID:10023884-1762287600-1762291200@www.dancesoul.com.tw
SUMMARY:Free Style-俊宏
DESCRIPTION:
URL:https://www.dancesoul.com.tw/schedule/free-style-%e4%bf%8a%e5%ae%8f-29/2025-11-04/
CATEGORIES:Freestyle,常態課_一般,課程
END:VEVENT
BEGIN:VEVENT
DTSTART;TZID=Asia/Shanghai:20251105T192500
DTEND;TZID=Asia/Shanghai:20251105T202500
DTSTAMP:20260421T121924
CREATED:20250828T102504Z
LAST-MODIFIED:20250828T102504Z
UID:10024667-1762370700-1762374300@www.dancesoul.com.tw
SUMMARY:Street Jazz-Larry
DESCRIPTION:
URL:https://www.dancesoul.com.tw/schedule/street-jazz-larry-30/2025-11-05/
CATEGORIES:STREET JAZZ,常態課_一般,課程
END:VEVENT
BEGIN:VEVENT
DTSTART;TZID=Asia/Shanghai:20251105T203000
DTEND;TZID=Asia/Shanghai:20251105T213000
DTSTAMP:20260421T121924
CREATED:20250828T103540Z
LAST-MODIFIED:20250828T103540Z
UID:10024928-1762374600-1762378200@www.dancesoul.com.tw
SUMMARY:Street Jazz-Kyle
DESCRIPTION:
URL:https://www.dancesoul.com.tw/schedule/street-jazz-kyle-4/2025-11-05/
CATEGORIES:STREET JAZZ,常態課_一般,課程
END:VEVENT
BEGIN:VEVENT
DTSTART;TZID=Asia/Shanghai:20251106T182000
DTEND;TZID=Asia/Shanghai:20251106T192000
DTSTAMP:20260421T121924
CREATED:20250828T103838Z
LAST-MODIFIED:20250828T103838Z
UID:10025450-1762453200-1762456800@www.dancesoul.com.tw
SUMMARY:Hip Hop-佐佐
DESCRIPTION:
URL:https://www.dancesoul.com.tw/schedule/hip-hop-%e4%bd%90%e4%bd%90-2/2025-11-06/
CATEGORIES:Hip Hop,常態課_一般,課程
END:VEVENT
BEGIN:VEVENT
DTSTART;TZID=Asia/Shanghai:20251106T213500
DTEND;TZID=Asia/Shanghai:20251106T223500
DTSTAMP:20260421T121924
CREATED:20250828T104929Z
LAST-MODIFIED:20250828T104929Z
UID:10026230-1762464900-1762468500@www.dancesoul.com.tw
SUMMARY:Choreography-巴豪
DESCRIPTION:
URL:https://www.dancesoul.com.tw/schedule/choreography-%e5%b7%b4%e8%b1%aa-7/2025-11-06/
CATEGORIES:Choreography,常態課_一般,課程
END:VEVENT
BEGIN:VEVENT
DTSTART;TZID=Asia/Shanghai:20251108T132000
DTEND;TZID=Asia/Shanghai:20251108T142000
DTSTAMP:20260421T121924
CREATED:20250828T110222Z
LAST-MODIFIED:20250901T054527Z
UID:10027270-1762608000-1762611600@www.dancesoul.com.tw
SUMMARY:兒童MV(初)(izna-GOLDEN)-薇臻
DESCRIPTION:
URL:https://www.dancesoul.com.tw/schedule/%e5%85%92%e7%ab%a5%e8%a1%97%e8%88%9e-%e8%96%87%e8%87%bb-21/2025-11-08/
CATEGORIES:兒童街舞,兒童課
END:VEVENT
BEGIN:VEVENT
DTSTART;TZID=Asia/Shanghai:20251108T132000
DTEND;TZID=Asia/Shanghai:20251108T142000
DTSTAMP:20260421T121924
CREATED:20251201T070320Z
LAST-MODIFIED:20260315T072345Z
UID:10031406-1762608000-1762611600@www.dancesoul.com.tw
SUMMARY:兒童MV(初)(i-dle - 'Mona(Feat.skaiwater)')-薇臻
DESCRIPTION:
URL:https://www.dancesoul.com.tw/schedule/%e5%85%92%e7%ab%a5%e8%a1%97%e8%88%9e-%e8%96%87%e8%87%bb-21-2-2-2/2025-11-08/
CATEGORIES:兒童街舞,兒童課
END:VEVENT
END:VCALENDAR