BEGIN:VCALENDAR
VERSION:2.0
PRODID:-//DANCE SOUL 舞魂街舞學校 - ECPv6.15.18//NONSGML v1.0//EN
CALSCALE:GREGORIAN
METHOD:PUBLISH
X-WR-CALNAME:DANCE SOUL 舞魂街舞學校
X-ORIGINAL-URL:https://www.dancesoul.com.tw
X-WR-CALDESC:Events for DANCE SOUL 舞魂街舞學校
REFRESH-INTERVAL;VALUE=DURATION:PT1H
X-Robots-Tag:noindex
X-PUBLISHED-TTL:PT1H
BEGIN:VTIMEZONE
TZID:Asia/Shanghai
BEGIN:STANDARD
TZOFFSETFROM:+0800
TZOFFSETTO:+0800
TZNAME:CST
DTSTART:20250101T000000
END:STANDARD
END:VTIMEZONE
BEGIN:VEVENT
DTSTART;TZID=Asia/Shanghai:20260207T143000
DTEND;TZID=Asia/Shanghai:20260207T153000
DTSTAMP:20260421T072424
CREATED:20251202T055414Z
LAST-MODIFIED:20260315T072223Z
UID:10027544-1770474600-1770478200@www.dancesoul.com.tw
SUMMARY:兒童MV(IVE - 'BANG BANG')-薇臻
DESCRIPTION:
URL:https://www.dancesoul.com.tw/schedule/%e5%85%92%e7%ab%a5mvbabymonster-hot-sauce-%e8%96%87%e8%87%bb-2/2026-02-07/
CATEGORIES:MV課,兒童MV,課程
END:VEVENT
BEGIN:VEVENT
DTSTART;TZID=Asia/Shanghai:20260207T164000
DTEND;TZID=Asia/Shanghai:20260207T174000
DTSTAMP:20260421T072424
CREATED:20260315T072002Z
LAST-MODIFIED:20260315T072518Z
UID:10031341-1770482400-1770486000@www.dancesoul.com.tw
SUMMARY:MV(IVE - ‘BANG BANG’)-薇臻
DESCRIPTION:
URL:https://www.dancesoul.com.tw/schedule/mvive-xoxz-%e5%87%9d%e7%90%a6-2-2/2026-02-07/
CATEGORIES:MV課,課程
END:VEVENT
BEGIN:VEVENT
DTSTART;TZID=Asia/Shanghai:20260207T182000
DTEND;TZID=Asia/Shanghai:20260207T192000
DTSTAMP:20260421T072424
CREATED:20250901T055441Z
LAST-MODIFIED:20250901T055457Z
UID:10028067-1770488400-1770492000@www.dancesoul.com.tw
SUMMARY:Popping-紀威
DESCRIPTION:
URL:https://www.dancesoul.com.tw/schedule/popping-%e7%b4%80%e5%a8%81-54/2026-02-07/
CATEGORIES:Poppin,常態課_一般,課程
END:VEVENT
BEGIN:VEVENT
DTSTART;TZID=Asia/Shanghai:20260208T132000
DTEND;TZID=Asia/Shanghai:20260208T142000
DTSTAMP:20260421T072424
CREATED:20250901T055750Z
LAST-MODIFIED:20250901T055750Z
UID:10028850-1770556800-1770560400@www.dancesoul.com.tw
SUMMARY:兒童街舞-羿芃
DESCRIPTION:
URL:https://www.dancesoul.com.tw/schedule/%e5%85%92%e7%ab%a5%e8%a1%97%e8%88%9e-%e7%be%bf%e8%8a%83-20/2026-02-08/
CATEGORIES:兒童街舞,課程
END:VEVENT
BEGIN:VEVENT
DTSTART;TZID=Asia/Shanghai:20260208T143000
DTEND;TZID=Asia/Shanghai:20260208T153000
DTSTAMP:20260421T072424
CREATED:20260315T071830Z
LAST-MODIFIED:20260315T071830Z
UID:10031313-1770561000-1770564600@www.dancesoul.com.tw
SUMMARY:兒童MV(ILLIT-opps!)-羿芃
DESCRIPTION:
URL:https://www.dancesoul.com.tw/schedule/%e5%85%92%e7%ab%a5mvizna-sass-%e7%be%bf%e8%8a%83-2-2/2026-02-08/
CATEGORIES:兒童MV,兒童課
END:VEVENT
BEGIN:VEVENT
DTSTART;TZID=Asia/Shanghai:20260208T154000
DTEND;TZID=Asia/Shanghai:20260208T164000
DTSTAMP:20260421T072424
CREATED:20250901T060229Z
LAST-MODIFIED:20250901T060229Z
UID:10029372-1770565200-1770568800@www.dancesoul.com.tw
SUMMARY:兒童Street Jazz-傘傘
DESCRIPTION:
URL:https://www.dancesoul.com.tw/schedule/%e5%85%92%e7%ab%a5street-jazz-%e5%82%98%e5%82%98-4/2026-02-08/
CATEGORIES:兒童街舞,兒童課
END:VEVENT
BEGIN:VEVENT
DTSTART;TZID=Asia/Shanghai:20260208T165000
DTEND;TZID=Asia/Shanghai:20260208T175000
DTSTAMP:20260421T072424
CREATED:20251201T095640Z
LAST-MODIFIED:20260315T071631Z
UID:10029633-1770569400-1770573000@www.dancesoul.com.tw
SUMMARY:MV(Apink - 'Love Me More')-Jenny
DESCRIPTION:
URL:https://www.dancesoul.com.tw/schedule/mvsomi-closer-%e7%91%9c%e5%ba%ad-2/2026-02-08/
CATEGORIES:MV課,課程
END:VEVENT
BEGIN:VEVENT
DTSTART;TZID=Asia/Shanghai:20260208T192500
DTEND;TZID=Asia/Shanghai:20260208T202500
DTSTAMP:20260421T072424
CREATED:20250901T060526Z
LAST-MODIFIED:20250901T060526Z
UID:10030155-1770578700-1770582300@www.dancesoul.com.tw
SUMMARY:Hip Hop-承翰
DESCRIPTION:
URL:https://www.dancesoul.com.tw/schedule/hip-hop-%e6%89%bf%e7%bf%b0-2/2026-02-08/
CATEGORIES:Hip Hop,常態課_一般,課程
END:VEVENT
BEGIN:VEVENT
DTSTART;TZID=Asia/Shanghai:20260210T182000
DTEND;TZID=Asia/Shanghai:20260210T192000
DTSTAMP:20260421T072424
CREATED:20250828T095545Z
LAST-MODIFIED:20250828T095545Z
UID:10023636-1770747600-1770751200@www.dancesoul.com.tw
SUMMARY:MV-薇臻
DESCRIPTION:
URL:https://www.dancesoul.com.tw/schedule/mv-%e8%96%87%e8%87%bb-4/2026-02-10/
END:VEVENT
BEGIN:VEVENT
DTSTART;TZID=Asia/Shanghai:20260210T202000
DTEND;TZID=Asia/Shanghai:20260210T212000
DTSTAMP:20260421T072424
CREATED:20250828T100203Z
LAST-MODIFIED:20250828T100203Z
UID:10023898-1770754800-1770758400@www.dancesoul.com.tw
SUMMARY:Free Style-俊宏
DESCRIPTION:
URL:https://www.dancesoul.com.tw/schedule/free-style-%e4%bf%8a%e5%ae%8f-29/2026-02-10/
CATEGORIES:Freestyle,常態課_一般,課程
END:VEVENT
BEGIN:VEVENT
DTSTART;TZID=Asia/Shanghai:20260211T192500
DTEND;TZID=Asia/Shanghai:20260211T202500
DTSTAMP:20260421T072424
CREATED:20250828T102504Z
LAST-MODIFIED:20250828T102504Z
UID:10024681-1770837900-1770841500@www.dancesoul.com.tw
SUMMARY:Street Jazz-Larry
DESCRIPTION:
URL:https://www.dancesoul.com.tw/schedule/street-jazz-larry-30/2026-02-11/
CATEGORIES:STREET JAZZ,常態課_一般,課程
END:VEVENT
BEGIN:VEVENT
DTSTART;TZID=Asia/Shanghai:20260211T203000
DTEND;TZID=Asia/Shanghai:20260211T213000
DTSTAMP:20260421T072424
CREATED:20250828T103540Z
LAST-MODIFIED:20250828T103540Z
UID:10024942-1770841800-1770845400@www.dancesoul.com.tw
SUMMARY:Street Jazz-Kyle
DESCRIPTION:
URL:https://www.dancesoul.com.tw/schedule/street-jazz-kyle-4/2026-02-11/
CATEGORIES:STREET JAZZ,常態課_一般,課程
END:VEVENT
BEGIN:VEVENT
DTSTART;TZID=Asia/Shanghai:20260212T182000
DTEND;TZID=Asia/Shanghai:20260212T192000
DTSTAMP:20260421T072424
CREATED:20251202T055643Z
LAST-MODIFIED:20251202T055645Z
UID:10025464-1770920400-1770924000@www.dancesoul.com.tw
SUMMARY:Street Jazz-羊羊
DESCRIPTION:
URL:https://www.dancesoul.com.tw/schedule/hip-hop-%e4%bd%90%e4%bd%90-2-2/2026-02-12/
CATEGORIES:Hip Hop,常態課_一般,課程
END:VEVENT
BEGIN:VEVENT
DTSTART;TZID=Asia/Shanghai:20260212T213500
DTEND;TZID=Asia/Shanghai:20260212T223500
DTSTAMP:20260421T072424
CREATED:20250828T104929Z
LAST-MODIFIED:20250828T104929Z
UID:10026244-1770932100-1770935700@www.dancesoul.com.tw
SUMMARY:Choreography-巴豪
DESCRIPTION:
URL:https://www.dancesoul.com.tw/schedule/choreography-%e5%b7%b4%e8%b1%aa-7/2026-02-12/
CATEGORIES:Choreography,常態課_一般,課程
END:VEVENT
BEGIN:VEVENT
DTSTART;TZID=Asia/Shanghai:20260214T132000
DTEND;TZID=Asia/Shanghai:20260214T142000
DTSTAMP:20260421T072424
CREATED:20251201T070320Z
LAST-MODIFIED:20260315T072345Z
UID:10027284-1771075200-1771078800@www.dancesoul.com.tw
SUMMARY:兒童MV(初)(i-dle - 'Mona(Feat.skaiwater)')-薇臻
DESCRIPTION:
URL:https://www.dancesoul.com.tw/schedule/%e5%85%92%e7%ab%a5%e8%a1%97%e8%88%9e-%e8%96%87%e8%87%bb-21-2-2-2/2026-02-14/
CATEGORIES:兒童街舞,兒童課
END:VEVENT
BEGIN:VEVENT
DTSTART;TZID=Asia/Shanghai:20260214T143000
DTEND;TZID=Asia/Shanghai:20260214T153000
DTSTAMP:20260421T072424
CREATED:20251202T055414Z
LAST-MODIFIED:20260315T072223Z
UID:10027545-1771079400-1771083000@www.dancesoul.com.tw
SUMMARY:兒童MV(IVE - 'BANG BANG')-薇臻
DESCRIPTION:
URL:https://www.dancesoul.com.tw/schedule/%e5%85%92%e7%ab%a5mvbabymonster-hot-sauce-%e8%96%87%e8%87%bb-2/2026-02-14/
CATEGORIES:MV課,兒童MV,課程
END:VEVENT
BEGIN:VEVENT
DTSTART;TZID=Asia/Shanghai:20260214T164000
DTEND;TZID=Asia/Shanghai:20260214T174000
DTSTAMP:20260421T072424
CREATED:20260315T072002Z
LAST-MODIFIED:20260315T072518Z
UID:10031342-1771087200-1771090800@www.dancesoul.com.tw
SUMMARY:MV(IVE - ‘BANG BANG’)-薇臻
DESCRIPTION:
URL:https://www.dancesoul.com.tw/schedule/mvive-xoxz-%e5%87%9d%e7%90%a6-2-2/2026-02-14/
CATEGORIES:MV課,課程
END:VEVENT
BEGIN:VEVENT
DTSTART;TZID=Asia/Shanghai:20260214T182000
DTEND;TZID=Asia/Shanghai:20260214T192000
DTSTAMP:20260421T072424
CREATED:20250901T055441Z
LAST-MODIFIED:20250901T055457Z
UID:10028068-1771093200-1771096800@www.dancesoul.com.tw
SUMMARY:Popping-紀威
DESCRIPTION:
URL:https://www.dancesoul.com.tw/schedule/popping-%e7%b4%80%e5%a8%81-54/2026-02-14/
CATEGORIES:Poppin,常態課_一般,課程
END:VEVENT
BEGIN:VEVENT
DTSTART;TZID=Asia/Shanghai:20260215T132000
DTEND;TZID=Asia/Shanghai:20260215T142000
DTSTAMP:20260421T072424
CREATED:20250901T055750Z
LAST-MODIFIED:20250901T055750Z
UID:10028851-1771161600-1771165200@www.dancesoul.com.tw
SUMMARY:兒童街舞-羿芃
DESCRIPTION:
URL:https://www.dancesoul.com.tw/schedule/%e5%85%92%e7%ab%a5%e8%a1%97%e8%88%9e-%e7%be%bf%e8%8a%83-20/2026-02-15/
CATEGORIES:兒童街舞,課程
END:VEVENT
BEGIN:VEVENT
DTSTART;TZID=Asia/Shanghai:20260215T143000
DTEND;TZID=Asia/Shanghai:20260215T153000
DTSTAMP:20260421T072424
CREATED:20260315T071830Z
LAST-MODIFIED:20260315T071830Z
UID:10031314-1771165800-1771169400@www.dancesoul.com.tw
SUMMARY:兒童MV(ILLIT-opps!)-羿芃
DESCRIPTION:
URL:https://www.dancesoul.com.tw/schedule/%e5%85%92%e7%ab%a5mvizna-sass-%e7%be%bf%e8%8a%83-2-2/2026-02-15/
CATEGORIES:兒童MV,兒童課
END:VEVENT
BEGIN:VEVENT
DTSTART;TZID=Asia/Shanghai:20260215T154000
DTEND;TZID=Asia/Shanghai:20260215T164000
DTSTAMP:20260421T072424
CREATED:20250901T060229Z
LAST-MODIFIED:20250901T060229Z
UID:10029373-1771170000-1771173600@www.dancesoul.com.tw
SUMMARY:兒童Street Jazz-傘傘
DESCRIPTION:
URL:https://www.dancesoul.com.tw/schedule/%e5%85%92%e7%ab%a5street-jazz-%e5%82%98%e5%82%98-4/2026-02-15/
CATEGORIES:兒童街舞,兒童課
END:VEVENT
BEGIN:VEVENT
DTSTART;TZID=Asia/Shanghai:20260215T165000
DTEND;TZID=Asia/Shanghai:20260215T175000
DTSTAMP:20260421T072424
CREATED:20251201T095640Z
LAST-MODIFIED:20260315T071631Z
UID:10029634-1771174200-1771177800@www.dancesoul.com.tw
SUMMARY:MV(Apink - 'Love Me More')-Jenny
DESCRIPTION:
URL:https://www.dancesoul.com.tw/schedule/mvsomi-closer-%e7%91%9c%e5%ba%ad-2/2026-02-15/
CATEGORIES:MV課,課程
END:VEVENT
BEGIN:VEVENT
DTSTART;TZID=Asia/Shanghai:20260215T192500
DTEND;TZID=Asia/Shanghai:20260215T202500
DTSTAMP:20260421T072424
CREATED:20250901T060526Z
LAST-MODIFIED:20250901T060526Z
UID:10030156-1771183500-1771187100@www.dancesoul.com.tw
SUMMARY:Hip Hop-承翰
DESCRIPTION:
URL:https://www.dancesoul.com.tw/schedule/hip-hop-%e6%89%bf%e7%bf%b0-2/2026-02-15/
CATEGORIES:Hip Hop,常態課_一般,課程
END:VEVENT
BEGIN:VEVENT
DTSTART;TZID=Asia/Shanghai:20260217T182000
DTEND;TZID=Asia/Shanghai:20260217T192000
DTSTAMP:20260421T072424
CREATED:20250828T095545Z
LAST-MODIFIED:20250828T095545Z
UID:10023637-1771352400-1771356000@www.dancesoul.com.tw
SUMMARY:MV-薇臻
DESCRIPTION:
URL:https://www.dancesoul.com.tw/schedule/mv-%e8%96%87%e8%87%bb-4/2026-02-17/
END:VEVENT
BEGIN:VEVENT
DTSTART;TZID=Asia/Shanghai:20260217T202000
DTEND;TZID=Asia/Shanghai:20260217T212000
DTSTAMP:20260421T072424
CREATED:20250828T100203Z
LAST-MODIFIED:20250828T100203Z
UID:10023899-1771359600-1771363200@www.dancesoul.com.tw
SUMMARY:Free Style-俊宏
DESCRIPTION:
URL:https://www.dancesoul.com.tw/schedule/free-style-%e4%bf%8a%e5%ae%8f-29/2026-02-17/
CATEGORIES:Freestyle,常態課_一般,課程
END:VEVENT
BEGIN:VEVENT
DTSTART;TZID=Asia/Shanghai:20260218T192500
DTEND;TZID=Asia/Shanghai:20260218T202500
DTSTAMP:20260421T072424
CREATED:20250828T102504Z
LAST-MODIFIED:20250828T102504Z
UID:10024682-1771442700-1771446300@www.dancesoul.com.tw
SUMMARY:Street Jazz-Larry
DESCRIPTION:
URL:https://www.dancesoul.com.tw/schedule/street-jazz-larry-30/2026-02-18/
CATEGORIES:STREET JAZZ,常態課_一般,課程
END:VEVENT
BEGIN:VEVENT
DTSTART;TZID=Asia/Shanghai:20260218T203000
DTEND;TZID=Asia/Shanghai:20260218T213000
DTSTAMP:20260421T072424
CREATED:20250828T103540Z
LAST-MODIFIED:20250828T103540Z
UID:10024943-1771446600-1771450200@www.dancesoul.com.tw
SUMMARY:Street Jazz-Kyle
DESCRIPTION:
URL:https://www.dancesoul.com.tw/schedule/street-jazz-kyle-4/2026-02-18/
CATEGORIES:STREET JAZZ,常態課_一般,課程
END:VEVENT
BEGIN:VEVENT
DTSTART;TZID=Asia/Shanghai:20260219T182000
DTEND;TZID=Asia/Shanghai:20260219T192000
DTSTAMP:20260421T072424
CREATED:20251202T055643Z
LAST-MODIFIED:20251202T055645Z
UID:10025465-1771525200-1771528800@www.dancesoul.com.tw
SUMMARY:Street Jazz-羊羊
DESCRIPTION:
URL:https://www.dancesoul.com.tw/schedule/hip-hop-%e4%bd%90%e4%bd%90-2-2/2026-02-19/
CATEGORIES:Hip Hop,常態課_一般,課程
END:VEVENT
BEGIN:VEVENT
DTSTART;TZID=Asia/Shanghai:20260219T213500
DTEND;TZID=Asia/Shanghai:20260219T223500
DTSTAMP:20260421T072424
CREATED:20250828T104929Z
LAST-MODIFIED:20250828T104929Z
UID:10026245-1771536900-1771540500@www.dancesoul.com.tw
SUMMARY:Choreography-巴豪
DESCRIPTION:
URL:https://www.dancesoul.com.tw/schedule/choreography-%e5%b7%b4%e8%b1%aa-7/2026-02-19/
CATEGORIES:Choreography,常態課_一般,課程
END:VEVENT
BEGIN:VEVENT
DTSTART;TZID=Asia/Shanghai:20260221T132000
DTEND;TZID=Asia/Shanghai:20260221T142000
DTSTAMP:20260421T072424
CREATED:20251201T070320Z
LAST-MODIFIED:20260315T072345Z
UID:10027285-1771680000-1771683600@www.dancesoul.com.tw
SUMMARY:兒童MV(初)(i-dle - 'Mona(Feat.skaiwater)')-薇臻
DESCRIPTION:
URL:https://www.dancesoul.com.tw/schedule/%e5%85%92%e7%ab%a5%e8%a1%97%e8%88%9e-%e8%96%87%e8%87%bb-21-2-2-2/2026-02-21/
CATEGORIES:兒童街舞,兒童課
END:VEVENT
END:VCALENDAR