BEGIN:VCALENDAR
VERSION:2.0
PRODID:-//DANCE SOUL 舞魂街舞學校 - ECPv6.15.18//NONSGML v1.0//EN
CALSCALE:GREGORIAN
METHOD:PUBLISH
X-WR-CALNAME:DANCE SOUL 舞魂街舞學校
X-ORIGINAL-URL:https://www.dancesoul.com.tw
X-WR-CALDESC:Events for DANCE SOUL 舞魂街舞學校
REFRESH-INTERVAL;VALUE=DURATION:PT1H
X-Robots-Tag:noindex
X-PUBLISHED-TTL:PT1H
BEGIN:VTIMEZONE
TZID:Asia/Shanghai
BEGIN:STANDARD
TZOFFSETFROM:+0800
TZOFFSETTO:+0800
TZNAME:CST
DTSTART:20250101T000000
END:STANDARD
END:VTIMEZONE
BEGIN:VEVENT
DTSTART;TZID=Asia/Shanghai:20260711T182000
DTEND;TZID=Asia/Shanghai:20260711T192000
DTSTAMP:20260421T075446
CREATED:20250901T055441Z
LAST-MODIFIED:20250901T055457Z
UID:10028089-1783794000-1783797600@www.dancesoul.com.tw
SUMMARY:Popping-紀威
DESCRIPTION:
URL:https://www.dancesoul.com.tw/schedule/popping-%e7%b4%80%e5%a8%81-54/2026-07-11/
CATEGORIES:Poppin,常態課_一般,課程
END:VEVENT
BEGIN:VEVENT
DTSTART;TZID=Asia/Shanghai:20260711T192500
DTEND;TZID=Asia/Shanghai:20260711T202500
DTSTAMP:20260421T075446
CREATED:20260327T082346Z
LAST-MODIFIED:20260327T082346Z
UID:10032673-1783797900-1783801500@www.dancesoul.com.tw
SUMMARY:HIP HOP-GAGA
DESCRIPTION:
URL:https://www.dancesoul.com.tw/schedule/%e5%9f%ba%e7%a4%8e%e5%85%a5%e9%96%80-%e9%9b%9e%e8%9b%8b-41-2/2026-07-11/
CATEGORIES:基礎入門,常態課_初級,課程
END:VEVENT
BEGIN:VEVENT
DTSTART;TZID=Asia/Shanghai:20260712T132000
DTEND;TZID=Asia/Shanghai:20260712T142000
DTSTAMP:20260421T075446
CREATED:20250901T055750Z
LAST-MODIFIED:20250901T055750Z
UID:10028872-1783862400-1783866000@www.dancesoul.com.tw
SUMMARY:兒童街舞-羿芃
DESCRIPTION:
URL:https://www.dancesoul.com.tw/schedule/%e5%85%92%e7%ab%a5%e8%a1%97%e8%88%9e-%e7%be%bf%e8%8a%83-20/2026-07-12/
CATEGORIES:兒童街舞,課程
END:VEVENT
BEGIN:VEVENT
DTSTART;TZID=Asia/Shanghai:20260712T143000
DTEND;TZID=Asia/Shanghai:20260712T153000
DTSTAMP:20260421T075446
CREATED:20260315T071830Z
LAST-MODIFIED:20260315T071830Z
UID:10029133-1783866600-1783870200@www.dancesoul.com.tw
SUMMARY:兒童MV(ILLIT-opps!)-羿芃
DESCRIPTION:
URL:https://www.dancesoul.com.tw/schedule/%e5%85%92%e7%ab%a5mvizna-sass-%e7%be%bf%e8%8a%83-2-2/2026-07-12/
CATEGORIES:兒童MV,兒童課
END:VEVENT
BEGIN:VEVENT
DTSTART;TZID=Asia/Shanghai:20260712T154000
DTEND;TZID=Asia/Shanghai:20260712T164000
DTSTAMP:20260421T075446
CREATED:20250901T060229Z
LAST-MODIFIED:20250901T060229Z
UID:10029394-1783870800-1783874400@www.dancesoul.com.tw
SUMMARY:兒童Street Jazz-傘傘
DESCRIPTION:
URL:https://www.dancesoul.com.tw/schedule/%e5%85%92%e7%ab%a5street-jazz-%e5%82%98%e5%82%98-4/2026-07-12/
CATEGORIES:兒童街舞,兒童課
END:VEVENT
BEGIN:VEVENT
DTSTART;TZID=Asia/Shanghai:20260712T165000
DTEND;TZID=Asia/Shanghai:20260712T175000
DTSTAMP:20260421T075446
CREATED:20251201T095640Z
LAST-MODIFIED:20260315T071631Z
UID:10029655-1783875000-1783878600@www.dancesoul.com.tw
SUMMARY:MV(Apink - 'Love Me More')-Jenny
DESCRIPTION:
URL:https://www.dancesoul.com.tw/schedule/mvsomi-closer-%e7%91%9c%e5%ba%ad-2/2026-07-12/
CATEGORIES:MV課,課程
END:VEVENT
BEGIN:VEVENT
DTSTART;TZID=Asia/Shanghai:20260712T182000
DTEND;TZID=Asia/Shanghai:20260712T192000
DTSTAMP:20260421T075446
CREATED:20260327T085927Z
LAST-MODIFIED:20260327T085927Z
UID:10037165-1783880400-1783884000@www.dancesoul.com.tw
SUMMARY:Jazz Funk-Zulin小霖
DESCRIPTION:
URL:https://www.dancesoul.com.tw/schedule/jazz-funk-zulin%e5%b0%8f%e9%9c%96/2026-07-12/
END:VEVENT
BEGIN:VEVENT
DTSTART;TZID=Asia/Shanghai:20260712T192500
DTEND;TZID=Asia/Shanghai:20260712T202500
DTSTAMP:20260421T075446
CREATED:20260327T081608Z
LAST-MODIFIED:20260327T081608Z
UID:10030177-1783884300-1783887900@www.dancesoul.com.tw
SUMMARY:Hip Hop-ROD
DESCRIPTION:
URL:https://www.dancesoul.com.tw/schedule/hip-hop-%e6%89%bf%e7%bf%b0-2-2/2026-07-12/
CATEGORIES:Hip Hop,常態課_一般,課程
END:VEVENT
BEGIN:VEVENT
DTSTART;TZID=Asia/Shanghai:20260713T182000
DTEND;TZID=Asia/Shanghai:20260713T192000
DTSTAMP:20260421T075446
CREATED:20260327T084628Z
LAST-MODIFIED:20260327T084933Z
UID:10035313-1783966800-1783970400@www.dancesoul.com.tw
SUMMARY:MV-瑜庭
DESCRIPTION:
URL:https://www.dancesoul.com.tw/schedule/mvtwice-this-is-for-%e7%91%9c%e5%ba%ad-2/2026-07-13/
CATEGORIES:MV課,課程
END:VEVENT
BEGIN:VEVENT
DTSTART;TZID=Asia/Shanghai:20260713T192500
DTEND;TZID=Asia/Shanghai:20260713T202500
DTSTAMP:20260421T075446
CREATED:20260327T082108Z
LAST-MODIFIED:20260327T082108Z
UID:10030785-1783970700-1783974300@www.dancesoul.com.tw
SUMMARY:Jazz Funk-魏小美
DESCRIPTION:
URL:https://www.dancesoul.com.tw/schedule/jazz-funk-%e9%ad%8f%e5%b0%8f%e7%be%8e-84-2-2/2026-07-13/
END:VEVENT
BEGIN:VEVENT
DTSTART;TZID=Asia/Shanghai:20260713T203000
DTEND;TZID=Asia/Shanghai:20260713T213000
DTSTAMP:20260421T075446
CREATED:20260327T084046Z
LAST-MODIFIED:20260327T084828Z
UID:10035049-1783974600-1783978200@www.dancesoul.com.tw
SUMMARY:Heels-宋靜
DESCRIPTION:
URL:https://www.dancesoul.com.tw/schedule/heels-%e5%ae%8b%e9%9d%9c-3-2/2026-07-13/
END:VEVENT
BEGIN:VEVENT
DTSTART;TZID=Asia/Shanghai:20260713T213500
DTEND;TZID=Asia/Shanghai:20260713T223500
DTSTAMP:20260421T075446
CREATED:20260327T082216Z
LAST-MODIFIED:20260327T082217Z
UID:10032410-1783978500-1783982100@www.dancesoul.com.tw
SUMMARY:Jazz Funk-姿昀
DESCRIPTION:
URL:https://www.dancesoul.com.tw/schedule/jazz-funk-%e5%a7%bf%e6%98%80-15-2/2026-07-13/
CATEGORIES:Jazz Funk,課程
END:VEVENT
BEGIN:VEVENT
DTSTART;TZID=Asia/Shanghai:20260714T182000
DTEND;TZID=Asia/Shanghai:20260714T192000
DTSTAMP:20260421T075446
CREATED:20250828T095545Z
LAST-MODIFIED:20250828T095545Z
UID:10023658-1784053200-1784056800@www.dancesoul.com.tw
SUMMARY:MV-薇臻
DESCRIPTION:
URL:https://www.dancesoul.com.tw/schedule/mv-%e8%96%87%e8%87%bb-4/2026-07-14/
END:VEVENT
BEGIN:VEVENT
DTSTART;TZID=Asia/Shanghai:20260714T192500
DTEND;TZID=Asia/Shanghai:20260714T202500
DTSTAMP:20260421T075446
CREATED:20260327T083744Z
LAST-MODIFIED:20260327T083744Z
UID:10034258-1784057100-1784060700@www.dancesoul.com.tw
SUMMARY:Choreography-羅毅
DESCRIPTION:
URL:https://www.dancesoul.com.tw/schedule/choreography-%e7%be%85%e6%af%85-2-2/2026-07-14/
CATEGORIES:Choreography,常態課_一般,課程
END:VEVENT
BEGIN:VEVENT
DTSTART;TZID=Asia/Shanghai:20260714T202000
DTEND;TZID=Asia/Shanghai:20260714T212000
DTSTAMP:20260421T075446
CREATED:20250828T100203Z
LAST-MODIFIED:20250828T100203Z
UID:10023920-1784060400-1784064000@www.dancesoul.com.tw
SUMMARY:Free Style-俊宏
DESCRIPTION:
URL:https://www.dancesoul.com.tw/schedule/free-style-%e4%bf%8a%e5%ae%8f-29/2026-07-14/
CATEGORIES:Freestyle,常態課_一般,課程
END:VEVENT
BEGIN:VEVENT
DTSTART;TZID=Asia/Shanghai:20260714T213500
DTEND;TZID=Asia/Shanghai:20260714T223500
DTSTAMP:20260421T075446
CREATED:20260327T081822Z
LAST-MODIFIED:20260327T081932Z
UID:10032126-1784064900-1784068500@www.dancesoul.com.tw
SUMMARY:Hip Hop-承翰
DESCRIPTION:
URL:https://www.dancesoul.com.tw/schedule/hip-hop-%e6%89%bf%e7%bf%b0-2-3/2026-07-14/
CATEGORIES:Hip Hop,常態課_一般,課程
END:VEVENT
BEGIN:VEVENT
DTSTART;TZID=Asia/Shanghai:20260715T182000
DTEND;TZID=Asia/Shanghai:20260715T192000
DTSTAMP:20260421T075446
CREATED:20260327T082544Z
LAST-MODIFIED:20260327T082544Z
UID:10032939-1784139600-1784143200@www.dancesoul.com.tw
SUMMARY:Choreography(初)-無盡
DESCRIPTION:
URL:https://www.dancesoul.com.tw/schedule/choreography%e5%88%9d-%e7%84%a1%e7%9b%a1-14-2/2026-07-15/
CATEGORIES:Choreography 初級,常態課_初級,課程
END:VEVENT
BEGIN:VEVENT
DTSTART;TZID=Asia/Shanghai:20260715T192500
DTEND;TZID=Asia/Shanghai:20260715T202500
DTSTAMP:20260421T075446
CREATED:20250828T102504Z
LAST-MODIFIED:20250828T102504Z
UID:10024703-1784143500-1784147100@www.dancesoul.com.tw
SUMMARY:Street Jazz-Larry
DESCRIPTION:
URL:https://www.dancesoul.com.tw/schedule/street-jazz-larry-30/2026-07-15/
CATEGORIES:STREET JAZZ,常態課_一般,課程
END:VEVENT
BEGIN:VEVENT
DTSTART;TZID=Asia/Shanghai:20260715T203000
DTEND;TZID=Asia/Shanghai:20260715T213000
DTSTAMP:20260421T075446
CREATED:20250828T103540Z
LAST-MODIFIED:20250828T103540Z
UID:10024964-1784147400-1784151000@www.dancesoul.com.tw
SUMMARY:Street Jazz-Kyle
DESCRIPTION:
URL:https://www.dancesoul.com.tw/schedule/street-jazz-kyle-4/2026-07-15/
CATEGORIES:STREET JAZZ,常態課_一般,課程
END:VEVENT
BEGIN:VEVENT
DTSTART;TZID=Asia/Shanghai:20260715T213500
DTEND;TZID=Asia/Shanghai:20260715T223500
DTSTAMP:20260421T075446
CREATED:20260327T085649Z
LAST-MODIFIED:20260327T085650Z
UID:10036636-1784151300-1784154900@www.dancesoul.com.tw
SUMMARY:MV-緗緗
DESCRIPTION:
URL:https://www.dancesoul.com.tw/schedule/mv-%e7%b7%97%e7%b7%97-2-2/2026-07-15/
END:VEVENT
BEGIN:VEVENT
DTSTART;TZID=Asia/Shanghai:20260716T182000
DTEND;TZID=Asia/Shanghai:20260716T192000
DTSTAMP:20260421T075446
CREATED:20251202T055643Z
LAST-MODIFIED:20251202T055645Z
UID:10025486-1784226000-1784229600@www.dancesoul.com.tw
SUMMARY:Street Jazz-羊羊
DESCRIPTION:
URL:https://www.dancesoul.com.tw/schedule/hip-hop-%e4%bd%90%e4%bd%90-2-2/2026-07-16/
CATEGORIES:Hip Hop,常態課_一般,課程
END:VEVENT
BEGIN:VEVENT
DTSTART;TZID=Asia/Shanghai:20260716T192500
DTEND;TZID=Asia/Shanghai:20260716T202500
DTSTAMP:20260421T075446
CREATED:20260327T082918Z
LAST-MODIFIED:20260327T084510Z
UID:10034785-1784229900-1784233500@www.dancesoul.com.tw
SUMMARY:Hip Hop(初)-林彤
DESCRIPTION:
URL:https://www.dancesoul.com.tw/schedule/hip-hop%e5%88%9d-%e6%9e%97%e5%bd%a4-3-2/2026-07-16/
CATEGORIES:Hip Hop 初級,常態課_初級,課程
END:VEVENT
BEGIN:VEVENT
DTSTART;TZID=Asia/Shanghai:20260716T203000
DTEND;TZID=Asia/Shanghai:20260716T213000
DTSTAMP:20260421T075446
CREATED:20260327T085246Z
LAST-MODIFIED:20260327T085313Z
UID:10036108-1784233800-1784237400@www.dancesoul.com.tw
SUMMARY:Choreography-HU RUEI胡睿
DESCRIPTION:
URL:https://www.dancesoul.com.tw/schedule/choreography-hu-ruei%e8%83%a1%e7%9d%bf/2026-07-16/
END:VEVENT
BEGIN:VEVENT
DTSTART;TZID=Asia/Shanghai:20260716T213500
DTEND;TZID=Asia/Shanghai:20260716T223500
DTSTAMP:20260421T075446
CREATED:20250828T104929Z
LAST-MODIFIED:20250828T104929Z
UID:10026266-1784237700-1784241300@www.dancesoul.com.tw
SUMMARY:Choreography-巴豪
DESCRIPTION:
URL:https://www.dancesoul.com.tw/schedule/choreography-%e5%b7%b4%e8%b1%aa-7/2026-07-16/
CATEGORIES:Choreography,常態課_一般,課程
END:VEVENT
BEGIN:VEVENT
DTSTART;TZID=Asia/Shanghai:20260717T182000
DTEND;TZID=Asia/Shanghai:20260717T192000
DTSTAMP:20260421T075446
CREATED:20260327T083919Z
LAST-MODIFIED:20260327T083920Z
UID:10034522-1784312400-1784316000@www.dancesoul.com.tw
SUMMARY:Twerk（初）-碗公
DESCRIPTION:
URL:https://www.dancesoul.com.tw/schedule/twerk%ef%bc%88%e5%88%9d%ef%bc%89-%e7%a2%97%e5%85%ac-2-2/2026-07-17/
END:VEVENT
BEGIN:VEVENT
DTSTART;TZID=Asia/Shanghai:20260717T192500
DTEND;TZID=Asia/Shanghai:20260717T202500
DTSTAMP:20260421T075446
CREATED:20260327T090205Z
LAST-MODIFIED:20260327T090205Z
UID:10037430-1784316300-1784319900@www.dancesoul.com.tw
SUMMARY:Street Jazz-CenMei
DESCRIPTION:
URL:https://www.dancesoul.com.tw/schedule/street-jazz-cenmei/2026-07-17/
END:VEVENT
BEGIN:VEVENT
DTSTART;TZID=Asia/Shanghai:20260717T203000
DTEND;TZID=Asia/Shanghai:20260717T213000
DTSTAMP:20260421T075446
CREATED:20260327T090256Z
LAST-MODIFIED:20260327T090256Z
UID:10037694-1784320200-1784323800@www.dancesoul.com.tw
SUMMARY:Jazz Funk-Dang 鈴鐺
DESCRIPTION:
URL:https://www.dancesoul.com.tw/schedule/jazz-funk-dang-%e9%88%b4%e9%90%ba/2026-07-17/
END:VEVENT
BEGIN:VEVENT
DTSTART;TZID=Asia/Shanghai:20260717T213500
DTEND;TZID=Asia/Shanghai:20260717T223500
DTSTAMP:20260421T075446
CREATED:20260327T085804Z
LAST-MODIFIED:20260327T085804Z
UID:10036901-1784324100-1784327700@www.dancesoul.com.tw
SUMMARY:Street Jazz-Roy燦伊
DESCRIPTION:
URL:https://www.dancesoul.com.tw/schedule/street-jazz-roy%e7%87%a6%e4%bc%8a/2026-07-17/
END:VEVENT
BEGIN:VEVENT
DTSTART;TZID=Asia/Shanghai:20260718T132000
DTEND;TZID=Asia/Shanghai:20260718T142000
DTSTAMP:20260421T075446
CREATED:20251201T070320Z
LAST-MODIFIED:20260315T072345Z
UID:10027306-1784380800-1784384400@www.dancesoul.com.tw
SUMMARY:兒童MV(初)(i-dle - 'Mona(Feat.skaiwater)')-薇臻
DESCRIPTION:
URL:https://www.dancesoul.com.tw/schedule/%e5%85%92%e7%ab%a5%e8%a1%97%e8%88%9e-%e8%96%87%e8%87%bb-21-2-2-2/2026-07-18/
CATEGORIES:兒童街舞,兒童課
END:VEVENT
BEGIN:VEVENT
DTSTART;TZID=Asia/Shanghai:20260718T143000
DTEND;TZID=Asia/Shanghai:20260718T153000
DTSTAMP:20260421T075446
CREATED:20251202T055414Z
LAST-MODIFIED:20260315T072223Z
UID:10027567-1784385000-1784388600@www.dancesoul.com.tw
SUMMARY:兒童MV(IVE - 'BANG BANG')-薇臻
DESCRIPTION:
URL:https://www.dancesoul.com.tw/schedule/%e5%85%92%e7%ab%a5mvbabymonster-hot-sauce-%e8%96%87%e8%87%bb-2/2026-07-18/
CATEGORIES:MV課,兒童MV,課程
END:VEVENT
END:VCALENDAR