BEGIN:VCALENDAR
VERSION:2.0
PRODID:-//DANCE SOUL 舞魂街舞學校 - ECPv6.15.18//NONSGML v1.0//EN
CALSCALE:GREGORIAN
METHOD:PUBLISH
X-WR-CALNAME:DANCE SOUL 舞魂街舞學校
X-ORIGINAL-URL:https://www.dancesoul.com.tw
X-WR-CALDESC:Events for DANCE SOUL 舞魂街舞學校
REFRESH-INTERVAL;VALUE=DURATION:PT1H
X-Robots-Tag:noindex
X-PUBLISHED-TTL:PT1H
BEGIN:VTIMEZONE
TZID:Asia/Shanghai
BEGIN:STANDARD
TZOFFSETFROM:+0800
TZOFFSETTO:+0800
TZNAME:CST
DTSTART:20260101T000000
END:STANDARD
END:VTIMEZONE
BEGIN:VEVENT
DTSTART;TZID=Asia/Shanghai:20270208T182000
DTEND;TZID=Asia/Shanghai:20270208T192000
DTSTAMP:20260423T061506
CREATED:20260327T084628Z
LAST-MODIFIED:20260327T084933Z
UID:10035343-1802110800-1802114400@www.dancesoul.com.tw
SUMMARY:MV-瑜庭
DESCRIPTION:
URL:https://www.dancesoul.com.tw/schedule/mvtwice-this-is-for-%e7%91%9c%e5%ba%ad-2/2027-02-08/
CATEGORIES:MV課,課程
END:VEVENT
BEGIN:VEVENT
DTSTART;TZID=Asia/Shanghai:20270208T192500
DTEND;TZID=Asia/Shanghai:20270208T202500
DTSTAMP:20260423T061506
CREATED:20260327T082108Z
LAST-MODIFIED:20260327T082108Z
UID:10030815-1802114700-1802118300@www.dancesoul.com.tw
SUMMARY:Jazz Funk-魏小美
DESCRIPTION:
URL:https://www.dancesoul.com.tw/schedule/jazz-funk-%e9%ad%8f%e5%b0%8f%e7%be%8e-84-2-2/2027-02-08/
END:VEVENT
BEGIN:VEVENT
DTSTART;TZID=Asia/Shanghai:20270208T203000
DTEND;TZID=Asia/Shanghai:20270208T213000
DTSTAMP:20260423T061506
CREATED:20260327T084046Z
LAST-MODIFIED:20260327T084828Z
UID:10035079-1802118600-1802122200@www.dancesoul.com.tw
SUMMARY:Heels-宋靜
DESCRIPTION:
URL:https://www.dancesoul.com.tw/schedule/heels-%e5%ae%8b%e9%9d%9c-3-2/2027-02-08/
END:VEVENT
BEGIN:VEVENT
DTSTART;TZID=Asia/Shanghai:20270208T213500
DTEND;TZID=Asia/Shanghai:20270208T223500
DTSTAMP:20260423T061506
CREATED:20260327T082216Z
LAST-MODIFIED:20260327T082217Z
UID:10032440-1802122500-1802126100@www.dancesoul.com.tw
SUMMARY:Jazz Funk-姿昀
DESCRIPTION:
URL:https://www.dancesoul.com.tw/schedule/jazz-funk-%e5%a7%bf%e6%98%80-15-2/2027-02-08/
CATEGORIES:Jazz Funk,課程
END:VEVENT
BEGIN:VEVENT
DTSTART;TZID=Asia/Shanghai:20270209T182000
DTEND;TZID=Asia/Shanghai:20270209T192000
DTSTAMP:20260423T061506
CREATED:20250828T095545Z
LAST-MODIFIED:20250828T095545Z
UID:10023688-1802197200-1802200800@www.dancesoul.com.tw
SUMMARY:MV-薇臻
DESCRIPTION:
URL:https://www.dancesoul.com.tw/schedule/mv-%e8%96%87%e8%87%bb-4/2027-02-09/
END:VEVENT
BEGIN:VEVENT
DTSTART;TZID=Asia/Shanghai:20270209T192500
DTEND;TZID=Asia/Shanghai:20270209T202500
DTSTAMP:20260423T061506
CREATED:20260327T083744Z
LAST-MODIFIED:20260327T083744Z
UID:10034288-1802201100-1802204700@www.dancesoul.com.tw
SUMMARY:Choreography-羅毅
DESCRIPTION:
URL:https://www.dancesoul.com.tw/schedule/choreography-%e7%be%85%e6%af%85-2-2/2027-02-09/
CATEGORIES:Choreography,常態課_一般,課程
END:VEVENT
BEGIN:VEVENT
DTSTART;TZID=Asia/Shanghai:20270209T202000
DTEND;TZID=Asia/Shanghai:20270209T212000
DTSTAMP:20260423T061506
CREATED:20250828T100203Z
LAST-MODIFIED:20250828T100203Z
UID:10023950-1802204400-1802208000@www.dancesoul.com.tw
SUMMARY:Free Style-俊宏
DESCRIPTION:
URL:https://www.dancesoul.com.tw/schedule/free-style-%e4%bf%8a%e5%ae%8f-29/2027-02-09/
CATEGORIES:Freestyle,常態課_一般,課程
END:VEVENT
BEGIN:VEVENT
DTSTART;TZID=Asia/Shanghai:20270209T213500
DTEND;TZID=Asia/Shanghai:20270209T223500
DTSTAMP:20260423T061506
CREATED:20260327T081822Z
LAST-MODIFIED:20260327T081932Z
UID:10032156-1802208900-1802212500@www.dancesoul.com.tw
SUMMARY:Hip Hop-承翰
DESCRIPTION:
URL:https://www.dancesoul.com.tw/schedule/hip-hop-%e6%89%bf%e7%bf%b0-2-3/2027-02-09/
CATEGORIES:Hip Hop,常態課_一般,課程
END:VEVENT
BEGIN:VEVENT
DTSTART;TZID=Asia/Shanghai:20270210T182000
DTEND;TZID=Asia/Shanghai:20270210T192000
DTSTAMP:20260423T061506
CREATED:20260327T082544Z
LAST-MODIFIED:20260327T082544Z
UID:10032969-1802283600-1802287200@www.dancesoul.com.tw
SUMMARY:Choreography(初)-無盡
DESCRIPTION:
URL:https://www.dancesoul.com.tw/schedule/choreography%e5%88%9d-%e7%84%a1%e7%9b%a1-14-2/2027-02-10/
CATEGORIES:Choreography 初級,常態課_初級,課程
END:VEVENT
BEGIN:VEVENT
DTSTART;TZID=Asia/Shanghai:20270210T192500
DTEND;TZID=Asia/Shanghai:20270210T202500
DTSTAMP:20260423T061506
CREATED:20250828T102504Z
LAST-MODIFIED:20250828T102504Z
UID:10024733-1802287500-1802291100@www.dancesoul.com.tw
SUMMARY:Street Jazz-Larry
DESCRIPTION:
URL:https://www.dancesoul.com.tw/schedule/street-jazz-larry-30/2027-02-10/
CATEGORIES:STREET JAZZ,常態課_一般,課程
END:VEVENT
BEGIN:VEVENT
DTSTART;TZID=Asia/Shanghai:20270210T203000
DTEND;TZID=Asia/Shanghai:20270210T213000
DTSTAMP:20260423T061506
CREATED:20250828T103540Z
LAST-MODIFIED:20250828T103540Z
UID:10024994-1802291400-1802295000@www.dancesoul.com.tw
SUMMARY:Street Jazz-Kyle
DESCRIPTION:
URL:https://www.dancesoul.com.tw/schedule/street-jazz-kyle-4/2027-02-10/
CATEGORIES:STREET JAZZ,常態課_一般,課程
END:VEVENT
BEGIN:VEVENT
DTSTART;TZID=Asia/Shanghai:20270210T213500
DTEND;TZID=Asia/Shanghai:20270210T223500
DTSTAMP:20260423T061506
CREATED:20260327T085649Z
LAST-MODIFIED:20260327T085650Z
UID:10036666-1802295300-1802298900@www.dancesoul.com.tw
SUMMARY:MV-緗緗
DESCRIPTION:
URL:https://www.dancesoul.com.tw/schedule/mv-%e7%b7%97%e7%b7%97-2-2/2027-02-10/
END:VEVENT
BEGIN:VEVENT
DTSTART;TZID=Asia/Shanghai:20270211T182000
DTEND;TZID=Asia/Shanghai:20270211T192000
DTSTAMP:20260423T061506
CREATED:20251202T055643Z
LAST-MODIFIED:20251202T055645Z
UID:10025516-1802370000-1802373600@www.dancesoul.com.tw
SUMMARY:Street Jazz-羊羊
DESCRIPTION:
URL:https://www.dancesoul.com.tw/schedule/hip-hop-%e4%bd%90%e4%bd%90-2-2/2027-02-11/
CATEGORIES:Hip Hop,常態課_一般,課程
END:VEVENT
BEGIN:VEVENT
DTSTART;TZID=Asia/Shanghai:20270211T192500
DTEND;TZID=Asia/Shanghai:20270211T202500
DTSTAMP:20260423T061506
CREATED:20260327T082918Z
LAST-MODIFIED:20260327T084510Z
UID:10034815-1802373900-1802377500@www.dancesoul.com.tw
SUMMARY:Hip Hop(初)-林彤
DESCRIPTION:
URL:https://www.dancesoul.com.tw/schedule/hip-hop%e5%88%9d-%e6%9e%97%e5%bd%a4-3-2/2027-02-11/
CATEGORIES:Hip Hop 初級,常態課_初級,課程
END:VEVENT
BEGIN:VEVENT
DTSTART;TZID=Asia/Shanghai:20270211T203000
DTEND;TZID=Asia/Shanghai:20270211T213000
DTSTAMP:20260423T061506
CREATED:20260327T085246Z
LAST-MODIFIED:20260327T085313Z
UID:10036138-1802377800-1802381400@www.dancesoul.com.tw
SUMMARY:Choreography-HU RUEI胡睿
DESCRIPTION:
URL:https://www.dancesoul.com.tw/schedule/choreography-hu-ruei%e8%83%a1%e7%9d%bf/2027-02-11/
END:VEVENT
BEGIN:VEVENT
DTSTART;TZID=Asia/Shanghai:20270211T213500
DTEND;TZID=Asia/Shanghai:20270211T223500
DTSTAMP:20260423T061506
CREATED:20250828T104929Z
LAST-MODIFIED:20250828T104929Z
UID:10026296-1802381700-1802385300@www.dancesoul.com.tw
SUMMARY:Choreography-巴豪
DESCRIPTION:
URL:https://www.dancesoul.com.tw/schedule/choreography-%e5%b7%b4%e8%b1%aa-7/2027-02-11/
CATEGORIES:Choreography,常態課_一般,課程
END:VEVENT
BEGIN:VEVENT
DTSTART;TZID=Asia/Shanghai:20270212T182000
DTEND;TZID=Asia/Shanghai:20270212T192000
DTSTAMP:20260423T061506
CREATED:20260327T083919Z
LAST-MODIFIED:20260327T083920Z
UID:10034552-1802456400-1802460000@www.dancesoul.com.tw
SUMMARY:Twerk（初）-碗公
DESCRIPTION:
URL:https://www.dancesoul.com.tw/schedule/twerk%ef%bc%88%e5%88%9d%ef%bc%89-%e7%a2%97%e5%85%ac-2-2/2027-02-12/
END:VEVENT
BEGIN:VEVENT
DTSTART;TZID=Asia/Shanghai:20270212T192500
DTEND;TZID=Asia/Shanghai:20270212T202500
DTSTAMP:20260423T061506
CREATED:20260327T090205Z
LAST-MODIFIED:20260327T090205Z
UID:10037460-1802460300-1802463900@www.dancesoul.com.tw
SUMMARY:Street Jazz-CenMei
DESCRIPTION:
URL:https://www.dancesoul.com.tw/schedule/street-jazz-cenmei/2027-02-12/
END:VEVENT
BEGIN:VEVENT
DTSTART;TZID=Asia/Shanghai:20270212T203000
DTEND;TZID=Asia/Shanghai:20270212T213000
DTSTAMP:20260423T061506
CREATED:20260327T090256Z
LAST-MODIFIED:20260327T090256Z
UID:10037724-1802464200-1802467800@www.dancesoul.com.tw
SUMMARY:Jazz Funk-Dang 鈴鐺
DESCRIPTION:
URL:https://www.dancesoul.com.tw/schedule/jazz-funk-dang-%e9%88%b4%e9%90%ba/2027-02-12/
END:VEVENT
BEGIN:VEVENT
DTSTART;TZID=Asia/Shanghai:20270212T213500
DTEND;TZID=Asia/Shanghai:20270212T223500
DTSTAMP:20260423T061506
CREATED:20260327T085804Z
LAST-MODIFIED:20260327T085804Z
UID:10036931-1802468100-1802471700@www.dancesoul.com.tw
SUMMARY:Street Jazz-Roy燦伊
DESCRIPTION:
URL:https://www.dancesoul.com.tw/schedule/street-jazz-roy%e7%87%a6%e4%bc%8a/2027-02-12/
END:VEVENT
BEGIN:VEVENT
DTSTART;TZID=Asia/Shanghai:20270213T132000
DTEND;TZID=Asia/Shanghai:20270213T142000
DTSTAMP:20260423T061506
CREATED:20251201T070320Z
LAST-MODIFIED:20260315T072345Z
UID:10027336-1802524800-1802528400@www.dancesoul.com.tw
SUMMARY:兒童MV(初)(i-dle - 'Mona(Feat.skaiwater)')-薇臻
DESCRIPTION:
URL:https://www.dancesoul.com.tw/schedule/%e5%85%92%e7%ab%a5%e8%a1%97%e8%88%9e-%e8%96%87%e8%87%bb-21-2-2-2/2027-02-13/
CATEGORIES:兒童街舞,兒童課
END:VEVENT
BEGIN:VEVENT
DTSTART;TZID=Asia/Shanghai:20270213T143000
DTEND;TZID=Asia/Shanghai:20270213T153000
DTSTAMP:20260423T061506
CREATED:20251202T055414Z
LAST-MODIFIED:20260315T072223Z
UID:10027597-1802529000-1802532600@www.dancesoul.com.tw
SUMMARY:兒童MV(IVE - 'BANG BANG')-薇臻
DESCRIPTION:
URL:https://www.dancesoul.com.tw/schedule/%e5%85%92%e7%ab%a5mvbabymonster-hot-sauce-%e8%96%87%e8%87%bb-2/2027-02-13/
CATEGORIES:MV課,兒童MV,課程
END:VEVENT
BEGIN:VEVENT
DTSTART;TZID=Asia/Shanghai:20270213T154000
DTEND;TZID=Asia/Shanghai:20270213T164000
DTSTAMP:20260423T061506
CREATED:20250901T055134Z
LAST-MODIFIED:20260327T083158Z
UID:10033499-1802533200-1802536800@www.dancesoul.com.tw
SUMMARY:兒童Popping-勁宏
DESCRIPTION:
URL:https://www.dancesoul.com.tw/schedule/%e5%85%92%e7%ab%a5popping-%e5%8b%81%e5%ae%8f-2/2027-02-13/
CATEGORIES:兒童街舞,課程
END:VEVENT
BEGIN:VEVENT
DTSTART;TZID=Asia/Shanghai:20270213T164000
DTEND;TZID=Asia/Shanghai:20270213T174000
DTSTAMP:20260423T061506
CREATED:20260315T072002Z
LAST-MODIFIED:20260315T072518Z
UID:10027859-1802536800-1802540400@www.dancesoul.com.tw
SUMMARY:MV(IVE - ‘BANG BANG’)-薇臻
DESCRIPTION:
URL:https://www.dancesoul.com.tw/schedule/mvive-xoxz-%e5%87%9d%e7%90%a6-2-2/2027-02-13/
CATEGORIES:MV課,課程
END:VEVENT
BEGIN:VEVENT
DTSTART;TZID=Asia/Shanghai:20270213T182000
DTEND;TZID=Asia/Shanghai:20270213T192000
DTSTAMP:20260423T061507
CREATED:20250901T055441Z
LAST-MODIFIED:20250901T055457Z
UID:10028120-1802542800-1802546400@www.dancesoul.com.tw
SUMMARY:Popping-紀威
DESCRIPTION:
URL:https://www.dancesoul.com.tw/schedule/popping-%e7%b4%80%e5%a8%81-54/2027-02-13/
CATEGORIES:Poppin,常態課_一般,課程
END:VEVENT
BEGIN:VEVENT
DTSTART;TZID=Asia/Shanghai:20270213T192500
DTEND;TZID=Asia/Shanghai:20270213T202500
DTSTAMP:20260423T061507
CREATED:20260327T082346Z
LAST-MODIFIED:20260327T082346Z
UID:10032704-1802546700-1802550300@www.dancesoul.com.tw
SUMMARY:HIP HOP-GAGA
DESCRIPTION:
URL:https://www.dancesoul.com.tw/schedule/%e5%9f%ba%e7%a4%8e%e5%85%a5%e9%96%80-%e9%9b%9e%e8%9b%8b-41-2/2027-02-13/
CATEGORIES:基礎入門,常態課_初級,課程
END:VEVENT
BEGIN:VEVENT
DTSTART;TZID=Asia/Shanghai:20270214T132000
DTEND;TZID=Asia/Shanghai:20270214T142000
DTSTAMP:20260423T061507
CREATED:20250901T055750Z
LAST-MODIFIED:20250901T055750Z
UID:10028903-1802611200-1802614800@www.dancesoul.com.tw
SUMMARY:兒童街舞-羿芃
DESCRIPTION:
URL:https://www.dancesoul.com.tw/schedule/%e5%85%92%e7%ab%a5%e8%a1%97%e8%88%9e-%e7%be%bf%e8%8a%83-20/2027-02-14/
CATEGORIES:兒童街舞,課程
END:VEVENT
BEGIN:VEVENT
DTSTART;TZID=Asia/Shanghai:20270214T143000
DTEND;TZID=Asia/Shanghai:20270214T153000
DTSTAMP:20260423T061507
CREATED:20260315T071830Z
LAST-MODIFIED:20260315T071830Z
UID:10029164-1802615400-1802619000@www.dancesoul.com.tw
SUMMARY:兒童MV(ILLIT-opps!)-羿芃
DESCRIPTION:
URL:https://www.dancesoul.com.tw/schedule/%e5%85%92%e7%ab%a5mvizna-sass-%e7%be%bf%e8%8a%83-2-2/2027-02-14/
CATEGORIES:兒童MV,兒童課
END:VEVENT
BEGIN:VEVENT
DTSTART;TZID=Asia/Shanghai:20270214T154000
DTEND;TZID=Asia/Shanghai:20270214T164000
DTSTAMP:20260423T061507
CREATED:20250901T060229Z
LAST-MODIFIED:20250901T060229Z
UID:10029425-1802619600-1802623200@www.dancesoul.com.tw
SUMMARY:兒童Street Jazz-傘傘
DESCRIPTION:
URL:https://www.dancesoul.com.tw/schedule/%e5%85%92%e7%ab%a5street-jazz-%e5%82%98%e5%82%98-4/2027-02-14/
CATEGORIES:兒童街舞,兒童課
END:VEVENT
BEGIN:VEVENT
DTSTART;TZID=Asia/Shanghai:20270214T165000
DTEND;TZID=Asia/Shanghai:20270214T175000
DTSTAMP:20260423T061507
CREATED:20251201T095640Z
LAST-MODIFIED:20260315T071631Z
UID:10029686-1802623800-1802627400@www.dancesoul.com.tw
SUMMARY:MV(Apink - 'Love Me More')-Jenny
DESCRIPTION:
URL:https://www.dancesoul.com.tw/schedule/mvsomi-closer-%e7%91%9c%e5%ba%ad-2/2027-02-14/
CATEGORIES:MV課,課程
END:VEVENT
END:VCALENDAR