BEGIN:VCALENDAR
VERSION:2.0
PRODID:-//DANCE SOUL 舞魂街舞學校 - ECPv6.15.18//NONSGML v1.0//EN
CALSCALE:GREGORIAN
METHOD:PUBLISH
X-ORIGINAL-URL:https://www.dancesoul.com.tw
X-WR-CALDESC:Events for DANCE SOUL 舞魂街舞學校
REFRESH-INTERVAL;VALUE=DURATION:PT1H
X-Robots-Tag:noindex
X-PUBLISHED-TTL:PT1H
BEGIN:VTIMEZONE
TZID:Asia/Shanghai
BEGIN:STANDARD
TZOFFSETFROM:+0800
TZOFFSETTO:+0800
TZNAME:CST
DTSTART:20230101T000000
END:STANDARD
END:VTIMEZONE
BEGIN:VEVENT
DTSTART;TZID=Asia/Shanghai:20240702T161000
DTEND;TZID=Asia/Shanghai:20240702T171000
DTSTAMP:20260422T052808
CREATED:20240624T091557Z
LAST-MODIFIED:20240624T091557Z
UID:10019814-1719936600-1719940200@www.dancesoul.com.tw
SUMMARY:Waacking(初)-品后
DESCRIPTION:
URL:https://www.dancesoul.com.tw/schedule/waacking%e5%88%9d-%e5%93%81%e5%90%8e-5/2024-07-02/
CATEGORIES:Waacking 初級,常態課_初級,課程
END:VEVENT
BEGIN:VEVENT
DTSTART;TZID=Asia/Shanghai:20240702T172000
DTEND;TZID=Asia/Shanghai:20240702T182000
DTSTAMP:20260422T052808
CREATED:20240624T091655Z
LAST-MODIFIED:20240624T091751Z
UID:10019824-1719940800-1719944400@www.dancesoul.com.tw
SUMMARY:Hip Hop-子賢
DESCRIPTION:
URL:https://www.dancesoul.com.tw/schedule/hip-hop-%e5%ad%90%e8%b3%a2/2024-07-02/
CATEGORIES:Hip Hop,常態課_一般,課程
END:VEVENT
BEGIN:VEVENT
DTSTART;TZID=Asia/Shanghai:20240702T183000
DTEND;TZID=Asia/Shanghai:20240702T193000
DTSTAMP:20260422T052808
CREATED:20240624T092021Z
LAST-MODIFIED:20240624T092021Z
UID:10019829-1719945000-1719948600@www.dancesoul.com.tw
SUMMARY:Free Style(初)-俊宏
DESCRIPTION:
URL:https://www.dancesoul.com.tw/schedule/free-style%e5%88%9d-%e4%bf%8a%e5%ae%8f-22/2024-07-02/
CATEGORIES:Freestyle 初級,常態課_初級,課程
END:VEVENT
BEGIN:VEVENT
DTSTART;TZID=Asia/Shanghai:20240702T194000
DTEND;TZID=Asia/Shanghai:20240702T204000
DTSTAMP:20260422T052808
CREATED:20240624T092110Z
LAST-MODIFIED:20240624T092110Z
UID:10019834-1719949200-1719952800@www.dancesoul.com.tw
SUMMARY:Street Jazz-Denis
DESCRIPTION:
URL:https://www.dancesoul.com.tw/schedule/street-jazz-denis-46/2024-07-02/
CATEGORIES:STREET JAZZ,常態課_一般,課程
END:VEVENT
BEGIN:VEVENT
DTSTART;TZID=Asia/Shanghai:20240702T205000
DTEND;TZID=Asia/Shanghai:20240702T215000
DTSTAMP:20260422T052808
CREATED:20240624T092244Z
LAST-MODIFIED:20240624T092244Z
UID:10019839-1719953400-1719957000@www.dancesoul.com.tw
SUMMARY:Choreography-少麟
DESCRIPTION:
URL:https://www.dancesoul.com.tw/schedule/choreography-%e5%b0%91%e9%ba%9f-10/2024-07-02/
CATEGORIES:Choreography,常態課_一般,課程
END:VEVENT
BEGIN:VEVENT
DTSTART;TZID=Asia/Shanghai:20240703T150000
DTEND;TZID=Asia/Shanghai:20240703T160000
DTSTAMP:20260422T052808
CREATED:20240625T090011Z
LAST-MODIFIED:20240625T090011Z
UID:10019914-1720018800-1720022400@www.dancesoul.com.tw
SUMMARY:兒童MV-(ILLIT - Magnetic)-昀珊
DESCRIPTION:
URL:https://www.dancesoul.com.tw/schedule/%e5%85%92%e7%ab%a5mv-illit-magnetic-%e6%98%80%e7%8f%8a/2024-07-03/
CATEGORIES:兒童MV,兒童課,課程
END:VEVENT
BEGIN:VEVENT
DTSTART;TZID=Asia/Shanghai:20240703T161000
DTEND;TZID=Asia/Shanghai:20240703T171000
DTSTAMP:20260422T052808
CREATED:20240624T092336Z
LAST-MODIFIED:20240624T092336Z
UID:10019844-1720023000-1720026600@www.dancesoul.com.tw
SUMMARY:基礎入門-無盡
DESCRIPTION:
URL:https://www.dancesoul.com.tw/schedule/%e5%9f%ba%e7%a4%8e%e5%85%a5%e9%96%80-%e7%84%a1%e7%9b%a1-5/2024-07-03/
CATEGORIES:基礎入門,常態課_初級,課程
END:VEVENT
BEGIN:VEVENT
DTSTART;TZID=Asia/Shanghai:20240703T172000
DTEND;TZID=Asia/Shanghai:20240703T182000
DTSTAMP:20260422T052808
CREATED:20240624T092529Z
LAST-MODIFIED:20240624T092529Z
UID:10019849-1720027200-1720030800@www.dancesoul.com.tw
SUMMARY:Choreography-七七
DESCRIPTION:
URL:https://www.dancesoul.com.tw/schedule/choreography-%e4%b8%83%e4%b8%83/2024-07-03/
CATEGORIES:Choreography,常態課_一般,課程
END:VEVENT
BEGIN:VEVENT
DTSTART;TZID=Asia/Shanghai:20240703T183000
DTEND;TZID=Asia/Shanghai:20240703T193000
DTSTAMP:20260422T052808
CREATED:20240624T092623Z
LAST-MODIFIED:20240624T092623Z
UID:10019854-1720031400-1720035000@www.dancesoul.com.tw
SUMMARY:Street Jazz(初)-Kyle
DESCRIPTION:
URL:https://www.dancesoul.com.tw/schedule/street-jazz%e5%88%9d-kyle-15/2024-07-03/
CATEGORIES:STREET JAZZ 初級,常態課_初級,課程
END:VEVENT
BEGIN:VEVENT
DTSTART;TZID=Asia/Shanghai:20240703T194000
DTEND;TZID=Asia/Shanghai:20240703T204000
DTSTAMP:20260422T052808
CREATED:20240624T092800Z
LAST-MODIFIED:20240624T092800Z
UID:10019859-1720035600-1720039200@www.dancesoul.com.tw
SUMMARY:Street Jazz-Larry
DESCRIPTION:
URL:https://www.dancesoul.com.tw/schedule/street-jazz-larry-17/2024-07-03/
CATEGORIES:STREET JAZZ,常態課_一般,課程
END:VEVENT
BEGIN:VEVENT
DTSTART;TZID=Asia/Shanghai:20240703T205000
DTEND;TZID=Asia/Shanghai:20240703T215000
DTSTAMP:20260422T052808
CREATED:20240624T092858Z
LAST-MODIFIED:20240624T092858Z
UID:10019864-1720039800-1720043400@www.dancesoul.com.tw
SUMMARY:Free Style-承達
DESCRIPTION:
URL:https://www.dancesoul.com.tw/schedule/free-style-%e6%89%bf%e9%81%94-40/2024-07-03/
CATEGORIES:Freestyle,常態課_一般,課程
END:VEVENT
BEGIN:VEVENT
DTSTART;TZID=Asia/Shanghai:20240704T150000
DTEND;TZID=Asia/Shanghai:20240704T160000
DTSTAMP:20260422T052808
CREATED:20240625T090913Z
LAST-MODIFIED:20240625T090913Z
UID:10019929-1720105200-1720108800@www.dancesoul.com.tw
SUMMARY:兒童MV-(Aespa - Supernova)-薇臻
DESCRIPTION:
URL:https://www.dancesoul.com.tw/schedule/%e5%85%92%e7%ab%a5mv-aespa-supernova-%e8%96%87%e8%87%bb/2024-07-04/
CATEGORIES:兒童MV,兒童課,課程
END:VEVENT
BEGIN:VEVENT
DTSTART;TZID=Asia/Shanghai:20240704T161000
DTEND;TZID=Asia/Shanghai:20240704T171000
DTSTAMP:20260422T052808
CREATED:20240624T093104Z
LAST-MODIFIED:20240624T093104Z
UID:10019869-1720109400-1720113000@www.dancesoul.com.tw
SUMMARY:基礎入門-承翰
DESCRIPTION:
URL:https://www.dancesoul.com.tw/schedule/%e5%9f%ba%e7%a4%8e%e5%85%a5%e9%96%80-%e6%89%bf%e7%bf%b0/2024-07-04/
CATEGORIES:基礎入門,常態課_初級,課程
END:VEVENT
BEGIN:VEVENT
DTSTART;TZID=Asia/Shanghai:20240704T172000
DTEND;TZID=Asia/Shanghai:20240704T182000
DTSTAMP:20260422T052808
CREATED:20240624T093157Z
LAST-MODIFIED:20240624T093157Z
UID:10019873-1720113600-1720117200@www.dancesoul.com.tw
SUMMARY:Lyrical Jazz-瑜庭
DESCRIPTION:
URL:https://www.dancesoul.com.tw/schedule/lyrical-jazz-%e7%91%9c%e5%ba%ad/2024-07-04/
CATEGORIES:Lyrical Jazz,常態課_一般,課程
END:VEVENT
BEGIN:VEVENT
DTSTART;TZID=Asia/Shanghai:20240704T183000
DTEND;TZID=Asia/Shanghai:20240704T193000
DTSTAMP:20260422T052808
CREATED:20240624T093341Z
LAST-MODIFIED:20240624T093341Z
UID:10019878-1720117800-1720121400@www.dancesoul.com.tw
SUMMARY:Choreography-芭比
DESCRIPTION:
URL:https://www.dancesoul.com.tw/schedule/choreography-%e8%8a%ad%e6%af%94-23/2024-07-04/
CATEGORIES:Choreography,常態課_一般,課程
END:VEVENT
BEGIN:VEVENT
DTSTART;TZID=Asia/Shanghai:20240704T194000
DTEND;TZID=Asia/Shanghai:20240704T204000
DTSTAMP:20260422T052808
CREATED:20240624T093435Z
LAST-MODIFIED:20240624T093435Z
UID:10019882-1720122000-1720125600@www.dancesoul.com.tw
SUMMARY:Hip Hop-林彤
DESCRIPTION:
URL:https://www.dancesoul.com.tw/schedule/hip-hop-%e6%9e%97%e5%bd%a4-19/2024-07-04/
CATEGORIES:Hip Hop,常態課_一般,課程
END:VEVENT
BEGIN:VEVENT
DTSTART;TZID=Asia/Shanghai:20240704T205000
DTEND;TZID=Asia/Shanghai:20240704T215000
DTSTAMP:20260422T052808
CREATED:20240624T093616Z
LAST-MODIFIED:20240624T093616Z
UID:10019886-1720126200-1720129800@www.dancesoul.com.tw
SUMMARY:Afro Style-巴豪
DESCRIPTION:
URL:https://www.dancesoul.com.tw/schedule/afro-style-%e5%b7%b4%e8%b1%aa-2/2024-07-04/
CATEGORIES:Afro Style,常態課_一般,課程
END:VEVENT
BEGIN:VEVENT
DTSTART;TZID=Asia/Shanghai:20240705T150000
DTEND;TZID=Asia/Shanghai:20240705T160000
DTSTAMP:20260422T052808
CREATED:20240625T090147Z
LAST-MODIFIED:20240625T090147Z
UID:10019918-1720191600-1720195200@www.dancesoul.com.tw
SUMMARY:兒童MV-(NAYEON - ABCD)-昀珊
DESCRIPTION:
URL:https://www.dancesoul.com.tw/schedule/%e5%85%92%e7%ab%a5mv-nayeon-abcd-%e6%98%80%e7%8f%8a/2024-07-05/
CATEGORIES:兒童MV,兒童課,課程
END:VEVENT
BEGIN:VEVENT
DTSTART;TZID=Asia/Shanghai:20240705T161000
DTEND;TZID=Asia/Shanghai:20240705T171000
DTSTAMP:20260422T052808
CREATED:20240624T093755Z
LAST-MODIFIED:20240624T093755Z
UID:10019890-1720195800-1720199400@www.dancesoul.com.tw
SUMMARY:Jazz Funk(初)-Larry
DESCRIPTION:
URL:https://www.dancesoul.com.tw/schedule/jazz-funk%e5%88%9d-larry-3/2024-07-05/
CATEGORIES:Jazz Funk 初級,常態課_初級,課程
END:VEVENT
BEGIN:VEVENT
DTSTART;TZID=Asia/Shanghai:20240705T172000
DTEND;TZID=Asia/Shanghai:20240705T182000
DTSTAMP:20260422T052808
CREATED:20240624T094023Z
LAST-MODIFIED:20240624T094023Z
UID:10019894-1720200000-1720203600@www.dancesoul.com.tw
SUMMARY:Choreography-達達
DESCRIPTION:
URL:https://www.dancesoul.com.tw/schedule/choreography-%e9%81%94%e9%81%94/2024-07-05/
CATEGORIES:Choreography,常態課_一般,課程
END:VEVENT
BEGIN:VEVENT
DTSTART;TZID=Asia/Shanghai:20240705T183000
DTEND;TZID=Asia/Shanghai:20240705T193000
DTSTAMP:20260422T052808
CREATED:20240624T094129Z
LAST-MODIFIED:20240624T094129Z
UID:10019898-1720204200-1720207800@www.dancesoul.com.tw
SUMMARY:Street Jazz(初)-Cen妹
DESCRIPTION:
URL:https://www.dancesoul.com.tw/schedule/street-jazz%e5%88%9d-cen%e5%a6%b9-33/2024-07-05/
CATEGORIES:STREET JAZZ 初級,常態課_初級,課程
END:VEVENT
BEGIN:VEVENT
DTSTART;TZID=Asia/Shanghai:20240705T194000
DTEND;TZID=Asia/Shanghai:20240705T204000
DTSTAMP:20260422T052808
CREATED:20240624T094259Z
LAST-MODIFIED:20240624T094259Z
UID:10019902-1720208400-1720212000@www.dancesoul.com.tw
SUMMARY:Hip Hop(初)-佐佐
DESCRIPTION:
URL:https://www.dancesoul.com.tw/schedule/hip-hop%e5%88%9d-%e4%bd%90%e4%bd%90-12/2024-07-05/
CATEGORIES:Hip Hop 初級,常態課_初級,課程
END:VEVENT
BEGIN:VEVENT
DTSTART;TZID=Asia/Shanghai:20240705T205000
DTEND;TZID=Asia/Shanghai:20240705T215000
DTSTAMP:20260422T052808
CREATED:20240624T094352Z
LAST-MODIFIED:20240624T094352Z
UID:10019906-1720212600-1720216200@www.dancesoul.com.tw
SUMMARY:Jazz Funk-鈴鐺
DESCRIPTION:
URL:https://www.dancesoul.com.tw/schedule/jazz-funk-%e9%88%b4%e9%90%ba-20/2024-07-05/
CATEGORIES:Jazz Funk,常態課_一般,課程
END:VEVENT
BEGIN:VEVENT
DTSTART;TZID=Asia/Shanghai:20240706T132000
DTEND;TZID=Asia/Shanghai:20240706T142000
DTSTAMP:20260422T052808
CREATED:20240624T073413Z
LAST-MODIFIED:20240624T073413Z
UID:10019714-1720272000-1720275600@www.dancesoul.com.tw
SUMMARY:兒童街舞-薇臻
DESCRIPTION:
URL:https://www.dancesoul.com.tw/schedule/%e5%85%92%e7%ab%a5%e8%a1%97%e8%88%9e-%e8%96%87%e8%87%bb-8/2024-07-06/
CATEGORIES:兒童街舞,兒童課,課程
END:VEVENT
BEGIN:VEVENT
DTSTART;TZID=Asia/Shanghai:20240706T143000
DTEND;TZID=Asia/Shanghai:20240706T153000
DTSTAMP:20260422T052808
CREATED:20240624T075531Z
LAST-MODIFIED:20240624T075531Z
UID:10019718-1720276200-1720279800@www.dancesoul.com.tw
SUMMARY:兒童MV-(Aespa - Armageddon)-薇臻
DESCRIPTION:
URL:https://www.dancesoul.com.tw/schedule/%e5%85%92%e7%ab%a5mv-aespa-armageddon-%e8%96%87%e8%87%bb/2024-07-06/
CATEGORIES:兒童MV,兒童課,課程
END:VEVENT
BEGIN:VEVENT
DTSTART;TZID=Asia/Shanghai:20240706T154000
DTEND;TZID=Asia/Shanghai:20240706T164000
DTSTAMP:20260422T052808
CREATED:20240624T081217Z
LAST-MODIFIED:20240624T081217Z
UID:10019722-1720280400-1720284000@www.dancesoul.com.tw
SUMMARY:兒童基礎街舞-傘傘
DESCRIPTION:
URL:https://www.dancesoul.com.tw/schedule/%e5%85%92%e7%ab%a5%e5%9f%ba%e7%a4%8e%e8%a1%97%e8%88%9e-%e5%82%98%e5%82%98/2024-07-06/
CATEGORIES:兒童基礎街舞,兒童課,課程
END:VEVENT
BEGIN:VEVENT
DTSTART;TZID=Asia/Shanghai:20240706T165000
DTEND;TZID=Asia/Shanghai:20240706T175000
DTSTAMP:20260422T052808
CREATED:20240624T081416Z
LAST-MODIFIED:20240624T081416Z
UID:10019726-1720284600-1720288200@www.dancesoul.com.tw
SUMMARY:MV-(NAYEON - ABCD)-怡妏
DESCRIPTION:
URL:https://www.dancesoul.com.tw/schedule/mv-nayeon-abcd-%e6%80%a1%e5%a6%8f/2024-07-06/
CATEGORIES:MV課,課程
END:VEVENT
BEGIN:VEVENT
DTSTART;TZID=Asia/Shanghai:20240706T180000
DTEND;TZID=Asia/Shanghai:20240706T190000
DTSTAMP:20260422T052808
CREATED:20240624T081646Z
LAST-MODIFIED:20240624T081646Z
UID:10019730-1720288800-1720292400@www.dancesoul.com.tw
SUMMARY:Popping-紀威
DESCRIPTION:
URL:https://www.dancesoul.com.tw/schedule/popping-%e7%b4%80%e5%a8%81-42/2024-07-06/
CATEGORIES:Poppin,常態課_一般,課程
END:VEVENT
BEGIN:VEVENT
DTSTART;TZID=Asia/Shanghai:20240706T191000
DTEND;TZID=Asia/Shanghai:20240706T201000
DTSTAMP:20260422T052808
CREATED:20240624T081748Z
LAST-MODIFIED:20240624T081748Z
UID:10019734-1720293000-1720296600@www.dancesoul.com.tw
SUMMARY:Choreography(初)-無盡
DESCRIPTION:
URL:https://www.dancesoul.com.tw/schedule/choreography%e5%88%9d-%e7%84%a1%e7%9b%a1-2/2024-07-06/
CATEGORIES:Choreography 初級,常態課_初級,課程
END:VEVENT
BEGIN:VEVENT
DTSTART;TZID=Asia/Shanghai:20240706T202000
DTEND;TZID=Asia/Shanghai:20240706T212000
DTSTAMP:20260422T052808
CREATED:20240624T082259Z
LAST-MODIFIED:20240624T082259Z
UID:10019738-1720297200-1720300800@www.dancesoul.com.tw
SUMMARY:基礎入門-雞蛋
DESCRIPTION:
URL:https://www.dancesoul.com.tw/schedule/%e5%9f%ba%e7%a4%8e%e5%85%a5%e9%96%80-%e9%9b%9e%e8%9b%8b-29/2024-07-06/
CATEGORIES:基礎入門,常態課_初級,課程
END:VEVENT
END:VCALENDAR