BEGIN:VCALENDAR
VERSION:2.0
PRODID:-//DANCE SOUL 舞魂街舞學校 - ECPv6.15.18//NONSGML v1.0//EN
CALSCALE:GREGORIAN
METHOD:PUBLISH
X-ORIGINAL-URL:https://www.dancesoul.com.tw
X-WR-CALDESC:Events for DANCE SOUL 舞魂街舞學校
REFRESH-INTERVAL;VALUE=DURATION:PT1H
X-Robots-Tag:noindex
X-PUBLISHED-TTL:PT1H
BEGIN:VTIMEZONE
TZID:Asia/Shanghai
BEGIN:STANDARD
TZOFFSETFROM:+0800
TZOFFSETTO:+0800
TZNAME:CST
DTSTART:20250101T000000
END:STANDARD
END:VTIMEZONE
BEGIN:VEVENT
DTSTART;TZID=Asia/Shanghai:20261124T182000
DTEND;TZID=Asia/Shanghai:20261124T192000
DTSTAMP:20260422T095705
CREATED:20250828T095545Z
LAST-MODIFIED:20250828T095545Z
UID:10023677-1795544400-1795548000@www.dancesoul.com.tw
SUMMARY:MV-薇臻
DESCRIPTION:
URL:https://www.dancesoul.com.tw/schedule/mv-%e8%96%87%e8%87%bb-4/2026-11-24/
END:VEVENT
BEGIN:VEVENT
DTSTART;TZID=Asia/Shanghai:20261124T192500
DTEND;TZID=Asia/Shanghai:20261124T202500
DTSTAMP:20260422T095705
CREATED:20260327T083744Z
LAST-MODIFIED:20260327T083744Z
UID:10034277-1795548300-1795551900@www.dancesoul.com.tw
SUMMARY:Choreography-羅毅
DESCRIPTION:
URL:https://www.dancesoul.com.tw/schedule/choreography-%e7%be%85%e6%af%85-2-2/2026-11-24/
CATEGORIES:Choreography,常態課_一般,課程
END:VEVENT
BEGIN:VEVENT
DTSTART;TZID=Asia/Shanghai:20261124T202000
DTEND;TZID=Asia/Shanghai:20261124T212000
DTSTAMP:20260422T095705
CREATED:20250828T100203Z
LAST-MODIFIED:20250828T100203Z
UID:10023939-1795551600-1795555200@www.dancesoul.com.tw
SUMMARY:Free Style-俊宏
DESCRIPTION:
URL:https://www.dancesoul.com.tw/schedule/free-style-%e4%bf%8a%e5%ae%8f-29/2026-11-24/
CATEGORIES:Freestyle,常態課_一般,課程
END:VEVENT
BEGIN:VEVENT
DTSTART;TZID=Asia/Shanghai:20261124T213500
DTEND;TZID=Asia/Shanghai:20261124T223500
DTSTAMP:20260422T095705
CREATED:20260327T081822Z
LAST-MODIFIED:20260327T081932Z
UID:10032145-1795556100-1795559700@www.dancesoul.com.tw
SUMMARY:Hip Hop-承翰
DESCRIPTION:
URL:https://www.dancesoul.com.tw/schedule/hip-hop-%e6%89%bf%e7%bf%b0-2-3/2026-11-24/
CATEGORIES:Hip Hop,常態課_一般,課程
END:VEVENT
BEGIN:VEVENT
DTSTART;TZID=Asia/Shanghai:20261125T182000
DTEND;TZID=Asia/Shanghai:20261125T192000
DTSTAMP:20260422T095705
CREATED:20260327T082544Z
LAST-MODIFIED:20260327T082544Z
UID:10032958-1795630800-1795634400@www.dancesoul.com.tw
SUMMARY:Choreography(初)-無盡
DESCRIPTION:
URL:https://www.dancesoul.com.tw/schedule/choreography%e5%88%9d-%e7%84%a1%e7%9b%a1-14-2/2026-11-25/
CATEGORIES:Choreography 初級,常態課_初級,課程
END:VEVENT
BEGIN:VEVENT
DTSTART;TZID=Asia/Shanghai:20261125T192500
DTEND;TZID=Asia/Shanghai:20261125T202500
DTSTAMP:20260422T095705
CREATED:20250828T102504Z
LAST-MODIFIED:20250828T102504Z
UID:10024722-1795634700-1795638300@www.dancesoul.com.tw
SUMMARY:Street Jazz-Larry
DESCRIPTION:
URL:https://www.dancesoul.com.tw/schedule/street-jazz-larry-30/2026-11-25/
CATEGORIES:STREET JAZZ,常態課_一般,課程
END:VEVENT
BEGIN:VEVENT
DTSTART;TZID=Asia/Shanghai:20261125T203000
DTEND;TZID=Asia/Shanghai:20261125T213000
DTSTAMP:20260422T095705
CREATED:20250828T103540Z
LAST-MODIFIED:20250828T103540Z
UID:10024983-1795638600-1795642200@www.dancesoul.com.tw
SUMMARY:Street Jazz-Kyle
DESCRIPTION:
URL:https://www.dancesoul.com.tw/schedule/street-jazz-kyle-4/2026-11-25/
CATEGORIES:STREET JAZZ,常態課_一般,課程
END:VEVENT
BEGIN:VEVENT
DTSTART;TZID=Asia/Shanghai:20261125T213500
DTEND;TZID=Asia/Shanghai:20261125T223500
DTSTAMP:20260422T095705
CREATED:20260327T085649Z
LAST-MODIFIED:20260327T085650Z
UID:10036655-1795642500-1795646100@www.dancesoul.com.tw
SUMMARY:MV-緗緗
DESCRIPTION:
URL:https://www.dancesoul.com.tw/schedule/mv-%e7%b7%97%e7%b7%97-2-2/2026-11-25/
END:VEVENT
BEGIN:VEVENT
DTSTART;TZID=Asia/Shanghai:20261126T182000
DTEND;TZID=Asia/Shanghai:20261126T192000
DTSTAMP:20260422T095705
CREATED:20251202T055643Z
LAST-MODIFIED:20251202T055645Z
UID:10025505-1795717200-1795720800@www.dancesoul.com.tw
SUMMARY:Street Jazz-羊羊
DESCRIPTION:
URL:https://www.dancesoul.com.tw/schedule/hip-hop-%e4%bd%90%e4%bd%90-2-2/2026-11-26/
CATEGORIES:Hip Hop,常態課_一般,課程
END:VEVENT
BEGIN:VEVENT
DTSTART;TZID=Asia/Shanghai:20261126T192500
DTEND;TZID=Asia/Shanghai:20261126T202500
DTSTAMP:20260422T095705
CREATED:20260327T082918Z
LAST-MODIFIED:20260327T084510Z
UID:10034804-1795721100-1795724700@www.dancesoul.com.tw
SUMMARY:Hip Hop(初)-林彤
DESCRIPTION:
URL:https://www.dancesoul.com.tw/schedule/hip-hop%e5%88%9d-%e6%9e%97%e5%bd%a4-3-2/2026-11-26/
CATEGORIES:Hip Hop 初級,常態課_初級,課程
END:VEVENT
BEGIN:VEVENT
DTSTART;TZID=Asia/Shanghai:20261126T203000
DTEND;TZID=Asia/Shanghai:20261126T213000
DTSTAMP:20260422T095705
CREATED:20260327T085246Z
LAST-MODIFIED:20260327T085313Z
UID:10036127-1795725000-1795728600@www.dancesoul.com.tw
SUMMARY:Choreography-HU RUEI胡睿
DESCRIPTION:
URL:https://www.dancesoul.com.tw/schedule/choreography-hu-ruei%e8%83%a1%e7%9d%bf/2026-11-26/
END:VEVENT
BEGIN:VEVENT
DTSTART;TZID=Asia/Shanghai:20261126T213500
DTEND;TZID=Asia/Shanghai:20261126T223500
DTSTAMP:20260422T095705
CREATED:20250828T104929Z
LAST-MODIFIED:20250828T104929Z
UID:10026285-1795728900-1795732500@www.dancesoul.com.tw
SUMMARY:Choreography-巴豪
DESCRIPTION:
URL:https://www.dancesoul.com.tw/schedule/choreography-%e5%b7%b4%e8%b1%aa-7/2026-11-26/
CATEGORIES:Choreography,常態課_一般,課程
END:VEVENT
BEGIN:VEVENT
DTSTART;TZID=Asia/Shanghai:20261127T182000
DTEND;TZID=Asia/Shanghai:20261127T192000
DTSTAMP:20260422T095705
CREATED:20260327T083919Z
LAST-MODIFIED:20260327T083920Z
UID:10034541-1795803600-1795807200@www.dancesoul.com.tw
SUMMARY:Twerk（初）-碗公
DESCRIPTION:
URL:https://www.dancesoul.com.tw/schedule/twerk%ef%bc%88%e5%88%9d%ef%bc%89-%e7%a2%97%e5%85%ac-2-2/2026-11-27/
END:VEVENT
BEGIN:VEVENT
DTSTART;TZID=Asia/Shanghai:20261127T192500
DTEND;TZID=Asia/Shanghai:20261127T202500
DTSTAMP:20260422T095705
CREATED:20260327T090205Z
LAST-MODIFIED:20260327T090205Z
UID:10037449-1795807500-1795811100@www.dancesoul.com.tw
SUMMARY:Street Jazz-CenMei
DESCRIPTION:
URL:https://www.dancesoul.com.tw/schedule/street-jazz-cenmei/2026-11-27/
END:VEVENT
BEGIN:VEVENT
DTSTART;TZID=Asia/Shanghai:20261127T203000
DTEND;TZID=Asia/Shanghai:20261127T213000
DTSTAMP:20260422T095705
CREATED:20260327T090256Z
LAST-MODIFIED:20260327T090256Z
UID:10037713-1795811400-1795815000@www.dancesoul.com.tw
SUMMARY:Jazz Funk-Dang 鈴鐺
DESCRIPTION:
URL:https://www.dancesoul.com.tw/schedule/jazz-funk-dang-%e9%88%b4%e9%90%ba/2026-11-27/
END:VEVENT
BEGIN:VEVENT
DTSTART;TZID=Asia/Shanghai:20261127T213500
DTEND;TZID=Asia/Shanghai:20261127T223500
DTSTAMP:20260422T095705
CREATED:20260327T085804Z
LAST-MODIFIED:20260327T085804Z
UID:10036920-1795815300-1795818900@www.dancesoul.com.tw
SUMMARY:Street Jazz-Roy燦伊
DESCRIPTION:
URL:https://www.dancesoul.com.tw/schedule/street-jazz-roy%e7%87%a6%e4%bc%8a/2026-11-27/
END:VEVENT
BEGIN:VEVENT
DTSTART;TZID=Asia/Shanghai:20261128T132000
DTEND;TZID=Asia/Shanghai:20261128T142000
DTSTAMP:20260422T095705
CREATED:20251201T070320Z
LAST-MODIFIED:20260315T072345Z
UID:10027325-1795872000-1795875600@www.dancesoul.com.tw
SUMMARY:兒童MV(初)(i-dle - 'Mona(Feat.skaiwater)')-薇臻
DESCRIPTION:
URL:https://www.dancesoul.com.tw/schedule/%e5%85%92%e7%ab%a5%e8%a1%97%e8%88%9e-%e8%96%87%e8%87%bb-21-2-2-2/2026-11-28/
CATEGORIES:兒童街舞,兒童課
END:VEVENT
BEGIN:VEVENT
DTSTART;TZID=Asia/Shanghai:20261128T143000
DTEND;TZID=Asia/Shanghai:20261128T153000
DTSTAMP:20260422T095705
CREATED:20251202T055414Z
LAST-MODIFIED:20260315T072223Z
UID:10027586-1795876200-1795879800@www.dancesoul.com.tw
SUMMARY:兒童MV(IVE - 'BANG BANG')-薇臻
DESCRIPTION:
URL:https://www.dancesoul.com.tw/schedule/%e5%85%92%e7%ab%a5mvbabymonster-hot-sauce-%e8%96%87%e8%87%bb-2/2026-11-28/
CATEGORIES:MV課,兒童MV,課程
END:VEVENT
BEGIN:VEVENT
DTSTART;TZID=Asia/Shanghai:20261128T154000
DTEND;TZID=Asia/Shanghai:20261128T164000
DTSTAMP:20260422T095705
CREATED:20250901T055134Z
LAST-MODIFIED:20260327T083158Z
UID:10033488-1795880400-1795884000@www.dancesoul.com.tw
SUMMARY:兒童Popping-勁宏
DESCRIPTION:
URL:https://www.dancesoul.com.tw/schedule/%e5%85%92%e7%ab%a5popping-%e5%8b%81%e5%ae%8f-2/2026-11-28/
CATEGORIES:兒童街舞,課程
END:VEVENT
BEGIN:VEVENT
DTSTART;TZID=Asia/Shanghai:20261128T164000
DTEND;TZID=Asia/Shanghai:20261128T174000
DTSTAMP:20260422T095705
CREATED:20260315T072002Z
LAST-MODIFIED:20260315T072518Z
UID:10027848-1795884000-1795887600@www.dancesoul.com.tw
SUMMARY:MV(IVE - ‘BANG BANG’)-薇臻
DESCRIPTION:
URL:https://www.dancesoul.com.tw/schedule/mvive-xoxz-%e5%87%9d%e7%90%a6-2-2/2026-11-28/
CATEGORIES:MV課,課程
END:VEVENT
BEGIN:VEVENT
DTSTART;TZID=Asia/Shanghai:20261128T182000
DTEND;TZID=Asia/Shanghai:20261128T192000
DTSTAMP:20260422T095705
CREATED:20250901T055441Z
LAST-MODIFIED:20250901T055457Z
UID:10028109-1795890000-1795893600@www.dancesoul.com.tw
SUMMARY:Popping-紀威
DESCRIPTION:
URL:https://www.dancesoul.com.tw/schedule/popping-%e7%b4%80%e5%a8%81-54/2026-11-28/
CATEGORIES:Poppin,常態課_一般,課程
END:VEVENT
BEGIN:VEVENT
DTSTART;TZID=Asia/Shanghai:20261128T192500
DTEND;TZID=Asia/Shanghai:20261128T202500
DTSTAMP:20260422T095705
CREATED:20260327T082346Z
LAST-MODIFIED:20260327T082346Z
UID:10032693-1795893900-1795897500@www.dancesoul.com.tw
SUMMARY:HIP HOP-GAGA
DESCRIPTION:
URL:https://www.dancesoul.com.tw/schedule/%e5%9f%ba%e7%a4%8e%e5%85%a5%e9%96%80-%e9%9b%9e%e8%9b%8b-41-2/2026-11-28/
CATEGORIES:基礎入門,常態課_初級,課程
END:VEVENT
BEGIN:VEVENT
DTSTART;TZID=Asia/Shanghai:20261129T132000
DTEND;TZID=Asia/Shanghai:20261129T142000
DTSTAMP:20260422T095705
CREATED:20250901T055750Z
LAST-MODIFIED:20250901T055750Z
UID:10028892-1795958400-1795962000@www.dancesoul.com.tw
SUMMARY:兒童街舞-羿芃
DESCRIPTION:
URL:https://www.dancesoul.com.tw/schedule/%e5%85%92%e7%ab%a5%e8%a1%97%e8%88%9e-%e7%be%bf%e8%8a%83-20/2026-11-29/
CATEGORIES:兒童街舞,課程
END:VEVENT
BEGIN:VEVENT
DTSTART;TZID=Asia/Shanghai:20261129T143000
DTEND;TZID=Asia/Shanghai:20261129T153000
DTSTAMP:20260422T095705
CREATED:20260315T071830Z
LAST-MODIFIED:20260315T071830Z
UID:10029153-1795962600-1795966200@www.dancesoul.com.tw
SUMMARY:兒童MV(ILLIT-opps!)-羿芃
DESCRIPTION:
URL:https://www.dancesoul.com.tw/schedule/%e5%85%92%e7%ab%a5mvizna-sass-%e7%be%bf%e8%8a%83-2-2/2026-11-29/
CATEGORIES:兒童MV,兒童課
END:VEVENT
BEGIN:VEVENT
DTSTART;TZID=Asia/Shanghai:20261129T154000
DTEND;TZID=Asia/Shanghai:20261129T164000
DTSTAMP:20260422T095705
CREATED:20250901T060229Z
LAST-MODIFIED:20250901T060229Z
UID:10029414-1795966800-1795970400@www.dancesoul.com.tw
SUMMARY:兒童Street Jazz-傘傘
DESCRIPTION:
URL:https://www.dancesoul.com.tw/schedule/%e5%85%92%e7%ab%a5street-jazz-%e5%82%98%e5%82%98-4/2026-11-29/
CATEGORIES:兒童街舞,兒童課
END:VEVENT
BEGIN:VEVENT
DTSTART;TZID=Asia/Shanghai:20261129T165000
DTEND;TZID=Asia/Shanghai:20261129T175000
DTSTAMP:20260422T095705
CREATED:20251201T095640Z
LAST-MODIFIED:20260315T071631Z
UID:10029675-1795971000-1795974600@www.dancesoul.com.tw
SUMMARY:MV(Apink - 'Love Me More')-Jenny
DESCRIPTION:
URL:https://www.dancesoul.com.tw/schedule/mvsomi-closer-%e7%91%9c%e5%ba%ad-2/2026-11-29/
CATEGORIES:MV課,課程
END:VEVENT
BEGIN:VEVENT
DTSTART;TZID=Asia/Shanghai:20261129T182000
DTEND;TZID=Asia/Shanghai:20261129T192000
DTSTAMP:20260422T095705
CREATED:20260327T085927Z
LAST-MODIFIED:20260327T085927Z
UID:10037185-1795976400-1795980000@www.dancesoul.com.tw
SUMMARY:Jazz Funk-Zulin小霖
DESCRIPTION:
URL:https://www.dancesoul.com.tw/schedule/jazz-funk-zulin%e5%b0%8f%e9%9c%96/2026-11-29/
END:VEVENT
BEGIN:VEVENT
DTSTART;TZID=Asia/Shanghai:20261129T192500
DTEND;TZID=Asia/Shanghai:20261129T202500
DTSTAMP:20260422T095705
CREATED:20260327T081608Z
LAST-MODIFIED:20260327T081608Z
UID:10030197-1795980300-1795983900@www.dancesoul.com.tw
SUMMARY:Hip Hop-ROD
DESCRIPTION:
URL:https://www.dancesoul.com.tw/schedule/hip-hop-%e6%89%bf%e7%bf%b0-2-2/2026-11-29/
CATEGORIES:Hip Hop,常態課_一般,課程
END:VEVENT
BEGIN:VEVENT
DTSTART;TZID=Asia/Shanghai:20261130T182000
DTEND;TZID=Asia/Shanghai:20261130T192000
DTSTAMP:20260422T095705
CREATED:20260327T084628Z
LAST-MODIFIED:20260327T084933Z
UID:10035333-1796062800-1796066400@www.dancesoul.com.tw
SUMMARY:MV-瑜庭
DESCRIPTION:
URL:https://www.dancesoul.com.tw/schedule/mvtwice-this-is-for-%e7%91%9c%e5%ba%ad-2/2026-11-30/
CATEGORIES:MV課,課程
END:VEVENT
BEGIN:VEVENT
DTSTART;TZID=Asia/Shanghai:20261130T192500
DTEND;TZID=Asia/Shanghai:20261130T202500
DTSTAMP:20260422T095705
CREATED:20260327T082108Z
LAST-MODIFIED:20260327T082108Z
UID:10030805-1796066700-1796070300@www.dancesoul.com.tw
SUMMARY:Jazz Funk-魏小美
DESCRIPTION:
URL:https://www.dancesoul.com.tw/schedule/jazz-funk-%e9%ad%8f%e5%b0%8f%e7%be%8e-84-2-2/2026-11-30/
END:VEVENT
END:VCALENDAR