BEGIN:VCALENDAR
VERSION:2.0
PRODID:-//DANCE SOUL 舞魂街舞學校 - ECPv6.15.18//NONSGML v1.0//EN
CALSCALE:GREGORIAN
METHOD:PUBLISH
X-ORIGINAL-URL:https://www.dancesoul.com.tw
X-WR-CALDESC:Events for DANCE SOUL 舞魂街舞學校
REFRESH-INTERVAL;VALUE=DURATION:PT1H
X-Robots-Tag:noindex
X-PUBLISHED-TTL:PT1H
BEGIN:VTIMEZONE
TZID:Asia/Shanghai
BEGIN:STANDARD
TZOFFSETFROM:+0800
TZOFFSETTO:+0800
TZNAME:CST
DTSTART:20250101T000000
END:STANDARD
END:VTIMEZONE
BEGIN:VEVENT
DTSTART;TZID=Asia/Shanghai:20261129T154000
DTEND;TZID=Asia/Shanghai:20261129T164000
DTSTAMP:20260422T053007
CREATED:20250901T060229Z
LAST-MODIFIED:20250901T060229Z
UID:10029414-1795966800-1795970400@www.dancesoul.com.tw
SUMMARY:兒童Street Jazz-傘傘
DESCRIPTION:
URL:https://www.dancesoul.com.tw/schedule/%e5%85%92%e7%ab%a5street-jazz-%e5%82%98%e5%82%98-4/2026-11-29/
CATEGORIES:兒童街舞,兒童課
END:VEVENT
BEGIN:VEVENT
DTSTART;TZID=Asia/Shanghai:20261129T165000
DTEND;TZID=Asia/Shanghai:20261129T175000
DTSTAMP:20260422T053007
CREATED:20251201T095640Z
LAST-MODIFIED:20260315T071631Z
UID:10029675-1795971000-1795974600@www.dancesoul.com.tw
SUMMARY:MV(Apink - 'Love Me More')-Jenny
DESCRIPTION:
URL:https://www.dancesoul.com.tw/schedule/mvsomi-closer-%e7%91%9c%e5%ba%ad-2/2026-11-29/
CATEGORIES:MV課,課程
END:VEVENT
BEGIN:VEVENT
DTSTART;TZID=Asia/Shanghai:20261129T182000
DTEND;TZID=Asia/Shanghai:20261129T192000
DTSTAMP:20260422T053007
CREATED:20260327T085927Z
LAST-MODIFIED:20260327T085927Z
UID:10037185-1795976400-1795980000@www.dancesoul.com.tw
SUMMARY:Jazz Funk-Zulin小霖
DESCRIPTION:
URL:https://www.dancesoul.com.tw/schedule/jazz-funk-zulin%e5%b0%8f%e9%9c%96/2026-11-29/
END:VEVENT
BEGIN:VEVENT
DTSTART;TZID=Asia/Shanghai:20261129T192500
DTEND;TZID=Asia/Shanghai:20261129T202500
DTSTAMP:20260422T053007
CREATED:20260327T081608Z
LAST-MODIFIED:20260327T081608Z
UID:10030197-1795980300-1795983900@www.dancesoul.com.tw
SUMMARY:Hip Hop-ROD
DESCRIPTION:
URL:https://www.dancesoul.com.tw/schedule/hip-hop-%e6%89%bf%e7%bf%b0-2-2/2026-11-29/
CATEGORIES:Hip Hop,常態課_一般,課程
END:VEVENT
BEGIN:VEVENT
DTSTART;TZID=Asia/Shanghai:20261130T182000
DTEND;TZID=Asia/Shanghai:20261130T192000
DTSTAMP:20260422T053007
CREATED:20260327T084628Z
LAST-MODIFIED:20260327T084933Z
UID:10035333-1796062800-1796066400@www.dancesoul.com.tw
SUMMARY:MV-瑜庭
DESCRIPTION:
URL:https://www.dancesoul.com.tw/schedule/mvtwice-this-is-for-%e7%91%9c%e5%ba%ad-2/2026-11-30/
CATEGORIES:MV課,課程
END:VEVENT
BEGIN:VEVENT
DTSTART;TZID=Asia/Shanghai:20261130T192500
DTEND;TZID=Asia/Shanghai:20261130T202500
DTSTAMP:20260422T053007
CREATED:20260327T082108Z
LAST-MODIFIED:20260327T082108Z
UID:10030805-1796066700-1796070300@www.dancesoul.com.tw
SUMMARY:Jazz Funk-魏小美
DESCRIPTION:
URL:https://www.dancesoul.com.tw/schedule/jazz-funk-%e9%ad%8f%e5%b0%8f%e7%be%8e-84-2-2/2026-11-30/
END:VEVENT
BEGIN:VEVENT
DTSTART;TZID=Asia/Shanghai:20261130T203000
DTEND;TZID=Asia/Shanghai:20261130T213000
DTSTAMP:20260422T053007
CREATED:20260327T084046Z
LAST-MODIFIED:20260327T084828Z
UID:10035069-1796070600-1796074200@www.dancesoul.com.tw
SUMMARY:Heels-宋靜
DESCRIPTION:
URL:https://www.dancesoul.com.tw/schedule/heels-%e5%ae%8b%e9%9d%9c-3-2/2026-11-30/
END:VEVENT
BEGIN:VEVENT
DTSTART;TZID=Asia/Shanghai:20261130T213500
DTEND;TZID=Asia/Shanghai:20261130T223500
DTSTAMP:20260422T053007
CREATED:20260327T082216Z
LAST-MODIFIED:20260327T082217Z
UID:10032430-1796074500-1796078100@www.dancesoul.com.tw
SUMMARY:Jazz Funk-姿昀
DESCRIPTION:
URL:https://www.dancesoul.com.tw/schedule/jazz-funk-%e5%a7%bf%e6%98%80-15-2/2026-11-30/
CATEGORIES:Jazz Funk,課程
END:VEVENT
BEGIN:VEVENT
DTSTART;TZID=Asia/Shanghai:20261201T182000
DTEND;TZID=Asia/Shanghai:20261201T192000
DTSTAMP:20260422T053007
CREATED:20250828T095545Z
LAST-MODIFIED:20250828T095545Z
UID:10023678-1796149200-1796152800@www.dancesoul.com.tw
SUMMARY:MV-薇臻
DESCRIPTION:
URL:https://www.dancesoul.com.tw/schedule/mv-%e8%96%87%e8%87%bb-4/2026-12-01/
END:VEVENT
BEGIN:VEVENT
DTSTART;TZID=Asia/Shanghai:20261201T192500
DTEND;TZID=Asia/Shanghai:20261201T202500
DTSTAMP:20260422T053007
CREATED:20260327T083744Z
LAST-MODIFIED:20260327T083744Z
UID:10034278-1796153100-1796156700@www.dancesoul.com.tw
SUMMARY:Choreography-羅毅
DESCRIPTION:
URL:https://www.dancesoul.com.tw/schedule/choreography-%e7%be%85%e6%af%85-2-2/2026-12-01/
CATEGORIES:Choreography,常態課_一般,課程
END:VEVENT
BEGIN:VEVENT
DTSTART;TZID=Asia/Shanghai:20261201T202000
DTEND;TZID=Asia/Shanghai:20261201T212000
DTSTAMP:20260422T053007
CREATED:20250828T100203Z
LAST-MODIFIED:20250828T100203Z
UID:10023940-1796156400-1796160000@www.dancesoul.com.tw
SUMMARY:Free Style-俊宏
DESCRIPTION:
URL:https://www.dancesoul.com.tw/schedule/free-style-%e4%bf%8a%e5%ae%8f-29/2026-12-01/
CATEGORIES:Freestyle,常態課_一般,課程
END:VEVENT
BEGIN:VEVENT
DTSTART;TZID=Asia/Shanghai:20261201T213500
DTEND;TZID=Asia/Shanghai:20261201T223500
DTSTAMP:20260422T053007
CREATED:20260327T081822Z
LAST-MODIFIED:20260327T081932Z
UID:10032146-1796160900-1796164500@www.dancesoul.com.tw
SUMMARY:Hip Hop-承翰
DESCRIPTION:
URL:https://www.dancesoul.com.tw/schedule/hip-hop-%e6%89%bf%e7%bf%b0-2-3/2026-12-01/
CATEGORIES:Hip Hop,常態課_一般,課程
END:VEVENT
BEGIN:VEVENT
DTSTART;TZID=Asia/Shanghai:20261202T182000
DTEND;TZID=Asia/Shanghai:20261202T192000
DTSTAMP:20260422T053007
CREATED:20260327T082544Z
LAST-MODIFIED:20260327T082544Z
UID:10032959-1796235600-1796239200@www.dancesoul.com.tw
SUMMARY:Choreography(初)-無盡
DESCRIPTION:
URL:https://www.dancesoul.com.tw/schedule/choreography%e5%88%9d-%e7%84%a1%e7%9b%a1-14-2/2026-12-02/
CATEGORIES:Choreography 初級,常態課_初級,課程
END:VEVENT
BEGIN:VEVENT
DTSTART;TZID=Asia/Shanghai:20261202T192500
DTEND;TZID=Asia/Shanghai:20261202T202500
DTSTAMP:20260422T053007
CREATED:20250828T102504Z
LAST-MODIFIED:20250828T102504Z
UID:10024723-1796239500-1796243100@www.dancesoul.com.tw
SUMMARY:Street Jazz-Larry
DESCRIPTION:
URL:https://www.dancesoul.com.tw/schedule/street-jazz-larry-30/2026-12-02/
CATEGORIES:STREET JAZZ,常態課_一般,課程
END:VEVENT
BEGIN:VEVENT
DTSTART;TZID=Asia/Shanghai:20261202T203000
DTEND;TZID=Asia/Shanghai:20261202T213000
DTSTAMP:20260422T053007
CREATED:20250828T103540Z
LAST-MODIFIED:20250828T103540Z
UID:10024984-1796243400-1796247000@www.dancesoul.com.tw
SUMMARY:Street Jazz-Kyle
DESCRIPTION:
URL:https://www.dancesoul.com.tw/schedule/street-jazz-kyle-4/2026-12-02/
CATEGORIES:STREET JAZZ,常態課_一般,課程
END:VEVENT
BEGIN:VEVENT
DTSTART;TZID=Asia/Shanghai:20261202T213500
DTEND;TZID=Asia/Shanghai:20261202T223500
DTSTAMP:20260422T053007
CREATED:20260327T085649Z
LAST-MODIFIED:20260327T085650Z
UID:10036656-1796247300-1796250900@www.dancesoul.com.tw
SUMMARY:MV-緗緗
DESCRIPTION:
URL:https://www.dancesoul.com.tw/schedule/mv-%e7%b7%97%e7%b7%97-2-2/2026-12-02/
END:VEVENT
BEGIN:VEVENT
DTSTART;TZID=Asia/Shanghai:20261203T182000
DTEND;TZID=Asia/Shanghai:20261203T192000
DTSTAMP:20260422T053007
CREATED:20251202T055643Z
LAST-MODIFIED:20251202T055645Z
UID:10025506-1796322000-1796325600@www.dancesoul.com.tw
SUMMARY:Street Jazz-羊羊
DESCRIPTION:
URL:https://www.dancesoul.com.tw/schedule/hip-hop-%e4%bd%90%e4%bd%90-2-2/2026-12-03/
CATEGORIES:Hip Hop,常態課_一般,課程
END:VEVENT
BEGIN:VEVENT
DTSTART;TZID=Asia/Shanghai:20261203T192500
DTEND;TZID=Asia/Shanghai:20261203T202500
DTSTAMP:20260422T053007
CREATED:20260327T082918Z
LAST-MODIFIED:20260327T084510Z
UID:10034805-1796325900-1796329500@www.dancesoul.com.tw
SUMMARY:Hip Hop(初)-林彤
DESCRIPTION:
URL:https://www.dancesoul.com.tw/schedule/hip-hop%e5%88%9d-%e6%9e%97%e5%bd%a4-3-2/2026-12-03/
CATEGORIES:Hip Hop 初級,常態課_初級,課程
END:VEVENT
BEGIN:VEVENT
DTSTART;TZID=Asia/Shanghai:20261203T203000
DTEND;TZID=Asia/Shanghai:20261203T213000
DTSTAMP:20260422T053007
CREATED:20260327T085246Z
LAST-MODIFIED:20260327T085313Z
UID:10036128-1796329800-1796333400@www.dancesoul.com.tw
SUMMARY:Choreography-HU RUEI胡睿
DESCRIPTION:
URL:https://www.dancesoul.com.tw/schedule/choreography-hu-ruei%e8%83%a1%e7%9d%bf/2026-12-03/
END:VEVENT
BEGIN:VEVENT
DTSTART;TZID=Asia/Shanghai:20261203T213500
DTEND;TZID=Asia/Shanghai:20261203T223500
DTSTAMP:20260422T053007
CREATED:20250828T104929Z
LAST-MODIFIED:20250828T104929Z
UID:10026286-1796333700-1796337300@www.dancesoul.com.tw
SUMMARY:Choreography-巴豪
DESCRIPTION:
URL:https://www.dancesoul.com.tw/schedule/choreography-%e5%b7%b4%e8%b1%aa-7/2026-12-03/
CATEGORIES:Choreography,常態課_一般,課程
END:VEVENT
BEGIN:VEVENT
DTSTART;TZID=Asia/Shanghai:20261204T182000
DTEND;TZID=Asia/Shanghai:20261204T192000
DTSTAMP:20260422T053007
CREATED:20260327T083919Z
LAST-MODIFIED:20260327T083920Z
UID:10034542-1796408400-1796412000@www.dancesoul.com.tw
SUMMARY:Twerk（初）-碗公
DESCRIPTION:
URL:https://www.dancesoul.com.tw/schedule/twerk%ef%bc%88%e5%88%9d%ef%bc%89-%e7%a2%97%e5%85%ac-2-2/2026-12-04/
END:VEVENT
BEGIN:VEVENT
DTSTART;TZID=Asia/Shanghai:20261204T192500
DTEND;TZID=Asia/Shanghai:20261204T202500
DTSTAMP:20260422T053007
CREATED:20260327T090205Z
LAST-MODIFIED:20260327T090205Z
UID:10037450-1796412300-1796415900@www.dancesoul.com.tw
SUMMARY:Street Jazz-CenMei
DESCRIPTION:
URL:https://www.dancesoul.com.tw/schedule/street-jazz-cenmei/2026-12-04/
END:VEVENT
BEGIN:VEVENT
DTSTART;TZID=Asia/Shanghai:20261204T203000
DTEND;TZID=Asia/Shanghai:20261204T213000
DTSTAMP:20260422T053007
CREATED:20260327T090256Z
LAST-MODIFIED:20260327T090256Z
UID:10037714-1796416200-1796419800@www.dancesoul.com.tw
SUMMARY:Jazz Funk-Dang 鈴鐺
DESCRIPTION:
URL:https://www.dancesoul.com.tw/schedule/jazz-funk-dang-%e9%88%b4%e9%90%ba/2026-12-04/
END:VEVENT
BEGIN:VEVENT
DTSTART;TZID=Asia/Shanghai:20261204T213500
DTEND;TZID=Asia/Shanghai:20261204T223500
DTSTAMP:20260422T053007
CREATED:20260327T085804Z
LAST-MODIFIED:20260327T085804Z
UID:10036921-1796420100-1796423700@www.dancesoul.com.tw
SUMMARY:Street Jazz-Roy燦伊
DESCRIPTION:
URL:https://www.dancesoul.com.tw/schedule/street-jazz-roy%e7%87%a6%e4%bc%8a/2026-12-04/
END:VEVENT
BEGIN:VEVENT
DTSTART;TZID=Asia/Shanghai:20261205T132000
DTEND;TZID=Asia/Shanghai:20261205T142000
DTSTAMP:20260422T053007
CREATED:20251201T070320Z
LAST-MODIFIED:20260315T072345Z
UID:10027326-1796476800-1796480400@www.dancesoul.com.tw
SUMMARY:兒童MV(初)(i-dle - 'Mona(Feat.skaiwater)')-薇臻
DESCRIPTION:
URL:https://www.dancesoul.com.tw/schedule/%e5%85%92%e7%ab%a5%e8%a1%97%e8%88%9e-%e8%96%87%e8%87%bb-21-2-2-2/2026-12-05/
CATEGORIES:兒童街舞,兒童課
END:VEVENT
BEGIN:VEVENT
DTSTART;TZID=Asia/Shanghai:20261205T143000
DTEND;TZID=Asia/Shanghai:20261205T153000
DTSTAMP:20260422T053007
CREATED:20251202T055414Z
LAST-MODIFIED:20260315T072223Z
UID:10027587-1796481000-1796484600@www.dancesoul.com.tw
SUMMARY:兒童MV(IVE - 'BANG BANG')-薇臻
DESCRIPTION:
URL:https://www.dancesoul.com.tw/schedule/%e5%85%92%e7%ab%a5mvbabymonster-hot-sauce-%e8%96%87%e8%87%bb-2/2026-12-05/
CATEGORIES:MV課,兒童MV,課程
END:VEVENT
BEGIN:VEVENT
DTSTART;TZID=Asia/Shanghai:20261205T154000
DTEND;TZID=Asia/Shanghai:20261205T164000
DTSTAMP:20260422T053007
CREATED:20250901T055134Z
LAST-MODIFIED:20260327T083158Z
UID:10033489-1796485200-1796488800@www.dancesoul.com.tw
SUMMARY:兒童Popping-勁宏
DESCRIPTION:
URL:https://www.dancesoul.com.tw/schedule/%e5%85%92%e7%ab%a5popping-%e5%8b%81%e5%ae%8f-2/2026-12-05/
CATEGORIES:兒童街舞,課程
END:VEVENT
BEGIN:VEVENT
DTSTART;TZID=Asia/Shanghai:20261205T164000
DTEND;TZID=Asia/Shanghai:20261205T174000
DTSTAMP:20260422T053007
CREATED:20260315T072002Z
LAST-MODIFIED:20260315T072518Z
UID:10027849-1796488800-1796492400@www.dancesoul.com.tw
SUMMARY:MV(IVE - ‘BANG BANG’)-薇臻
DESCRIPTION:
URL:https://www.dancesoul.com.tw/schedule/mvive-xoxz-%e5%87%9d%e7%90%a6-2-2/2026-12-05/
CATEGORIES:MV課,課程
END:VEVENT
BEGIN:VEVENT
DTSTART;TZID=Asia/Shanghai:20261205T182000
DTEND;TZID=Asia/Shanghai:20261205T192000
DTSTAMP:20260422T053007
CREATED:20250901T055441Z
LAST-MODIFIED:20250901T055457Z
UID:10028110-1796494800-1796498400@www.dancesoul.com.tw
SUMMARY:Popping-紀威
DESCRIPTION:
URL:https://www.dancesoul.com.tw/schedule/popping-%e7%b4%80%e5%a8%81-54/2026-12-05/
CATEGORIES:Poppin,常態課_一般,課程
END:VEVENT
BEGIN:VEVENT
DTSTART;TZID=Asia/Shanghai:20261205T192500
DTEND;TZID=Asia/Shanghai:20261205T202500
DTSTAMP:20260422T053007
CREATED:20260327T082346Z
LAST-MODIFIED:20260327T082346Z
UID:10032694-1796498700-1796502300@www.dancesoul.com.tw
SUMMARY:HIP HOP-GAGA
DESCRIPTION:
URL:https://www.dancesoul.com.tw/schedule/%e5%9f%ba%e7%a4%8e%e5%85%a5%e9%96%80-%e9%9b%9e%e8%9b%8b-41-2/2026-12-05/
CATEGORIES:基礎入門,常態課_初級,課程
END:VEVENT
END:VCALENDAR