BEGIN:VCALENDAR
VERSION:2.0
PRODID:-//DANCE SOUL 舞魂街舞學校 - ECPv6.15.18//NONSGML v1.0//EN
CALSCALE:GREGORIAN
METHOD:PUBLISH
X-ORIGINAL-URL:https://www.dancesoul.com.tw
X-WR-CALDESC:Events for DANCE SOUL 舞魂街舞學校
REFRESH-INTERVAL;VALUE=DURATION:PT1H
X-Robots-Tag:noindex
X-PUBLISHED-TTL:PT1H
BEGIN:VTIMEZONE
TZID:Asia/Shanghai
BEGIN:STANDARD
TZOFFSETFROM:+0800
TZOFFSETTO:+0800
TZNAME:CST
DTSTART:20260101T000000
END:STANDARD
END:VTIMEZONE
BEGIN:VEVENT
DTSTART;TZID=Asia/Shanghai:20270502T154000
DTEND;TZID=Asia/Shanghai:20270502T164000
DTSTAMP:20260426T002732
CREATED:20250901T060229Z
LAST-MODIFIED:20250901T060229Z
UID:10029436-1809272400-1809276000@www.dancesoul.com.tw
SUMMARY:兒童Street Jazz-傘傘
DESCRIPTION:
URL:https://www.dancesoul.com.tw/schedule/%e5%85%92%e7%ab%a5street-jazz-%e5%82%98%e5%82%98-4/2027-05-02/
CATEGORIES:兒童街舞,兒童課
END:VEVENT
BEGIN:VEVENT
DTSTART;TZID=Asia/Shanghai:20270502T165000
DTEND;TZID=Asia/Shanghai:20270502T175000
DTSTAMP:20260426T002732
CREATED:20251201T095640Z
LAST-MODIFIED:20260315T071631Z
UID:10029697-1809276600-1809280200@www.dancesoul.com.tw
SUMMARY:MV(Apink - 'Love Me More')-Jenny
DESCRIPTION:
URL:https://www.dancesoul.com.tw/schedule/mvsomi-closer-%e7%91%9c%e5%ba%ad-2/2027-05-02/
CATEGORIES:MV課,課程
END:VEVENT
BEGIN:VEVENT
DTSTART;TZID=Asia/Shanghai:20270502T182000
DTEND;TZID=Asia/Shanghai:20270502T192000
DTSTAMP:20260426T002732
CREATED:20260327T085927Z
LAST-MODIFIED:20260327T085927Z
UID:10037207-1809282000-1809285600@www.dancesoul.com.tw
SUMMARY:Jazz Funk-Zulin小霖
DESCRIPTION:
URL:https://www.dancesoul.com.tw/schedule/jazz-funk-zulin%e5%b0%8f%e9%9c%96/2027-05-02/
END:VEVENT
BEGIN:VEVENT
DTSTART;TZID=Asia/Shanghai:20270502T192500
DTEND;TZID=Asia/Shanghai:20270502T202500
DTSTAMP:20260426T002733
CREATED:20260327T081608Z
LAST-MODIFIED:20260327T081608Z
UID:10030219-1809285900-1809289500@www.dancesoul.com.tw
SUMMARY:Hip Hop-ROD
DESCRIPTION:
URL:https://www.dancesoul.com.tw/schedule/hip-hop-%e6%89%bf%e7%bf%b0-2-2/2027-05-02/
CATEGORIES:Hip Hop,常態課_一般,課程
END:VEVENT
BEGIN:VEVENT
DTSTART;TZID=Asia/Shanghai:20270503T182000
DTEND;TZID=Asia/Shanghai:20270503T192000
DTSTAMP:20260426T002733
CREATED:20260327T084628Z
LAST-MODIFIED:20260327T084933Z
UID:10035355-1809368400-1809372000@www.dancesoul.com.tw
SUMMARY:MV-瑜庭
DESCRIPTION:
URL:https://www.dancesoul.com.tw/schedule/mvtwice-this-is-for-%e7%91%9c%e5%ba%ad-2/2027-05-03/
CATEGORIES:MV課,課程
END:VEVENT
BEGIN:VEVENT
DTSTART;TZID=Asia/Shanghai:20270503T192500
DTEND;TZID=Asia/Shanghai:20270503T202500
DTSTAMP:20260426T002733
CREATED:20260327T082108Z
LAST-MODIFIED:20260327T082108Z
UID:10030827-1809372300-1809375900@www.dancesoul.com.tw
SUMMARY:Jazz Funk-魏小美
DESCRIPTION:
URL:https://www.dancesoul.com.tw/schedule/jazz-funk-%e9%ad%8f%e5%b0%8f%e7%be%8e-84-2-2/2027-05-03/
END:VEVENT
BEGIN:VEVENT
DTSTART;TZID=Asia/Shanghai:20270503T203000
DTEND;TZID=Asia/Shanghai:20270503T213000
DTSTAMP:20260426T002733
CREATED:20260327T084046Z
LAST-MODIFIED:20260327T084828Z
UID:10035091-1809376200-1809379800@www.dancesoul.com.tw
SUMMARY:Heels-宋靜
DESCRIPTION:
URL:https://www.dancesoul.com.tw/schedule/heels-%e5%ae%8b%e9%9d%9c-3-2/2027-05-03/
END:VEVENT
BEGIN:VEVENT
DTSTART;TZID=Asia/Shanghai:20270503T213500
DTEND;TZID=Asia/Shanghai:20270503T223500
DTSTAMP:20260426T002733
CREATED:20260327T082216Z
LAST-MODIFIED:20260327T082217Z
UID:10032452-1809380100-1809383700@www.dancesoul.com.tw
SUMMARY:Jazz Funk-姿昀
DESCRIPTION:
URL:https://www.dancesoul.com.tw/schedule/jazz-funk-%e5%a7%bf%e6%98%80-15-2/2027-05-03/
CATEGORIES:Jazz Funk,課程
END:VEVENT
BEGIN:VEVENT
DTSTART;TZID=Asia/Shanghai:20270504T182000
DTEND;TZID=Asia/Shanghai:20270504T192000
DTSTAMP:20260426T002733
CREATED:20250828T095545Z
LAST-MODIFIED:20250828T095545Z
UID:10023700-1809454800-1809458400@www.dancesoul.com.tw
SUMMARY:MV-薇臻
DESCRIPTION:
URL:https://www.dancesoul.com.tw/schedule/mv-%e8%96%87%e8%87%bb-4/2027-05-04/
END:VEVENT
BEGIN:VEVENT
DTSTART;TZID=Asia/Shanghai:20270504T192500
DTEND;TZID=Asia/Shanghai:20270504T202500
DTSTAMP:20260426T002733
CREATED:20260327T083744Z
LAST-MODIFIED:20260327T083744Z
UID:10034300-1809458700-1809462300@www.dancesoul.com.tw
SUMMARY:Choreography-羅毅
DESCRIPTION:
URL:https://www.dancesoul.com.tw/schedule/choreography-%e7%be%85%e6%af%85-2-2/2027-05-04/
CATEGORIES:Choreography,常態課_一般,課程
END:VEVENT
BEGIN:VEVENT
DTSTART;TZID=Asia/Shanghai:20270504T202000
DTEND;TZID=Asia/Shanghai:20270504T212000
DTSTAMP:20260426T002733
CREATED:20250828T100203Z
LAST-MODIFIED:20250828T100203Z
UID:10023962-1809462000-1809465600@www.dancesoul.com.tw
SUMMARY:Free Style-俊宏
DESCRIPTION:
URL:https://www.dancesoul.com.tw/schedule/free-style-%e4%bf%8a%e5%ae%8f-29/2027-05-04/
CATEGORIES:Freestyle,常態課_一般,課程
END:VEVENT
BEGIN:VEVENT
DTSTART;TZID=Asia/Shanghai:20270504T213500
DTEND;TZID=Asia/Shanghai:20270504T223500
DTSTAMP:20260426T002733
CREATED:20260327T081822Z
LAST-MODIFIED:20260327T081932Z
UID:10032168-1809466500-1809470100@www.dancesoul.com.tw
SUMMARY:Hip Hop-承翰
DESCRIPTION:
URL:https://www.dancesoul.com.tw/schedule/hip-hop-%e6%89%bf%e7%bf%b0-2-3/2027-05-04/
CATEGORIES:Hip Hop,常態課_一般,課程
END:VEVENT
BEGIN:VEVENT
DTSTART;TZID=Asia/Shanghai:20270505T182000
DTEND;TZID=Asia/Shanghai:20270505T192000
DTSTAMP:20260426T002733
CREATED:20260327T082544Z
LAST-MODIFIED:20260327T082544Z
UID:10032981-1809541200-1809544800@www.dancesoul.com.tw
SUMMARY:Choreography(初)-無盡
DESCRIPTION:
URL:https://www.dancesoul.com.tw/schedule/choreography%e5%88%9d-%e7%84%a1%e7%9b%a1-14-2/2027-05-05/
CATEGORIES:Choreography 初級,常態課_初級,課程
END:VEVENT
BEGIN:VEVENT
DTSTART;TZID=Asia/Shanghai:20270505T192500
DTEND;TZID=Asia/Shanghai:20270505T202500
DTSTAMP:20260426T002733
CREATED:20250828T102504Z
LAST-MODIFIED:20250828T102504Z
UID:10024745-1809545100-1809548700@www.dancesoul.com.tw
SUMMARY:Street Jazz-Larry
DESCRIPTION:
URL:https://www.dancesoul.com.tw/schedule/street-jazz-larry-30/2027-05-05/
CATEGORIES:STREET JAZZ,常態課_一般,課程
END:VEVENT
BEGIN:VEVENT
DTSTART;TZID=Asia/Shanghai:20270505T203000
DTEND;TZID=Asia/Shanghai:20270505T213000
DTSTAMP:20260426T002733
CREATED:20250828T103540Z
LAST-MODIFIED:20250828T103540Z
UID:10025006-1809549000-1809552600@www.dancesoul.com.tw
SUMMARY:Street Jazz-Kyle
DESCRIPTION:
URL:https://www.dancesoul.com.tw/schedule/street-jazz-kyle-4/2027-05-05/
CATEGORIES:STREET JAZZ,常態課_一般,課程
END:VEVENT
BEGIN:VEVENT
DTSTART;TZID=Asia/Shanghai:20270505T213500
DTEND;TZID=Asia/Shanghai:20270505T223500
DTSTAMP:20260426T002733
CREATED:20260327T085649Z
LAST-MODIFIED:20260327T085650Z
UID:10036678-1809552900-1809556500@www.dancesoul.com.tw
SUMMARY:MV-緗緗
DESCRIPTION:
URL:https://www.dancesoul.com.tw/schedule/mv-%e7%b7%97%e7%b7%97-2-2/2027-05-05/
END:VEVENT
BEGIN:VEVENT
DTSTART;TZID=Asia/Shanghai:20270506T182000
DTEND;TZID=Asia/Shanghai:20270506T192000
DTSTAMP:20260426T002733
CREATED:20251202T055643Z
LAST-MODIFIED:20251202T055645Z
UID:10025528-1809627600-1809631200@www.dancesoul.com.tw
SUMMARY:Street Jazz-羊羊
DESCRIPTION:
URL:https://www.dancesoul.com.tw/schedule/hip-hop-%e4%bd%90%e4%bd%90-2-2/2027-05-06/
CATEGORIES:Hip Hop,常態課_一般,課程
END:VEVENT
BEGIN:VEVENT
DTSTART;TZID=Asia/Shanghai:20270506T192500
DTEND;TZID=Asia/Shanghai:20270506T202500
DTSTAMP:20260426T002733
CREATED:20260327T082918Z
LAST-MODIFIED:20260327T084510Z
UID:10034827-1809631500-1809635100@www.dancesoul.com.tw
SUMMARY:Hip Hop(初)-林彤
DESCRIPTION:
URL:https://www.dancesoul.com.tw/schedule/hip-hop%e5%88%9d-%e6%9e%97%e5%bd%a4-3-2/2027-05-06/
CATEGORIES:Hip Hop 初級,常態課_初級,課程
END:VEVENT
BEGIN:VEVENT
DTSTART;TZID=Asia/Shanghai:20270506T203000
DTEND;TZID=Asia/Shanghai:20270506T213000
DTSTAMP:20260426T002733
CREATED:20260327T085246Z
LAST-MODIFIED:20260327T085313Z
UID:10036150-1809635400-1809639000@www.dancesoul.com.tw
SUMMARY:Choreography-HU RUEI胡睿
DESCRIPTION:
URL:https://www.dancesoul.com.tw/schedule/choreography-hu-ruei%e8%83%a1%e7%9d%bf/2027-05-06/
END:VEVENT
BEGIN:VEVENT
DTSTART;TZID=Asia/Shanghai:20270506T213500
DTEND;TZID=Asia/Shanghai:20270506T223500
DTSTAMP:20260426T002733
CREATED:20250828T104929Z
LAST-MODIFIED:20250828T104929Z
UID:10026308-1809639300-1809642900@www.dancesoul.com.tw
SUMMARY:Choreography-巴豪
DESCRIPTION:
URL:https://www.dancesoul.com.tw/schedule/choreography-%e5%b7%b4%e8%b1%aa-7/2027-05-06/
CATEGORIES:Choreography,常態課_一般,課程
END:VEVENT
BEGIN:VEVENT
DTSTART;TZID=Asia/Shanghai:20270507T182000
DTEND;TZID=Asia/Shanghai:20270507T192000
DTSTAMP:20260426T002733
CREATED:20260327T083919Z
LAST-MODIFIED:20260327T083920Z
UID:10034564-1809714000-1809717600@www.dancesoul.com.tw
SUMMARY:Twerk（初）-碗公
DESCRIPTION:
URL:https://www.dancesoul.com.tw/schedule/twerk%ef%bc%88%e5%88%9d%ef%bc%89-%e7%a2%97%e5%85%ac-2-2/2027-05-07/
END:VEVENT
BEGIN:VEVENT
DTSTART;TZID=Asia/Shanghai:20270507T192500
DTEND;TZID=Asia/Shanghai:20270507T202500
DTSTAMP:20260426T002733
CREATED:20260327T090205Z
LAST-MODIFIED:20260327T090205Z
UID:10037472-1809717900-1809721500@www.dancesoul.com.tw
SUMMARY:Street Jazz-CenMei
DESCRIPTION:
URL:https://www.dancesoul.com.tw/schedule/street-jazz-cenmei/2027-05-07/
END:VEVENT
BEGIN:VEVENT
DTSTART;TZID=Asia/Shanghai:20270507T203000
DTEND;TZID=Asia/Shanghai:20270507T213000
DTSTAMP:20260426T002733
CREATED:20260327T090256Z
LAST-MODIFIED:20260327T090256Z
UID:10037736-1809721800-1809725400@www.dancesoul.com.tw
SUMMARY:Jazz Funk-Dang 鈴鐺
DESCRIPTION:
URL:https://www.dancesoul.com.tw/schedule/jazz-funk-dang-%e9%88%b4%e9%90%ba/2027-05-07/
END:VEVENT
BEGIN:VEVENT
DTSTART;TZID=Asia/Shanghai:20270507T213500
DTEND;TZID=Asia/Shanghai:20270507T223500
DTSTAMP:20260426T002733
CREATED:20260327T085804Z
LAST-MODIFIED:20260327T085804Z
UID:10036943-1809725700-1809729300@www.dancesoul.com.tw
SUMMARY:Street Jazz-Roy燦伊
DESCRIPTION:
URL:https://www.dancesoul.com.tw/schedule/street-jazz-roy%e7%87%a6%e4%bc%8a/2027-05-07/
END:VEVENT
BEGIN:VEVENT
DTSTART;TZID=Asia/Shanghai:20270508T132000
DTEND;TZID=Asia/Shanghai:20270508T142000
DTSTAMP:20260426T002733
CREATED:20251201T070320Z
LAST-MODIFIED:20260315T072345Z
UID:10027348-1809782400-1809786000@www.dancesoul.com.tw
SUMMARY:兒童MV(初)(i-dle - 'Mona(Feat.skaiwater)')-薇臻
DESCRIPTION:
URL:https://www.dancesoul.com.tw/schedule/%e5%85%92%e7%ab%a5%e8%a1%97%e8%88%9e-%e8%96%87%e8%87%bb-21-2-2-2/2027-05-08/
CATEGORIES:兒童街舞,兒童課
END:VEVENT
BEGIN:VEVENT
DTSTART;TZID=Asia/Shanghai:20270508T143000
DTEND;TZID=Asia/Shanghai:20270508T153000
DTSTAMP:20260426T002733
CREATED:20251202T055414Z
LAST-MODIFIED:20260315T072223Z
UID:10027609-1809786600-1809790200@www.dancesoul.com.tw
SUMMARY:兒童MV(IVE - 'BANG BANG')-薇臻
DESCRIPTION:
URL:https://www.dancesoul.com.tw/schedule/%e5%85%92%e7%ab%a5mvbabymonster-hot-sauce-%e8%96%87%e8%87%bb-2/2027-05-08/
CATEGORIES:MV課,兒童MV,課程
END:VEVENT
BEGIN:VEVENT
DTSTART;TZID=Asia/Shanghai:20270508T154000
DTEND;TZID=Asia/Shanghai:20270508T164000
DTSTAMP:20260426T002733
CREATED:20250901T055134Z
LAST-MODIFIED:20260327T083158Z
UID:10033511-1809790800-1809794400@www.dancesoul.com.tw
SUMMARY:兒童Popping-勁宏
DESCRIPTION:
URL:https://www.dancesoul.com.tw/schedule/%e5%85%92%e7%ab%a5popping-%e5%8b%81%e5%ae%8f-2/2027-05-08/
CATEGORIES:兒童街舞,課程
END:VEVENT
BEGIN:VEVENT
DTSTART;TZID=Asia/Shanghai:20270508T164000
DTEND;TZID=Asia/Shanghai:20270508T174000
DTSTAMP:20260426T002733
CREATED:20260315T072002Z
LAST-MODIFIED:20260315T072518Z
UID:10027871-1809794400-1809798000@www.dancesoul.com.tw
SUMMARY:MV(IVE - ‘BANG BANG’)-薇臻
DESCRIPTION:
URL:https://www.dancesoul.com.tw/schedule/mvive-xoxz-%e5%87%9d%e7%90%a6-2-2/2027-05-08/
CATEGORIES:MV課,課程
END:VEVENT
BEGIN:VEVENT
DTSTART;TZID=Asia/Shanghai:20270508T182000
DTEND;TZID=Asia/Shanghai:20270508T192000
DTSTAMP:20260426T002733
CREATED:20250901T055441Z
LAST-MODIFIED:20250901T055457Z
UID:10028132-1809800400-1809804000@www.dancesoul.com.tw
SUMMARY:Popping-紀威
DESCRIPTION:
URL:https://www.dancesoul.com.tw/schedule/popping-%e7%b4%80%e5%a8%81-54/2027-05-08/
CATEGORIES:Poppin,常態課_一般,課程
END:VEVENT
BEGIN:VEVENT
DTSTART;TZID=Asia/Shanghai:20270508T192500
DTEND;TZID=Asia/Shanghai:20270508T202500
DTSTAMP:20260426T002733
CREATED:20260327T082346Z
LAST-MODIFIED:20260327T082346Z
UID:10032716-1809804300-1809807900@www.dancesoul.com.tw
SUMMARY:HIP HOP-GAGA
DESCRIPTION:
URL:https://www.dancesoul.com.tw/schedule/%e5%9f%ba%e7%a4%8e%e5%85%a5%e9%96%80-%e9%9b%9e%e8%9b%8b-41-2/2027-05-08/
CATEGORIES:基礎入門,常態課_初級,課程
END:VEVENT
END:VCALENDAR