BEGIN:VCALENDAR
VERSION:2.0
PRODID:-//DANCE SOUL 舞魂街舞學校 - ECPv6.15.18//NONSGML v1.0//EN
CALSCALE:GREGORIAN
METHOD:PUBLISH
X-WR-CALNAME:DANCE SOUL 舞魂街舞學校
X-ORIGINAL-URL:https://www.dancesoul.com.tw
X-WR-CALDESC:Events for DANCE SOUL 舞魂街舞學校
REFRESH-INTERVAL;VALUE=DURATION:PT1H
X-Robots-Tag:noindex
X-PUBLISHED-TTL:PT1H
BEGIN:VTIMEZONE
TZID:Asia/Shanghai
BEGIN:STANDARD
TZOFFSETFROM:+0800
TZOFFSETTO:+0800
TZNAME:CST
DTSTART:20250101T000000
END:STANDARD
END:VTIMEZONE
BEGIN:VEVENT
DTSTART;TZID=Asia/Shanghai:20260711T164000
DTEND;TZID=Asia/Shanghai:20260711T174000
DTSTAMP:20260421T115604
CREATED:20260315T072002Z
LAST-MODIFIED:20260315T072518Z
UID:10027828-1783788000-1783791600@www.dancesoul.com.tw
SUMMARY:MV(IVE - ‘BANG BANG’)-薇臻
DESCRIPTION:
URL:https://www.dancesoul.com.tw/schedule/mvive-xoxz-%e5%87%9d%e7%90%a6-2-2/2026-07-11/
CATEGORIES:MV課,課程
END:VEVENT
BEGIN:VEVENT
DTSTART;TZID=Asia/Shanghai:20260711T154000
DTEND;TZID=Asia/Shanghai:20260711T164000
DTSTAMP:20260421T115604
CREATED:20250901T055134Z
LAST-MODIFIED:20260327T083158Z
UID:10033468-1783784400-1783788000@www.dancesoul.com.tw
SUMMARY:兒童Popping-勁宏
DESCRIPTION:
URL:https://www.dancesoul.com.tw/schedule/%e5%85%92%e7%ab%a5popping-%e5%8b%81%e5%ae%8f-2/2026-07-11/
CATEGORIES:兒童街舞,課程
END:VEVENT
BEGIN:VEVENT
DTSTART;TZID=Asia/Shanghai:20260711T143000
DTEND;TZID=Asia/Shanghai:20260711T153000
DTSTAMP:20260421T115604
CREATED:20251202T055414Z
LAST-MODIFIED:20260315T072223Z
UID:10027566-1783780200-1783783800@www.dancesoul.com.tw
SUMMARY:兒童MV(IVE - 'BANG BANG')-薇臻
DESCRIPTION:
URL:https://www.dancesoul.com.tw/schedule/%e5%85%92%e7%ab%a5mvbabymonster-hot-sauce-%e8%96%87%e8%87%bb-2/2026-07-11/
CATEGORIES:MV課,兒童MV,課程
END:VEVENT
BEGIN:VEVENT
DTSTART;TZID=Asia/Shanghai:20260711T132000
DTEND;TZID=Asia/Shanghai:20260711T142000
DTSTAMP:20260421T115604
CREATED:20251201T070320Z
LAST-MODIFIED:20260315T072345Z
UID:10027305-1783776000-1783779600@www.dancesoul.com.tw
SUMMARY:兒童MV(初)(i-dle - 'Mona(Feat.skaiwater)')-薇臻
DESCRIPTION:
URL:https://www.dancesoul.com.tw/schedule/%e5%85%92%e7%ab%a5%e8%a1%97%e8%88%9e-%e8%96%87%e8%87%bb-21-2-2-2/2026-07-11/
CATEGORIES:兒童街舞,兒童課
END:VEVENT
BEGIN:VEVENT
DTSTART;TZID=Asia/Shanghai:20260710T213500
DTEND;TZID=Asia/Shanghai:20260710T223500
DTSTAMP:20260421T115604
CREATED:20260327T085804Z
LAST-MODIFIED:20260327T085804Z
UID:10036900-1783719300-1783722900@www.dancesoul.com.tw
SUMMARY:Street Jazz-Roy燦伊
DESCRIPTION:
URL:https://www.dancesoul.com.tw/schedule/street-jazz-roy%e7%87%a6%e4%bc%8a/2026-07-10/
END:VEVENT
BEGIN:VEVENT
DTSTART;TZID=Asia/Shanghai:20260710T203000
DTEND;TZID=Asia/Shanghai:20260710T213000
DTSTAMP:20260421T115604
CREATED:20260327T090256Z
LAST-MODIFIED:20260327T090256Z
UID:10037693-1783715400-1783719000@www.dancesoul.com.tw
SUMMARY:Jazz Funk-Dang 鈴鐺
DESCRIPTION:
URL:https://www.dancesoul.com.tw/schedule/jazz-funk-dang-%e9%88%b4%e9%90%ba/2026-07-10/
END:VEVENT
BEGIN:VEVENT
DTSTART;TZID=Asia/Shanghai:20260710T192500
DTEND;TZID=Asia/Shanghai:20260710T202500
DTSTAMP:20260421T115604
CREATED:20260327T090205Z
LAST-MODIFIED:20260327T090205Z
UID:10037429-1783711500-1783715100@www.dancesoul.com.tw
SUMMARY:Street Jazz-CenMei
DESCRIPTION:
URL:https://www.dancesoul.com.tw/schedule/street-jazz-cenmei/2026-07-10/
END:VEVENT
BEGIN:VEVENT
DTSTART;TZID=Asia/Shanghai:20260710T182000
DTEND;TZID=Asia/Shanghai:20260710T192000
DTSTAMP:20260421T115604
CREATED:20260327T083919Z
LAST-MODIFIED:20260327T083920Z
UID:10034521-1783707600-1783711200@www.dancesoul.com.tw
SUMMARY:Twerk（初）-碗公
DESCRIPTION:
URL:https://www.dancesoul.com.tw/schedule/twerk%ef%bc%88%e5%88%9d%ef%bc%89-%e7%a2%97%e5%85%ac-2-2/2026-07-10/
END:VEVENT
BEGIN:VEVENT
DTSTART;TZID=Asia/Shanghai:20260709T213500
DTEND;TZID=Asia/Shanghai:20260709T223500
DTSTAMP:20260421T115604
CREATED:20250828T104929Z
LAST-MODIFIED:20250828T104929Z
UID:10026265-1783632900-1783636500@www.dancesoul.com.tw
SUMMARY:Choreography-巴豪
DESCRIPTION:
URL:https://www.dancesoul.com.tw/schedule/choreography-%e5%b7%b4%e8%b1%aa-7/2026-07-09/
CATEGORIES:Choreography,常態課_一般,課程
END:VEVENT
BEGIN:VEVENT
DTSTART;TZID=Asia/Shanghai:20260709T203000
DTEND;TZID=Asia/Shanghai:20260709T213000
DTSTAMP:20260421T115604
CREATED:20260327T085246Z
LAST-MODIFIED:20260327T085313Z
UID:10036107-1783629000-1783632600@www.dancesoul.com.tw
SUMMARY:Choreography-HU RUEI胡睿
DESCRIPTION:
URL:https://www.dancesoul.com.tw/schedule/choreography-hu-ruei%e8%83%a1%e7%9d%bf/2026-07-09/
END:VEVENT
BEGIN:VEVENT
DTSTART;TZID=Asia/Shanghai:20260709T192500
DTEND;TZID=Asia/Shanghai:20260709T202500
DTSTAMP:20260421T115604
CREATED:20260327T082918Z
LAST-MODIFIED:20260327T084510Z
UID:10034784-1783625100-1783628700@www.dancesoul.com.tw
SUMMARY:Hip Hop(初)-林彤
DESCRIPTION:
URL:https://www.dancesoul.com.tw/schedule/hip-hop%e5%88%9d-%e6%9e%97%e5%bd%a4-3-2/2026-07-09/
CATEGORIES:Hip Hop 初級,常態課_初級,課程
END:VEVENT
BEGIN:VEVENT
DTSTART;TZID=Asia/Shanghai:20260709T182000
DTEND;TZID=Asia/Shanghai:20260709T192000
DTSTAMP:20260421T115604
CREATED:20251202T055643Z
LAST-MODIFIED:20251202T055645Z
UID:10025485-1783621200-1783624800@www.dancesoul.com.tw
SUMMARY:Street Jazz-羊羊
DESCRIPTION:
URL:https://www.dancesoul.com.tw/schedule/hip-hop-%e4%bd%90%e4%bd%90-2-2/2026-07-09/
CATEGORIES:Hip Hop,常態課_一般,課程
END:VEVENT
BEGIN:VEVENT
DTSTART;TZID=Asia/Shanghai:20260708T213500
DTEND;TZID=Asia/Shanghai:20260708T223500
DTSTAMP:20260421T115604
CREATED:20260327T085649Z
LAST-MODIFIED:20260327T085650Z
UID:10036635-1783546500-1783550100@www.dancesoul.com.tw
SUMMARY:MV-緗緗
DESCRIPTION:
URL:https://www.dancesoul.com.tw/schedule/mv-%e7%b7%97%e7%b7%97-2-2/2026-07-08/
END:VEVENT
BEGIN:VEVENT
DTSTART;TZID=Asia/Shanghai:20260708T203000
DTEND;TZID=Asia/Shanghai:20260708T213000
DTSTAMP:20260421T115604
CREATED:20250828T103540Z
LAST-MODIFIED:20250828T103540Z
UID:10024963-1783542600-1783546200@www.dancesoul.com.tw
SUMMARY:Street Jazz-Kyle
DESCRIPTION:
URL:https://www.dancesoul.com.tw/schedule/street-jazz-kyle-4/2026-07-08/
CATEGORIES:STREET JAZZ,常態課_一般,課程
END:VEVENT
BEGIN:VEVENT
DTSTART;TZID=Asia/Shanghai:20260708T192500
DTEND;TZID=Asia/Shanghai:20260708T202500
DTSTAMP:20260421T115604
CREATED:20250828T102504Z
LAST-MODIFIED:20250828T102504Z
UID:10024702-1783538700-1783542300@www.dancesoul.com.tw
SUMMARY:Street Jazz-Larry
DESCRIPTION:
URL:https://www.dancesoul.com.tw/schedule/street-jazz-larry-30/2026-07-08/
CATEGORIES:STREET JAZZ,常態課_一般,課程
END:VEVENT
BEGIN:VEVENT
DTSTART;TZID=Asia/Shanghai:20260708T182000
DTEND;TZID=Asia/Shanghai:20260708T192000
DTSTAMP:20260421T115604
CREATED:20260327T082544Z
LAST-MODIFIED:20260327T082544Z
UID:10032938-1783534800-1783538400@www.dancesoul.com.tw
SUMMARY:Choreography(初)-無盡
DESCRIPTION:
URL:https://www.dancesoul.com.tw/schedule/choreography%e5%88%9d-%e7%84%a1%e7%9b%a1-14-2/2026-07-08/
CATEGORIES:Choreography 初級,常態課_初級,課程
END:VEVENT
BEGIN:VEVENT
DTSTART;TZID=Asia/Shanghai:20260707T213500
DTEND;TZID=Asia/Shanghai:20260707T223500
DTSTAMP:20260421T115604
CREATED:20260327T081822Z
LAST-MODIFIED:20260327T081932Z
UID:10032125-1783460100-1783463700@www.dancesoul.com.tw
SUMMARY:Hip Hop-承翰
DESCRIPTION:
URL:https://www.dancesoul.com.tw/schedule/hip-hop-%e6%89%bf%e7%bf%b0-2-3/2026-07-07/
CATEGORIES:Hip Hop,常態課_一般,課程
END:VEVENT
BEGIN:VEVENT
DTSTART;TZID=Asia/Shanghai:20260707T202000
DTEND;TZID=Asia/Shanghai:20260707T212000
DTSTAMP:20260421T115604
CREATED:20250828T100203Z
LAST-MODIFIED:20250828T100203Z
UID:10023919-1783455600-1783459200@www.dancesoul.com.tw
SUMMARY:Free Style-俊宏
DESCRIPTION:
URL:https://www.dancesoul.com.tw/schedule/free-style-%e4%bf%8a%e5%ae%8f-29/2026-07-07/
CATEGORIES:Freestyle,常態課_一般,課程
END:VEVENT
BEGIN:VEVENT
DTSTART;TZID=Asia/Shanghai:20260707T192500
DTEND;TZID=Asia/Shanghai:20260707T202500
DTSTAMP:20260421T115604
CREATED:20260327T083744Z
LAST-MODIFIED:20260327T083744Z
UID:10034257-1783452300-1783455900@www.dancesoul.com.tw
SUMMARY:Choreography-羅毅
DESCRIPTION:
URL:https://www.dancesoul.com.tw/schedule/choreography-%e7%be%85%e6%af%85-2-2/2026-07-07/
CATEGORIES:Choreography,常態課_一般,課程
END:VEVENT
BEGIN:VEVENT
DTSTART;TZID=Asia/Shanghai:20260707T182000
DTEND;TZID=Asia/Shanghai:20260707T192000
DTSTAMP:20260421T115604
CREATED:20250828T095545Z
LAST-MODIFIED:20250828T095545Z
UID:10023657-1783448400-1783452000@www.dancesoul.com.tw
SUMMARY:MV-薇臻
DESCRIPTION:
URL:https://www.dancesoul.com.tw/schedule/mv-%e8%96%87%e8%87%bb-4/2026-07-07/
END:VEVENT
BEGIN:VEVENT
DTSTART;TZID=Asia/Shanghai:20260706T213500
DTEND;TZID=Asia/Shanghai:20260706T223500
DTSTAMP:20260421T115604
CREATED:20260327T082216Z
LAST-MODIFIED:20260327T082217Z
UID:10032409-1783373700-1783377300@www.dancesoul.com.tw
SUMMARY:Jazz Funk-姿昀
DESCRIPTION:
URL:https://www.dancesoul.com.tw/schedule/jazz-funk-%e5%a7%bf%e6%98%80-15-2/2026-07-06/
CATEGORIES:Jazz Funk,課程
END:VEVENT
BEGIN:VEVENT
DTSTART;TZID=Asia/Shanghai:20260706T203000
DTEND;TZID=Asia/Shanghai:20260706T213000
DTSTAMP:20260421T115604
CREATED:20260327T084046Z
LAST-MODIFIED:20260327T084828Z
UID:10035048-1783369800-1783373400@www.dancesoul.com.tw
SUMMARY:Heels-宋靜
DESCRIPTION:
URL:https://www.dancesoul.com.tw/schedule/heels-%e5%ae%8b%e9%9d%9c-3-2/2026-07-06/
END:VEVENT
BEGIN:VEVENT
DTSTART;TZID=Asia/Shanghai:20260706T192500
DTEND;TZID=Asia/Shanghai:20260706T202500
DTSTAMP:20260421T115604
CREATED:20260327T082108Z
LAST-MODIFIED:20260327T082108Z
UID:10030784-1783365900-1783369500@www.dancesoul.com.tw
SUMMARY:Jazz Funk-魏小美
DESCRIPTION:
URL:https://www.dancesoul.com.tw/schedule/jazz-funk-%e9%ad%8f%e5%b0%8f%e7%be%8e-84-2-2/2026-07-06/
END:VEVENT
BEGIN:VEVENT
DTSTART;TZID=Asia/Shanghai:20260706T182000
DTEND;TZID=Asia/Shanghai:20260706T192000
DTSTAMP:20260421T115604
CREATED:20260327T084628Z
LAST-MODIFIED:20260327T084933Z
UID:10035312-1783362000-1783365600@www.dancesoul.com.tw
SUMMARY:MV-瑜庭
DESCRIPTION:
URL:https://www.dancesoul.com.tw/schedule/mvtwice-this-is-for-%e7%91%9c%e5%ba%ad-2/2026-07-06/
CATEGORIES:MV課,課程
END:VEVENT
BEGIN:VEVENT
DTSTART;TZID=Asia/Shanghai:20260705T192500
DTEND;TZID=Asia/Shanghai:20260705T202500
DTSTAMP:20260421T115604
CREATED:20260327T081608Z
LAST-MODIFIED:20260327T081608Z
UID:10030176-1783279500-1783283100@www.dancesoul.com.tw
SUMMARY:Hip Hop-ROD
DESCRIPTION:
URL:https://www.dancesoul.com.tw/schedule/hip-hop-%e6%89%bf%e7%bf%b0-2-2/2026-07-05/
CATEGORIES:Hip Hop,常態課_一般,課程
END:VEVENT
BEGIN:VEVENT
DTSTART;TZID=Asia/Shanghai:20260705T182000
DTEND;TZID=Asia/Shanghai:20260705T192000
DTSTAMP:20260421T115604
CREATED:20260327T085927Z
LAST-MODIFIED:20260327T085927Z
UID:10037164-1783275600-1783279200@www.dancesoul.com.tw
SUMMARY:Jazz Funk-Zulin小霖
DESCRIPTION:
URL:https://www.dancesoul.com.tw/schedule/jazz-funk-zulin%e5%b0%8f%e9%9c%96/2026-07-05/
END:VEVENT
BEGIN:VEVENT
DTSTART;TZID=Asia/Shanghai:20260705T165000
DTEND;TZID=Asia/Shanghai:20260705T175000
DTSTAMP:20260421T115604
CREATED:20251201T095640Z
LAST-MODIFIED:20260315T071631Z
UID:10029654-1783270200-1783273800@www.dancesoul.com.tw
SUMMARY:MV(Apink - 'Love Me More')-Jenny
DESCRIPTION:
URL:https://www.dancesoul.com.tw/schedule/mvsomi-closer-%e7%91%9c%e5%ba%ad-2/2026-07-05/
CATEGORIES:MV課,課程
END:VEVENT
BEGIN:VEVENT
DTSTART;TZID=Asia/Shanghai:20260705T154000
DTEND;TZID=Asia/Shanghai:20260705T164000
DTSTAMP:20260421T115604
CREATED:20250901T060229Z
LAST-MODIFIED:20250901T060229Z
UID:10029393-1783266000-1783269600@www.dancesoul.com.tw
SUMMARY:兒童Street Jazz-傘傘
DESCRIPTION:
URL:https://www.dancesoul.com.tw/schedule/%e5%85%92%e7%ab%a5street-jazz-%e5%82%98%e5%82%98-4/2026-07-05/
CATEGORIES:兒童街舞,兒童課
END:VEVENT
BEGIN:VEVENT
DTSTART;TZID=Asia/Shanghai:20260705T143000
DTEND;TZID=Asia/Shanghai:20260705T153000
DTSTAMP:20260421T115604
CREATED:20260315T071830Z
LAST-MODIFIED:20260315T071830Z
UID:10029132-1783261800-1783265400@www.dancesoul.com.tw
SUMMARY:兒童MV(ILLIT-opps!)-羿芃
DESCRIPTION:
URL:https://www.dancesoul.com.tw/schedule/%e5%85%92%e7%ab%a5mvizna-sass-%e7%be%bf%e8%8a%83-2-2/2026-07-05/
CATEGORIES:兒童MV,兒童課
END:VEVENT
BEGIN:VEVENT
DTSTART;TZID=Asia/Shanghai:20260705T132000
DTEND;TZID=Asia/Shanghai:20260705T142000
DTSTAMP:20260421T115604
CREATED:20250901T055750Z
LAST-MODIFIED:20250901T055750Z
UID:10028871-1783257600-1783261200@www.dancesoul.com.tw
SUMMARY:兒童街舞-羿芃
DESCRIPTION:
URL:https://www.dancesoul.com.tw/schedule/%e5%85%92%e7%ab%a5%e8%a1%97%e8%88%9e-%e7%be%bf%e8%8a%83-20/2026-07-05/
CATEGORIES:兒童街舞,課程
END:VEVENT
END:VCALENDAR