BEGIN:VCALENDAR
VERSION:2.0
PRODID:-//DANCE SOUL 舞魂街舞學校 - ECPv6.15.18//NONSGML v1.0//EN
CALSCALE:GREGORIAN
METHOD:PUBLISH
X-ORIGINAL-URL:https://www.dancesoul.com.tw
X-WR-CALDESC:Events for DANCE SOUL 舞魂街舞學校
REFRESH-INTERVAL;VALUE=DURATION:PT1H
X-Robots-Tag:noindex
X-PUBLISHED-TTL:PT1H
BEGIN:VTIMEZONE
TZID:Asia/Shanghai
BEGIN:STANDARD
TZOFFSETFROM:+0800
TZOFFSETTO:+0800
TZNAME:CST
DTSTART:20240101T000000
END:STANDARD
END:VTIMEZONE
BEGIN:VEVENT
DTSTART;TZID=Asia/Shanghai:20250315T165000
DTEND;TZID=Asia/Shanghai:20250315T175000
DTSTAMP:20260421T115639
CREATED:20250223T084032Z
LAST-MODIFIED:20250223T084032Z
UID:10021158-1742057400-1742061000@www.dancesoul.com.tw
SUMMARY:MV-(IVE - ATTITUDE)-凝琦
DESCRIPTION:
URL:https://www.dancesoul.com.tw/schedule/mv-ive-attitude-%e5%87%9d%e7%90%a6/2025-03-15/
CATEGORIES:MV課,課程
END:VEVENT
BEGIN:VEVENT
DTSTART;TZID=Asia/Shanghai:20250315T182000
DTEND;TZID=Asia/Shanghai:20250315T192000
DTSTAMP:20260421T115639
CREATED:20250223T084639Z
LAST-MODIFIED:20250223T084639Z
UID:10021163-1742062800-1742066400@www.dancesoul.com.tw
SUMMARY:Popping-紀威
DESCRIPTION:
URL:https://www.dancesoul.com.tw/schedule/popping-%e7%b4%80%e5%a8%81-50/2025-03-15/
CATEGORIES:Poppin,常態課_一般,課程
END:VEVENT
BEGIN:VEVENT
DTSTART;TZID=Asia/Shanghai:20250315T192500
DTEND;TZID=Asia/Shanghai:20250315T202500
DTSTAMP:20260421T115639
CREATED:20250223T084748Z
LAST-MODIFIED:20250223T084748Z
UID:10021168-1742066700-1742070300@www.dancesoul.com.tw
SUMMARY:Choreography(初)-無盡
DESCRIPTION:
URL:https://www.dancesoul.com.tw/schedule/choreography%e5%88%9d-%e7%84%a1%e7%9b%a1-10/2025-03-15/
CATEGORIES:Choreography 初級,常態課_初級,課程
END:VEVENT
BEGIN:VEVENT
DTSTART;TZID=Asia/Shanghai:20250315T203000
DTEND;TZID=Asia/Shanghai:20250315T213000
DTSTAMP:20260421T115639
CREATED:20250223T092636Z
LAST-MODIFIED:20250223T092636Z
UID:10021173-1742070600-1742074200@www.dancesoul.com.tw
SUMMARY:基礎入門-雞蛋
DESCRIPTION:
URL:https://www.dancesoul.com.tw/schedule/%e5%9f%ba%e7%a4%8e%e5%85%a5%e9%96%80-%e9%9b%9e%e8%9b%8b-37/2025-03-15/
CATEGORIES:基礎入門,常態課_初級,課程
END:VEVENT
BEGIN:VEVENT
DTSTART;TZID=Asia/Shanghai:20250316T023000
DTEND;TZID=Asia/Shanghai:20250316T153000
DTSTAMP:20260421T115639
CREATED:20250223T093707Z
LAST-MODIFIED:20250223T093707Z
UID:10021183-1742092200-1742139000@www.dancesoul.com.tw
SUMMARY:兒童MV-(BABYMONSER - BILLIONAIRE )-羿芃
DESCRIPTION:
URL:https://www.dancesoul.com.tw/schedule/%e5%85%92%e7%ab%a5mv-babymonser-billionaire-%e7%be%bf%e8%8a%83/2025-03-16/
CATEGORIES:兒童MV,兒童課,課程
END:VEVENT
BEGIN:VEVENT
DTSTART;TZID=Asia/Shanghai:20250316T132000
DTEND;TZID=Asia/Shanghai:20250316T142000
DTSTAMP:20260421T115639
CREATED:20250223T092752Z
LAST-MODIFIED:20250223T092752Z
UID:10021178-1742131200-1742134800@www.dancesoul.com.tw
SUMMARY:兒童街舞-羿芃
DESCRIPTION:
URL:https://www.dancesoul.com.tw/schedule/%e5%85%92%e7%ab%a5%e8%a1%97%e8%88%9e-%e7%be%bf%e8%8a%83-15/2025-03-16/
CATEGORIES:兒童街舞,兒童課,課程
END:VEVENT
BEGIN:VEVENT
DTSTART;TZID=Asia/Shanghai:20250316T154000
DTEND;TZID=Asia/Shanghai:20250316T164000
DTSTAMP:20260421T115639
CREATED:20250223T093941Z
LAST-MODIFIED:20250223T093941Z
UID:10021188-1742139600-1742143200@www.dancesoul.com.tw
SUMMARY:兒童 Street Jazz-傘傘
DESCRIPTION:
URL:https://www.dancesoul.com.tw/schedule/%e5%85%92%e7%ab%a5-street-jazz-%e5%82%98%e5%82%98-7/2025-03-16/
CATEGORIES:兒童 Street Jazz,兒童課,課程
END:VEVENT
BEGIN:VEVENT
DTSTART;TZID=Asia/Shanghai:20250316T165000
DTEND;TZID=Asia/Shanghai:20250316T175000
DTSTAMP:20260421T115639
CREATED:20250223T102620Z
LAST-MODIFIED:20250223T102620Z
UID:10021193-1742143800-1742147400@www.dancesoul.com.tw
SUMMARY:MV-(BABYMONSER - BILLIONAIRE)-瑜庭
DESCRIPTION:
URL:https://www.dancesoul.com.tw/schedule/mv-babymonser-billionaire-%e7%91%9c%e5%ba%ad/2025-03-16/
CATEGORIES:MV課,課程
END:VEVENT
BEGIN:VEVENT
DTSTART;TZID=Asia/Shanghai:20250316T182000
DTEND;TZID=Asia/Shanghai:20250316T182000
DTSTAMP:20260421T115639
CREATED:20250223T103104Z
LAST-MODIFIED:20250223T103104Z
UID:10021203-1742149200-1742149200@www.dancesoul.com.tw
SUMMARY:Jazz Funk-姿昀
DESCRIPTION:
URL:https://www.dancesoul.com.tw/schedule/jazz-funk-%e5%a7%bf%e6%98%80-9/2025-03-16/
CATEGORIES:Jazz Funk,常態課_一般,課程
END:VEVENT
BEGIN:VEVENT
DTSTART;TZID=Asia/Shanghai:20250316T192500
DTEND;TZID=Asia/Shanghai:20250316T202500
DTSTAMP:20260421T115639
CREATED:20250223T102747Z
LAST-MODIFIED:20250223T103238Z
UID:10021208-1742153100-1742156700@www.dancesoul.com.tw
SUMMARY:Hip Hop(初)-承翰
DESCRIPTION:
URL:https://www.dancesoul.com.tw/schedule/hip-hop%e5%88%9d-%e6%89%bf%e7%bf%b0-14/2025-03-16/
CATEGORIES:Hip Hop 初級,常態課_初級,課程
END:VEVENT
BEGIN:VEVENT
DTSTART;TZID=Asia/Shanghai:20250317T182000
DTEND;TZID=Asia/Shanghai:20250317T192000
DTSTAMP:20260421T115639
CREATED:20250223T103439Z
LAST-MODIFIED:20250223T103439Z
UID:10021213-1742235600-1742239200@www.dancesoul.com.tw
SUMMARY:Twerk(初)-碗公
DESCRIPTION:
URL:https://www.dancesoul.com.tw/schedule/twerk%e5%88%9d-%e7%a2%97%e5%85%ac-40/2025-03-17/
CATEGORIES:Twerk 初級,常態課_初級,課程
END:VEVENT
BEGIN:VEVENT
DTSTART;TZID=Asia/Shanghai:20250317T192500
DTEND;TZID=Asia/Shanghai:20250317T202500
DTSTAMP:20260421T115639
CREATED:20250223T103738Z
LAST-MODIFIED:20250223T103738Z
UID:10021218-1742239500-1742243100@www.dancesoul.com.tw
SUMMARY:Heels(初)-宋靜
DESCRIPTION:
URL:https://www.dancesoul.com.tw/schedule/heels%e5%88%9d-%e5%ae%8b%e9%9d%9c-38/2025-03-17/
CATEGORIES:Heels 初級,常態課_初級,課程
END:VEVENT
BEGIN:VEVENT
DTSTART;TZID=Asia/Shanghai:20250317T203000
DTEND;TZID=Asia/Shanghai:20250317T213000
DTSTAMP:20260421T115639
CREATED:20250223T104024Z
LAST-MODIFIED:20250223T104024Z
UID:10021223-1742243400-1742247000@www.dancesoul.com.tw
SUMMARY:Jazz Funk-魏小美
DESCRIPTION:
URL:https://www.dancesoul.com.tw/schedule/jazz-funk-%e9%ad%8f%e5%b0%8f%e7%be%8e-81/2025-03-17/
CATEGORIES:Jazz Funk,常態課_一般,課程
END:VEVENT
BEGIN:VEVENT
DTSTART;TZID=Asia/Shanghai:20250318T182000
DTEND;TZID=Asia/Shanghai:20250318T192000
DTSTAMP:20260421T115639
CREATED:20250223T104239Z
LAST-MODIFIED:20250223T104239Z
UID:10021228-1742322000-1742325600@www.dancesoul.com.tw
SUMMARY:MV-(當日Dance Soul IG 限動公布歌曲)-薇臻
DESCRIPTION:
URL:https://www.dancesoul.com.tw/schedule/mv-%e7%95%b6%e6%97%a5dance-soul-ig-%e9%99%90%e5%8b%95%e5%85%ac%e5%b8%83%e6%ad%8c%e6%9b%b2-%e8%96%87%e8%87%bb-7/2025-03-18/
CATEGORIES:MV課,課程
END:VEVENT
BEGIN:VEVENT
DTSTART;TZID=Asia/Shanghai:20250318T192500
DTEND;TZID=Asia/Shanghai:20250318T202500
DTSTAMP:20260421T115639
CREATED:20250223T104342Z
LAST-MODIFIED:20250223T104342Z
UID:10021232-1742325900-1742329500@www.dancesoul.com.tw
SUMMARY:Street Jazz-Denis
DESCRIPTION:
URL:https://www.dancesoul.com.tw/schedule/street-jazz-denis-54/2025-03-18/
CATEGORIES:STREET JAZZ,常態課_一般,課程
END:VEVENT
BEGIN:VEVENT
DTSTART;TZID=Asia/Shanghai:20250318T203000
DTEND;TZID=Asia/Shanghai:20250318T213000
DTSTAMP:20260421T115639
CREATED:20250223T105129Z
LAST-MODIFIED:20250223T105129Z
UID:10021236-1742329800-1742333400@www.dancesoul.com.tw
SUMMARY:Free Style-俊宏
DESCRIPTION:
URL:https://www.dancesoul.com.tw/schedule/free-style-%e4%bf%8a%e5%ae%8f-25/2025-03-18/
CATEGORIES:Freestyle,常態課_一般,課程
END:VEVENT
BEGIN:VEVENT
DTSTART;TZID=Asia/Shanghai:20250318T213500
DTEND;TZID=Asia/Shanghai:20250318T223500
DTSTAMP:20260421T115639
CREATED:20250223T111350Z
LAST-MODIFIED:20250223T111350Z
UID:10021244-1742333700-1742337300@www.dancesoul.com.tw
SUMMARY:Krump-Coffee
DESCRIPTION:
URL:https://www.dancesoul.com.tw/schedule/krump-coffee-4/2025-03-18/
CATEGORIES:Krump,常態課_一般,課程
END:VEVENT
BEGIN:VEVENT
DTSTART;TZID=Asia/Shanghai:20250319T182000
DTEND;TZID=Asia/Shanghai:20250319T192000
DTSTAMP:20260421T115639
CREATED:20250223T111941Z
LAST-MODIFIED:20250223T111941Z
UID:10021248-1742408400-1742412000@www.dancesoul.com.tw
SUMMARY:Street Jazz(初)-Kyle
DESCRIPTION:
URL:https://www.dancesoul.com.tw/schedule/street-jazz%e5%88%9d-kyle-24/2025-03-19/
CATEGORIES:STREET JAZZ 初級,常態課_初級,課程
END:VEVENT
BEGIN:VEVENT
DTSTART;TZID=Asia/Shanghai:20250319T192500
DTEND;TZID=Asia/Shanghai:20250319T202500
DTSTAMP:20260421T115639
CREATED:20250223T112127Z
LAST-MODIFIED:20250223T112127Z
UID:10021252-1742412300-1742415900@www.dancesoul.com.tw
SUMMARY:Street Jazz-Larry
DESCRIPTION:
URL:https://www.dancesoul.com.tw/schedule/street-jazz-larry-25/2025-03-19/
CATEGORIES:STREET JAZZ,常態課_一般,課程
END:VEVENT
BEGIN:VEVENT
DTSTART;TZID=Asia/Shanghai:20250319T203000
DTEND;TZID=Asia/Shanghai:20250319T213000
DTSTAMP:20260421T115639
CREATED:20250223T112305Z
LAST-MODIFIED:20250223T112305Z
UID:10021256-1742416200-1742419800@www.dancesoul.com.tw
SUMMARY:Free Style-承達
DESCRIPTION:
URL:https://www.dancesoul.com.tw/schedule/free-style-%e6%89%bf%e9%81%94-48/2025-03-19/
CATEGORIES:Freestyle,常態課_一般,課程
END:VEVENT
BEGIN:VEVENT
DTSTART;TZID=Asia/Shanghai:20250320T182000
DTEND;TZID=Asia/Shanghai:20250320T192000
DTSTAMP:20260421T115639
CREATED:20250223T112407Z
LAST-MODIFIED:20250223T112407Z
UID:10021260-1742494800-1742498400@www.dancesoul.com.tw
SUMMARY:Jazz Funk-瑜庭
DESCRIPTION:
URL:https://www.dancesoul.com.tw/schedule/jazz-funk-%e7%91%9c%e5%ba%ad-4/2025-03-20/
CATEGORIES:Jazz Funk,常態課_一般,課程
END:VEVENT
BEGIN:VEVENT
DTSTART;TZID=Asia/Shanghai:20250320T192500
DTEND;TZID=Asia/Shanghai:20250320T202500
DTSTAMP:20260421T115639
CREATED:20250223T112650Z
LAST-MODIFIED:20250223T112650Z
UID:10021264-1742498700-1742502300@www.dancesoul.com.tw
SUMMARY:Hip Hop(初)-佐佐
DESCRIPTION:
URL:https://www.dancesoul.com.tw/schedule/hip-hop%e5%88%9d-%e4%bd%90%e4%bd%90-21/2025-03-20/
CATEGORIES:Hip Hop 初級,常態課_初級,課程
END:VEVENT
BEGIN:VEVENT
DTSTART;TZID=Asia/Shanghai:20250320T203000
DTEND;TZID=Asia/Shanghai:20250320T213000
DTSTAMP:20260421T115639
CREATED:20250223T112906Z
LAST-MODIFIED:20250223T112906Z
UID:10021268-1742502600-1742506200@www.dancesoul.com.tw
SUMMARY:Hip Hop-林彤
DESCRIPTION:
URL:https://www.dancesoul.com.tw/schedule/hip-hop-%e6%9e%97%e5%bd%a4-27/2025-03-20/
CATEGORIES:Hip Hop,常態課_一般,課程
END:VEVENT
BEGIN:VEVENT
DTSTART;TZID=Asia/Shanghai:20250320T213500
DTEND;TZID=Asia/Shanghai:20250320T223500
DTSTAMP:20260421T115639
CREATED:20250223T113323Z
LAST-MODIFIED:20250223T113323Z
UID:10021272-1742506500-1742510100@www.dancesoul.com.tw
SUMMARY:Choreography-巴豪
DESCRIPTION:
URL:https://www.dancesoul.com.tw/schedule/choreography-%e5%b7%b4%e8%b1%aa-3/2025-03-20/
CATEGORIES:Choreography,常態課_一般,課程
END:VEVENT
BEGIN:VEVENT
DTSTART;TZID=Asia/Shanghai:20250321T182000
DTEND;TZID=Asia/Shanghai:20250321T192000
DTSTAMP:20260421T115639
CREATED:20250223T113514Z
LAST-MODIFIED:20250223T113514Z
UID:10021276-1742581200-1742584800@www.dancesoul.com.tw
SUMMARY:Street Jazz(初)-Cen妹
DESCRIPTION:
URL:https://www.dancesoul.com.tw/schedule/street-jazz%e5%88%9d-cen%e5%a6%b9-41/2025-03-21/
CATEGORIES:STREET JAZZ 初級,常態課_初級,課程
END:VEVENT
BEGIN:VEVENT
DTSTART;TZID=Asia/Shanghai:20250321T202500
DTEND;TZID=Asia/Shanghai:20250321T212500
DTSTAMP:20260421T115639
CREATED:20250223T113816Z
LAST-MODIFIED:20250223T113816Z
UID:10021280-1742588700-1742592300@www.dancesoul.com.tw
SUMMARY:Street Jazz-邱邱
DESCRIPTION:
URL:https://www.dancesoul.com.tw/schedule/street-jazz-%e9%82%b1%e9%82%b1/2025-03-21/
CATEGORIES:STREET JAZZ,常態課_一般,課程
END:VEVENT
BEGIN:VEVENT
DTSTART;TZID=Asia/Shanghai:20250321T203000
DTEND;TZID=Asia/Shanghai:20250321T213000
DTSTAMP:20260421T115639
CREATED:20250223T113931Z
LAST-MODIFIED:20250223T113931Z
UID:10021284-1742589000-1742592600@www.dancesoul.com.tw
SUMMARY:Jazz Funk-鈴鐺
DESCRIPTION:
URL:https://www.dancesoul.com.tw/schedule/jazz-funk-%e9%88%b4%e9%90%ba-27/2025-03-21/
CATEGORIES:Jazz Funk,常態課_一般,課程
END:VEVENT
BEGIN:VEVENT
DTSTART;TZID=Asia/Shanghai:20250322T132000
DTEND;TZID=Asia/Shanghai:20250322T142000
DTSTAMP:20260421T115639
CREATED:20250223T080224Z
LAST-MODIFIED:20250223T080224Z
UID:10021144-1742649600-1742653200@www.dancesoul.com.tw
SUMMARY:兒童街舞-薇臻
DESCRIPTION:
URL:https://www.dancesoul.com.tw/schedule/%e5%85%92%e7%ab%a5%e8%a1%97%e8%88%9e-%e8%96%87%e8%87%bb-16/2025-03-22/
CATEGORIES:兒童街舞,兒童課,課程
END:VEVENT
BEGIN:VEVENT
DTSTART;TZID=Asia/Shanghai:20250322T143000
DTEND;TZID=Asia/Shanghai:20250322T153000
DTSTAMP:20260421T115639
CREATED:20250223T080359Z
LAST-MODIFIED:20250223T080539Z
UID:10021149-1742653800-1742657400@www.dancesoul.com.tw
SUMMARY:兒童MV-(JISOO - EARTHQUAKE)-薇臻
DESCRIPTION:
URL:https://www.dancesoul.com.tw/schedule/%e5%85%92%e7%ab%a5mv-jisoo-earthquake-%e8%96%87%e8%87%bb/2025-03-22/
CATEGORIES:兒童MV,兒童課,課程
END:VEVENT
BEGIN:VEVENT
DTSTART;TZID=Asia/Shanghai:20250322T154000
DTEND;TZID=Asia/Shanghai:20250322T165000
DTSTAMP:20260421T115639
CREATED:20250223T083831Z
LAST-MODIFIED:20250223T083831Z
UID:10021154-1742658000-1742662200@www.dancesoul.com.tw
SUMMARY:兒童Krump-Coffee
DESCRIPTION:
URL:https://www.dancesoul.com.tw/schedule/%e5%85%92%e7%ab%a5krump-coffee-3/2025-03-22/
CATEGORIES:兒童Krump,兒童課,課程
END:VEVENT
END:VCALENDAR