BEGIN:VCALENDAR
VERSION:2.0
PRODID:-//DANCE SOUL 舞魂街舞學校 - ECPv6.15.18//NONSGML v1.0//EN
CALSCALE:GREGORIAN
METHOD:PUBLISH
X-ORIGINAL-URL:https://www.dancesoul.com.tw
X-WR-CALDESC:Events for DANCE SOUL 舞魂街舞學校
REFRESH-INTERVAL;VALUE=DURATION:PT1H
X-Robots-Tag:noindex
X-PUBLISHED-TTL:PT1H
BEGIN:VTIMEZONE
TZID:Asia/Shanghai
BEGIN:STANDARD
TZOFFSETFROM:+0800
TZOFFSETTO:+0800
TZNAME:CST
DTSTART:20260101T000000
END:STANDARD
END:VTIMEZONE
BEGIN:VEVENT
DTSTART;TZID=Asia/Shanghai:20270224T182000
DTEND;TZID=Asia/Shanghai:20270224T192000
DTSTAMP:20260423T061909
CREATED:20260327T082544Z
LAST-MODIFIED:20260327T082544Z
UID:10032971-1803493200-1803496800@www.dancesoul.com.tw
SUMMARY:Choreography(初)-無盡
DESCRIPTION:
URL:https://www.dancesoul.com.tw/schedule/choreography%e5%88%9d-%e7%84%a1%e7%9b%a1-14-2/2027-02-24/
CATEGORIES:Choreography 初級,常態課_初級,課程
END:VEVENT
BEGIN:VEVENT
DTSTART;TZID=Asia/Shanghai:20270224T192500
DTEND;TZID=Asia/Shanghai:20270224T202500
DTSTAMP:20260423T061909
CREATED:20250828T102504Z
LAST-MODIFIED:20250828T102504Z
UID:10024735-1803497100-1803500700@www.dancesoul.com.tw
SUMMARY:Street Jazz-Larry
DESCRIPTION:
URL:https://www.dancesoul.com.tw/schedule/street-jazz-larry-30/2027-02-24/
CATEGORIES:STREET JAZZ,常態課_一般,課程
END:VEVENT
BEGIN:VEVENT
DTSTART;TZID=Asia/Shanghai:20270224T203000
DTEND;TZID=Asia/Shanghai:20270224T213000
DTSTAMP:20260423T061909
CREATED:20250828T103540Z
LAST-MODIFIED:20250828T103540Z
UID:10024996-1803501000-1803504600@www.dancesoul.com.tw
SUMMARY:Street Jazz-Kyle
DESCRIPTION:
URL:https://www.dancesoul.com.tw/schedule/street-jazz-kyle-4/2027-02-24/
CATEGORIES:STREET JAZZ,常態課_一般,課程
END:VEVENT
BEGIN:VEVENT
DTSTART;TZID=Asia/Shanghai:20270224T213500
DTEND;TZID=Asia/Shanghai:20270224T223500
DTSTAMP:20260423T061909
CREATED:20260327T085649Z
LAST-MODIFIED:20260327T085650Z
UID:10036668-1803504900-1803508500@www.dancesoul.com.tw
SUMMARY:MV-緗緗
DESCRIPTION:
URL:https://www.dancesoul.com.tw/schedule/mv-%e7%b7%97%e7%b7%97-2-2/2027-02-24/
END:VEVENT
BEGIN:VEVENT
DTSTART;TZID=Asia/Shanghai:20270225T182000
DTEND;TZID=Asia/Shanghai:20270225T192000
DTSTAMP:20260423T061909
CREATED:20251202T055643Z
LAST-MODIFIED:20251202T055645Z
UID:10025518-1803579600-1803583200@www.dancesoul.com.tw
SUMMARY:Street Jazz-羊羊
DESCRIPTION:
URL:https://www.dancesoul.com.tw/schedule/hip-hop-%e4%bd%90%e4%bd%90-2-2/2027-02-25/
CATEGORIES:Hip Hop,常態課_一般,課程
END:VEVENT
BEGIN:VEVENT
DTSTART;TZID=Asia/Shanghai:20270225T192500
DTEND;TZID=Asia/Shanghai:20270225T202500
DTSTAMP:20260423T061909
CREATED:20260327T082918Z
LAST-MODIFIED:20260327T084510Z
UID:10034817-1803583500-1803587100@www.dancesoul.com.tw
SUMMARY:Hip Hop(初)-林彤
DESCRIPTION:
URL:https://www.dancesoul.com.tw/schedule/hip-hop%e5%88%9d-%e6%9e%97%e5%bd%a4-3-2/2027-02-25/
CATEGORIES:Hip Hop 初級,常態課_初級,課程
END:VEVENT
BEGIN:VEVENT
DTSTART;TZID=Asia/Shanghai:20270225T203000
DTEND;TZID=Asia/Shanghai:20270225T213000
DTSTAMP:20260423T061909
CREATED:20260327T085246Z
LAST-MODIFIED:20260327T085313Z
UID:10036140-1803587400-1803591000@www.dancesoul.com.tw
SUMMARY:Choreography-HU RUEI胡睿
DESCRIPTION:
URL:https://www.dancesoul.com.tw/schedule/choreography-hu-ruei%e8%83%a1%e7%9d%bf/2027-02-25/
END:VEVENT
BEGIN:VEVENT
DTSTART;TZID=Asia/Shanghai:20270225T213500
DTEND;TZID=Asia/Shanghai:20270225T223500
DTSTAMP:20260423T061909
CREATED:20250828T104929Z
LAST-MODIFIED:20250828T104929Z
UID:10026298-1803591300-1803594900@www.dancesoul.com.tw
SUMMARY:Choreography-巴豪
DESCRIPTION:
URL:https://www.dancesoul.com.tw/schedule/choreography-%e5%b7%b4%e8%b1%aa-7/2027-02-25/
CATEGORIES:Choreography,常態課_一般,課程
END:VEVENT
BEGIN:VEVENT
DTSTART;TZID=Asia/Shanghai:20270226T182000
DTEND;TZID=Asia/Shanghai:20270226T192000
DTSTAMP:20260423T061909
CREATED:20260327T083919Z
LAST-MODIFIED:20260327T083920Z
UID:10034554-1803666000-1803669600@www.dancesoul.com.tw
SUMMARY:Twerk（初）-碗公
DESCRIPTION:
URL:https://www.dancesoul.com.tw/schedule/twerk%ef%bc%88%e5%88%9d%ef%bc%89-%e7%a2%97%e5%85%ac-2-2/2027-02-26/
END:VEVENT
BEGIN:VEVENT
DTSTART;TZID=Asia/Shanghai:20270226T192500
DTEND;TZID=Asia/Shanghai:20270226T202500
DTSTAMP:20260423T061909
CREATED:20260327T090205Z
LAST-MODIFIED:20260327T090205Z
UID:10037462-1803669900-1803673500@www.dancesoul.com.tw
SUMMARY:Street Jazz-CenMei
DESCRIPTION:
URL:https://www.dancesoul.com.tw/schedule/street-jazz-cenmei/2027-02-26/
END:VEVENT
BEGIN:VEVENT
DTSTART;TZID=Asia/Shanghai:20270226T203000
DTEND;TZID=Asia/Shanghai:20270226T213000
DTSTAMP:20260423T061909
CREATED:20260327T090256Z
LAST-MODIFIED:20260327T090256Z
UID:10037726-1803673800-1803677400@www.dancesoul.com.tw
SUMMARY:Jazz Funk-Dang 鈴鐺
DESCRIPTION:
URL:https://www.dancesoul.com.tw/schedule/jazz-funk-dang-%e9%88%b4%e9%90%ba/2027-02-26/
END:VEVENT
BEGIN:VEVENT
DTSTART;TZID=Asia/Shanghai:20270226T213500
DTEND;TZID=Asia/Shanghai:20270226T223500
DTSTAMP:20260423T061910
CREATED:20260327T085804Z
LAST-MODIFIED:20260327T085804Z
UID:10036933-1803677700-1803681300@www.dancesoul.com.tw
SUMMARY:Street Jazz-Roy燦伊
DESCRIPTION:
URL:https://www.dancesoul.com.tw/schedule/street-jazz-roy%e7%87%a6%e4%bc%8a/2027-02-26/
END:VEVENT
BEGIN:VEVENT
DTSTART;TZID=Asia/Shanghai:20270227T132000
DTEND;TZID=Asia/Shanghai:20270227T142000
DTSTAMP:20260423T061910
CREATED:20251201T070320Z
LAST-MODIFIED:20260315T072345Z
UID:10027338-1803734400-1803738000@www.dancesoul.com.tw
SUMMARY:兒童MV(初)(i-dle - 'Mona(Feat.skaiwater)')-薇臻
DESCRIPTION:
URL:https://www.dancesoul.com.tw/schedule/%e5%85%92%e7%ab%a5%e8%a1%97%e8%88%9e-%e8%96%87%e8%87%bb-21-2-2-2/2027-02-27/
CATEGORIES:兒童街舞,兒童課
END:VEVENT
BEGIN:VEVENT
DTSTART;TZID=Asia/Shanghai:20270227T143000
DTEND;TZID=Asia/Shanghai:20270227T153000
DTSTAMP:20260423T061910
CREATED:20251202T055414Z
LAST-MODIFIED:20260315T072223Z
UID:10027599-1803738600-1803742200@www.dancesoul.com.tw
SUMMARY:兒童MV(IVE - 'BANG BANG')-薇臻
DESCRIPTION:
URL:https://www.dancesoul.com.tw/schedule/%e5%85%92%e7%ab%a5mvbabymonster-hot-sauce-%e8%96%87%e8%87%bb-2/2027-02-27/
CATEGORIES:MV課,兒童MV,課程
END:VEVENT
BEGIN:VEVENT
DTSTART;TZID=Asia/Shanghai:20270227T154000
DTEND;TZID=Asia/Shanghai:20270227T164000
DTSTAMP:20260423T061910
CREATED:20250901T055134Z
LAST-MODIFIED:20260327T083158Z
UID:10033501-1803742800-1803746400@www.dancesoul.com.tw
SUMMARY:兒童Popping-勁宏
DESCRIPTION:
URL:https://www.dancesoul.com.tw/schedule/%e5%85%92%e7%ab%a5popping-%e5%8b%81%e5%ae%8f-2/2027-02-27/
CATEGORIES:兒童街舞,課程
END:VEVENT
BEGIN:VEVENT
DTSTART;TZID=Asia/Shanghai:20270227T164000
DTEND;TZID=Asia/Shanghai:20270227T174000
DTSTAMP:20260423T061910
CREATED:20260315T072002Z
LAST-MODIFIED:20260315T072518Z
UID:10027861-1803746400-1803750000@www.dancesoul.com.tw
SUMMARY:MV(IVE - ‘BANG BANG’)-薇臻
DESCRIPTION:
URL:https://www.dancesoul.com.tw/schedule/mvive-xoxz-%e5%87%9d%e7%90%a6-2-2/2027-02-27/
CATEGORIES:MV課,課程
END:VEVENT
BEGIN:VEVENT
DTSTART;TZID=Asia/Shanghai:20270227T182000
DTEND;TZID=Asia/Shanghai:20270227T192000
DTSTAMP:20260423T061910
CREATED:20250901T055441Z
LAST-MODIFIED:20250901T055457Z
UID:10028122-1803752400-1803756000@www.dancesoul.com.tw
SUMMARY:Popping-紀威
DESCRIPTION:
URL:https://www.dancesoul.com.tw/schedule/popping-%e7%b4%80%e5%a8%81-54/2027-02-27/
CATEGORIES:Poppin,常態課_一般,課程
END:VEVENT
BEGIN:VEVENT
DTSTART;TZID=Asia/Shanghai:20270227T192500
DTEND;TZID=Asia/Shanghai:20270227T202500
DTSTAMP:20260423T061910
CREATED:20260327T082346Z
LAST-MODIFIED:20260327T082346Z
UID:10032706-1803756300-1803759900@www.dancesoul.com.tw
SUMMARY:HIP HOP-GAGA
DESCRIPTION:
URL:https://www.dancesoul.com.tw/schedule/%e5%9f%ba%e7%a4%8e%e5%85%a5%e9%96%80-%e9%9b%9e%e8%9b%8b-41-2/2027-02-27/
CATEGORIES:基礎入門,常態課_初級,課程
END:VEVENT
BEGIN:VEVENT
DTSTART;TZID=Asia/Shanghai:20270228T132000
DTEND;TZID=Asia/Shanghai:20270228T142000
DTSTAMP:20260423T061910
CREATED:20250901T055750Z
LAST-MODIFIED:20250901T055750Z
UID:10028905-1803820800-1803824400@www.dancesoul.com.tw
SUMMARY:兒童街舞-羿芃
DESCRIPTION:
URL:https://www.dancesoul.com.tw/schedule/%e5%85%92%e7%ab%a5%e8%a1%97%e8%88%9e-%e7%be%bf%e8%8a%83-20/2027-02-28/
CATEGORIES:兒童街舞,課程
END:VEVENT
BEGIN:VEVENT
DTSTART;TZID=Asia/Shanghai:20270228T143000
DTEND;TZID=Asia/Shanghai:20270228T153000
DTSTAMP:20260423T061910
CREATED:20260315T071830Z
LAST-MODIFIED:20260315T071830Z
UID:10029166-1803825000-1803828600@www.dancesoul.com.tw
SUMMARY:兒童MV(ILLIT-opps!)-羿芃
DESCRIPTION:
URL:https://www.dancesoul.com.tw/schedule/%e5%85%92%e7%ab%a5mvizna-sass-%e7%be%bf%e8%8a%83-2-2/2027-02-28/
CATEGORIES:兒童MV,兒童課
END:VEVENT
BEGIN:VEVENT
DTSTART;TZID=Asia/Shanghai:20270228T154000
DTEND;TZID=Asia/Shanghai:20270228T164000
DTSTAMP:20260423T061910
CREATED:20250901T060229Z
LAST-MODIFIED:20250901T060229Z
UID:10029427-1803829200-1803832800@www.dancesoul.com.tw
SUMMARY:兒童Street Jazz-傘傘
DESCRIPTION:
URL:https://www.dancesoul.com.tw/schedule/%e5%85%92%e7%ab%a5street-jazz-%e5%82%98%e5%82%98-4/2027-02-28/
CATEGORIES:兒童街舞,兒童課
END:VEVENT
BEGIN:VEVENT
DTSTART;TZID=Asia/Shanghai:20270228T165000
DTEND;TZID=Asia/Shanghai:20270228T175000
DTSTAMP:20260423T061910
CREATED:20251201T095640Z
LAST-MODIFIED:20260315T071631Z
UID:10029688-1803833400-1803837000@www.dancesoul.com.tw
SUMMARY:MV(Apink - 'Love Me More')-Jenny
DESCRIPTION:
URL:https://www.dancesoul.com.tw/schedule/mvsomi-closer-%e7%91%9c%e5%ba%ad-2/2027-02-28/
CATEGORIES:MV課,課程
END:VEVENT
BEGIN:VEVENT
DTSTART;TZID=Asia/Shanghai:20270228T182000
DTEND;TZID=Asia/Shanghai:20270228T192000
DTSTAMP:20260423T061910
CREATED:20260327T085927Z
LAST-MODIFIED:20260327T085927Z
UID:10037198-1803838800-1803842400@www.dancesoul.com.tw
SUMMARY:Jazz Funk-Zulin小霖
DESCRIPTION:
URL:https://www.dancesoul.com.tw/schedule/jazz-funk-zulin%e5%b0%8f%e9%9c%96/2027-02-28/
END:VEVENT
BEGIN:VEVENT
DTSTART;TZID=Asia/Shanghai:20270228T192500
DTEND;TZID=Asia/Shanghai:20270228T202500
DTSTAMP:20260423T061910
CREATED:20260327T081608Z
LAST-MODIFIED:20260327T081608Z
UID:10030210-1803842700-1803846300@www.dancesoul.com.tw
SUMMARY:Hip Hop-ROD
DESCRIPTION:
URL:https://www.dancesoul.com.tw/schedule/hip-hop-%e6%89%bf%e7%bf%b0-2-2/2027-02-28/
CATEGORIES:Hip Hop,常態課_一般,課程
END:VEVENT
BEGIN:VEVENT
DTSTART;TZID=Asia/Shanghai:20270301T182000
DTEND;TZID=Asia/Shanghai:20270301T192000
DTSTAMP:20260423T061910
CREATED:20260327T084628Z
LAST-MODIFIED:20260327T084933Z
UID:10035346-1803925200-1803928800@www.dancesoul.com.tw
SUMMARY:MV-瑜庭
DESCRIPTION:
URL:https://www.dancesoul.com.tw/schedule/mvtwice-this-is-for-%e7%91%9c%e5%ba%ad-2/2027-03-01/
CATEGORIES:MV課,課程
END:VEVENT
BEGIN:VEVENT
DTSTART;TZID=Asia/Shanghai:20270301T192500
DTEND;TZID=Asia/Shanghai:20270301T202500
DTSTAMP:20260423T061910
CREATED:20260327T082108Z
LAST-MODIFIED:20260327T082108Z
UID:10030818-1803929100-1803932700@www.dancesoul.com.tw
SUMMARY:Jazz Funk-魏小美
DESCRIPTION:
URL:https://www.dancesoul.com.tw/schedule/jazz-funk-%e9%ad%8f%e5%b0%8f%e7%be%8e-84-2-2/2027-03-01/
END:VEVENT
BEGIN:VEVENT
DTSTART;TZID=Asia/Shanghai:20270301T203000
DTEND;TZID=Asia/Shanghai:20270301T213000
DTSTAMP:20260423T061910
CREATED:20260327T084046Z
LAST-MODIFIED:20260327T084828Z
UID:10035082-1803933000-1803936600@www.dancesoul.com.tw
SUMMARY:Heels-宋靜
DESCRIPTION:
URL:https://www.dancesoul.com.tw/schedule/heels-%e5%ae%8b%e9%9d%9c-3-2/2027-03-01/
END:VEVENT
BEGIN:VEVENT
DTSTART;TZID=Asia/Shanghai:20270301T213500
DTEND;TZID=Asia/Shanghai:20270301T223500
DTSTAMP:20260423T061910
CREATED:20260327T082216Z
LAST-MODIFIED:20260327T082217Z
UID:10032443-1803936900-1803940500@www.dancesoul.com.tw
SUMMARY:Jazz Funk-姿昀
DESCRIPTION:
URL:https://www.dancesoul.com.tw/schedule/jazz-funk-%e5%a7%bf%e6%98%80-15-2/2027-03-01/
CATEGORIES:Jazz Funk,課程
END:VEVENT
BEGIN:VEVENT
DTSTART;TZID=Asia/Shanghai:20270302T182000
DTEND;TZID=Asia/Shanghai:20270302T192000
DTSTAMP:20260423T061910
CREATED:20250828T095545Z
LAST-MODIFIED:20250828T095545Z
UID:10023691-1804011600-1804015200@www.dancesoul.com.tw
SUMMARY:MV-薇臻
DESCRIPTION:
URL:https://www.dancesoul.com.tw/schedule/mv-%e8%96%87%e8%87%bb-4/2027-03-02/
END:VEVENT
BEGIN:VEVENT
DTSTART;TZID=Asia/Shanghai:20270302T192500
DTEND;TZID=Asia/Shanghai:20270302T202500
DTSTAMP:20260423T061911
CREATED:20260327T083744Z
LAST-MODIFIED:20260327T083744Z
UID:10034291-1804015500-1804019100@www.dancesoul.com.tw
SUMMARY:Choreography-羅毅
DESCRIPTION:
URL:https://www.dancesoul.com.tw/schedule/choreography-%e7%be%85%e6%af%85-2-2/2027-03-02/
CATEGORIES:Choreography,常態課_一般,課程
END:VEVENT
END:VCALENDAR