BEGIN:VCALENDAR
VERSION:2.0
PRODID:-//DANCE SOUL 舞魂街舞學校 - ECPv6.15.18//NONSGML v1.0//EN
CALSCALE:GREGORIAN
METHOD:PUBLISH
X-WR-CALNAME:DANCE SOUL 舞魂街舞學校
X-ORIGINAL-URL:https://www.dancesoul.com.tw
X-WR-CALDESC:Events for DANCE SOUL 舞魂街舞學校
REFRESH-INTERVAL;VALUE=DURATION:PT1H
X-Robots-Tag:noindex
X-PUBLISHED-TTL:PT1H
BEGIN:VTIMEZONE
TZID:Asia/Shanghai
BEGIN:STANDARD
TZOFFSETFROM:+0800
TZOFFSETTO:+0800
TZNAME:CST
DTSTART:20230101T000000
END:STANDARD
END:VTIMEZONE
BEGIN:VEVENT
DTSTART;TZID=Asia/Shanghai:20240506T194000
DTEND;TZID=Asia/Shanghai:20240506T204000
DTSTAMP:20260423T054920
CREATED:20240423T093041Z
LAST-MODIFIED:20240423T093041Z
UID:10019513-1715024400-1715028000@www.dancesoul.com.tw
SUMMARY:Heels(初)-宋靜
DESCRIPTION:
URL:https://www.dancesoul.com.tw/schedule/heels%e5%88%9d-%e5%ae%8b%e9%9d%9c-28/2024-05-06/
CATEGORIES:Heels 初級,常態課_初級,課程
END:VEVENT
BEGIN:VEVENT
DTSTART;TZID=Asia/Shanghai:20240506T183000
DTEND;TZID=Asia/Shanghai:20240506T193000
DTSTAMP:20260423T054920
CREATED:20240423T092858Z
LAST-MODIFIED:20240423T092858Z
UID:10019509-1715020200-1715023800@www.dancesoul.com.tw
SUMMARY:Twerk(初)-碗公
DESCRIPTION:
URL:https://www.dancesoul.com.tw/schedule/twerk%e5%88%9d-%e7%a2%97%e5%85%ac-30/2024-05-06/
CATEGORIES:Twerk 初級,常態課_初級,課程
END:VEVENT
BEGIN:VEVENT
DTSTART;TZID=Asia/Shanghai:20240505T191000
DTEND;TZID=Asia/Shanghai:20240505T201000
DTSTAMP:20260423T054920
CREATED:20240423T092753Z
LAST-MODIFIED:20240423T092753Z
UID:10019505-1714936200-1714939800@www.dancesoul.com.tw
SUMMARY:Hip Hop(初)-承翰
DESCRIPTION:
URL:https://www.dancesoul.com.tw/schedule/hip-hop%e5%88%9d-%e6%89%bf%e7%bf%b0-3/2024-05-05/
CATEGORIES:Hip Hop 初級,常態課_初級,課程
END:VEVENT
BEGIN:VEVENT
DTSTART;TZID=Asia/Shanghai:20240505T180000
DTEND;TZID=Asia/Shanghai:20240505T190000
DTSTAMP:20260423T054920
CREATED:20240423T092622Z
LAST-MODIFIED:20240423T092622Z
UID:10019501-1714932000-1714935600@www.dancesoul.com.tw
SUMMARY:Street Jazz-育暉
DESCRIPTION:
URL:https://www.dancesoul.com.tw/schedule/street-jazz-%e8%82%b2%e6%9a%89-47/2024-05-05/
CATEGORIES:STREET JAZZ,常態課_一般,課程
END:VEVENT
BEGIN:VEVENT
DTSTART;TZID=Asia/Shanghai:20240505T165000
DTEND;TZID=Asia/Shanghai:20240505T175000
DTSTAMP:20260423T054920
CREATED:20240423T092517Z
LAST-MODIFIED:20240423T092517Z
UID:10019497-1714927800-1714931400@www.dancesoul.com.tw
SUMMARY:MV-(솔라 Solar - GLAM SILVER)-瑜庭
DESCRIPTION:
URL:https://www.dancesoul.com.tw/schedule/mv-%ec%86%94%eb%9d%bc-solar-glam-silver-%e7%91%9c%e5%ba%ad/2024-05-05/
CATEGORIES:MV課,課程
END:VEVENT
BEGIN:VEVENT
DTSTART;TZID=Asia/Shanghai:20240505T154000
DTEND;TZID=Asia/Shanghai:20240505T164000
DTSTAMP:20260423T054920
CREATED:20240423T092010Z
LAST-MODIFIED:20240423T092010Z
UID:10019493-1714923600-1714927200@www.dancesoul.com.tw
SUMMARY:兒童街舞-傘傘
DESCRIPTION:
URL:https://www.dancesoul.com.tw/schedule/%e5%85%92%e7%ab%a5%e8%a1%97%e8%88%9e-%e5%82%98%e5%82%98-37/2024-05-05/
CATEGORIES:兒童街舞,兒童課,課程
END:VEVENT
BEGIN:VEVENT
DTSTART;TZID=Asia/Shanghai:20240505T143000
DTEND;TZID=Asia/Shanghai:20240505T153000
DTSTAMP:20260423T054920
CREATED:20240423T085543Z
LAST-MODIFIED:20240423T085543Z
UID:10019489-1714919400-1714923000@www.dancesoul.com.tw
SUMMARY:兒童MV-(ILLIT – My World)-羿芃
DESCRIPTION:
URL:https://www.dancesoul.com.tw/schedule/%e5%85%92%e7%ab%a5mv-illit-my-world-%e7%be%bf%e8%8a%83/2024-05-05/
CATEGORIES:兒童MV,兒童課,課程
END:VEVENT
BEGIN:VEVENT
DTSTART;TZID=Asia/Shanghai:20240505T132000
DTEND;TZID=Asia/Shanghai:20240505T142000
DTSTAMP:20260423T054920
CREATED:20240423T085301Z
LAST-MODIFIED:20240423T085301Z
UID:10019485-1714915200-1714918800@www.dancesoul.com.tw
SUMMARY:兒童街舞-羿芃
DESCRIPTION:
URL:https://www.dancesoul.com.tw/schedule/%e5%85%92%e7%ab%a5%e8%a1%97%e8%88%9e-%e7%be%bf%e8%8a%83-5/2024-05-05/
CATEGORIES:兒童街舞,兒童課,課程
END:VEVENT
BEGIN:VEVENT
DTSTART;TZID=Asia/Shanghai:20240504T202000
DTEND;TZID=Asia/Shanghai:20240504T212000
DTSTAMP:20260423T054920
CREATED:20240423T085209Z
LAST-MODIFIED:20240423T085209Z
UID:10019481-1714854000-1714857600@www.dancesoul.com.tw
SUMMARY:基礎入門-雞蛋
DESCRIPTION:
URL:https://www.dancesoul.com.tw/schedule/%e5%9f%ba%e7%a4%8e%e5%85%a5%e9%96%80-%e9%9b%9e%e8%9b%8b-27/2024-05-04/
CATEGORIES:基礎入門,常態課_初級,課程
END:VEVENT
BEGIN:VEVENT
DTSTART;TZID=Asia/Shanghai:20240504T191000
DTEND;TZID=Asia/Shanghai:20240504T201000
DTSTAMP:20260423T054920
CREATED:20240423T085039Z
LAST-MODIFIED:20240423T085039Z
UID:10019477-1714849800-1714853400@www.dancesoul.com.tw
SUMMARY:Hip Hop(初)-阿祥
DESCRIPTION:
URL:https://www.dancesoul.com.tw/schedule/hip-hop%e5%88%9d-%e9%98%bf%e7%a5%a5-13/2024-05-04/
CATEGORIES:Hip Hop 初級,常態課_初級,課程
END:VEVENT
BEGIN:VEVENT
DTSTART;TZID=Asia/Shanghai:20240504T180000
DTEND;TZID=Asia/Shanghai:20240504T190000
DTSTAMP:20260423T054920
CREATED:20240423T084935Z
LAST-MODIFIED:20240423T084935Z
UID:10019473-1714845600-1714849200@www.dancesoul.com.tw
SUMMARY:Popping-紀威
DESCRIPTION:
URL:https://www.dancesoul.com.tw/schedule/popping-%e7%b4%80%e5%a8%81-40/2024-05-04/
CATEGORIES:Poppin,常態課_一般,課程
END:VEVENT
BEGIN:VEVENT
DTSTART;TZID=Asia/Shanghai:20240504T165000
DTEND;TZID=Asia/Shanghai:20240504T175000
DTSTAMP:20260423T054920
CREATED:20240423T084730Z
LAST-MODIFIED:20240423T084730Z
UID:10019469-1714841400-1714845000@www.dancesoul.com.tw
SUMMARY:MV-(ILLIT - Magnetic)-怡妏
DESCRIPTION:
URL:https://www.dancesoul.com.tw/schedule/mv-illit-magnetic-%e6%80%a1%e5%a6%8f/2024-05-04/
CATEGORIES:MV課,課程
END:VEVENT
BEGIN:VEVENT
DTSTART;TZID=Asia/Shanghai:20240504T154000
DTEND;TZID=Asia/Shanghai:20240504T164000
DTSTAMP:20260423T054920
CREATED:20240423T084617Z
LAST-MODIFIED:20240423T084617Z
UID:10019465-1714837200-1714840800@www.dancesoul.com.tw
SUMMARY:兒童街舞-傘傘
DESCRIPTION:
URL:https://www.dancesoul.com.tw/schedule/%e5%85%92%e7%ab%a5%e8%a1%97%e8%88%9e-%e5%82%98%e5%82%98-36/2024-05-04/
CATEGORIES:兒童街舞,兒童課,課程
END:VEVENT
BEGIN:VEVENT
DTSTART;TZID=Asia/Shanghai:20240504T143000
DTEND;TZID=Asia/Shanghai:20240504T153000
DTSTAMP:20260423T054920
CREATED:20240423T084325Z
LAST-MODIFIED:20240423T084325Z
UID:10019461-1714833000-1714836600@www.dancesoul.com.tw
SUMMARY:兒童MV-(BABYMONSTER - SHEESH)-薇臻
DESCRIPTION:
URL:https://www.dancesoul.com.tw/schedule/%e5%85%92%e7%ab%a5mv-babymonster-sheesh-%e8%96%87%e8%87%bb/2024-05-04/
CATEGORIES:兒童MV,兒童課,課程
END:VEVENT
BEGIN:VEVENT
DTSTART;TZID=Asia/Shanghai:20240504T132000
DTEND;TZID=Asia/Shanghai:20240504T142000
DTSTAMP:20260423T054920
CREATED:20240423T084049Z
LAST-MODIFIED:20240423T084049Z
UID:10019457-1714828800-1714832400@www.dancesoul.com.tw
SUMMARY:兒童街舞-薇臻
DESCRIPTION:
URL:https://www.dancesoul.com.tw/schedule/%e5%85%92%e7%ab%a5%e8%a1%97%e8%88%9e-%e8%96%87%e8%87%bb-6/2024-05-04/
CATEGORIES:兒童街舞,兒童課,課程
END:VEVENT
BEGIN:VEVENT
DTSTART;TZID=Asia/Shanghai:20240503T205000
DTEND;TZID=Asia/Shanghai:20240503T215000
DTSTAMP:20260423T054920
CREATED:20240423T095300Z
LAST-MODIFIED:20240423T095300Z
UID:10019574-1714769400-1714773000@www.dancesoul.com.tw
SUMMARY:Jazz Funk-鈴鐺
DESCRIPTION:
URL:https://www.dancesoul.com.tw/schedule/jazz-funk-%e9%88%b4%e9%90%ba-18/2024-05-03/
CATEGORIES:Jazz Funk,常態課_一般,課程
END:VEVENT
BEGIN:VEVENT
DTSTART;TZID=Asia/Shanghai:20240503T194000
DTEND;TZID=Asia/Shanghai:20240503T204000
DTSTAMP:20260423T054920
CREATED:20240423T095211Z
LAST-MODIFIED:20240423T095211Z
UID:10019569-1714765200-1714768800@www.dancesoul.com.tw
SUMMARY:Hip Hop(初)-佐佐
DESCRIPTION:
URL:https://www.dancesoul.com.tw/schedule/hip-hop%e5%88%9d-%e4%bd%90%e4%bd%90-10/2024-05-03/
CATEGORIES:Hip Hop 初級,常態課_初級,課程
END:VEVENT
BEGIN:VEVENT
DTSTART;TZID=Asia/Shanghai:20240503T183000
DTEND;TZID=Asia/Shanghai:20240503T193000
DTSTAMP:20260423T054920
CREATED:20240423T094523Z
LAST-MODIFIED:20240423T094523Z
UID:10019564-1714761000-1714764600@www.dancesoul.com.tw
SUMMARY:Street Jazz(初)-Cen妹
DESCRIPTION:
URL:https://www.dancesoul.com.tw/schedule/street-jazz%e5%88%9d-cen%e5%a6%b9-31/2024-05-03/
CATEGORIES:STREET JAZZ 初級,常態課_初級,課程
END:VEVENT
BEGIN:VEVENT
DTSTART;TZID=Asia/Shanghai:20240502T205000
DTEND;TZID=Asia/Shanghai:20240502T215000
DTSTAMP:20260423T054920
CREATED:20240423T094357Z
LAST-MODIFIED:20240423T094357Z
UID:10019559-1714683000-1714686600@www.dancesoul.com.tw
SUMMARY:Jazz Funk-育暉
DESCRIPTION:
URL:https://www.dancesoul.com.tw/schedule/jazz-funk-%e8%82%b2%e6%9a%89-10/2024-05-02/
CATEGORIES:Jazz Funk,常態課_一般,課程
END:VEVENT
BEGIN:VEVENT
DTSTART;TZID=Asia/Shanghai:20240502T194000
DTEND;TZID=Asia/Shanghai:20240502T204000
DTSTAMP:20260423T054920
CREATED:20240423T094238Z
LAST-MODIFIED:20240423T094238Z
UID:10019554-1714678800-1714682400@www.dancesoul.com.tw
SUMMARY:Hip Hop-林彤
DESCRIPTION:
URL:https://www.dancesoul.com.tw/schedule/hip-hop-%e6%9e%97%e5%bd%a4-17/2024-05-02/
CATEGORIES:Hip Hop,常態課_一般,課程
END:VEVENT
BEGIN:VEVENT
DTSTART;TZID=Asia/Shanghai:20240502T183000
DTEND;TZID=Asia/Shanghai:20240502T193000
DTSTAMP:20260423T054920
CREATED:20240423T094130Z
LAST-MODIFIED:20240423T094130Z
UID:10019548-1714674600-1714678200@www.dancesoul.com.tw
SUMMARY:Choreography-芭比
DESCRIPTION:
URL:https://www.dancesoul.com.tw/schedule/choreography-%e8%8a%ad%e6%af%94-21/2024-05-02/
CATEGORIES:Choreography,常態課_一般,課程
END:VEVENT
BEGIN:VEVENT
DTSTART;TZID=Asia/Shanghai:20240501T205000
DTEND;TZID=Asia/Shanghai:20240501T215000
DTSTAMP:20260423T054920
CREATED:20240423T094012Z
LAST-MODIFIED:20240423T094012Z
UID:10019543-1714596600-1714600200@www.dancesoul.com.tw
SUMMARY:Free Style-承達
DESCRIPTION:
URL:https://www.dancesoul.com.tw/schedule/free-style-%e6%89%bf%e9%81%94-38/2024-05-01/
CATEGORIES:Freestyle,常態課_一般,課程
END:VEVENT
BEGIN:VEVENT
DTSTART;TZID=Asia/Shanghai:20240501T194000
DTEND;TZID=Asia/Shanghai:20240501T204000
DTSTAMP:20260423T054920
CREATED:20240423T093924Z
LAST-MODIFIED:20240423T093924Z
UID:10019538-1714592400-1714596000@www.dancesoul.com.tw
SUMMARY:Street Jazz-Larry
DESCRIPTION:
URL:https://www.dancesoul.com.tw/schedule/street-jazz-larry-15/2024-05-01/
CATEGORIES:STREET JAZZ,常態課_一般,課程
END:VEVENT
BEGIN:VEVENT
DTSTART;TZID=Asia/Shanghai:20240501T183000
DTEND;TZID=Asia/Shanghai:20240501T193000
DTSTAMP:20260423T054921
CREATED:20240423T093804Z
LAST-MODIFIED:20240423T093804Z
UID:10019533-1714588200-1714591800@www.dancesoul.com.tw
SUMMARY:Street Jazz(初)-Kyle
DESCRIPTION:
URL:https://www.dancesoul.com.tw/schedule/street-jazz%e5%88%9d-kyle-12/2024-05-01/
CATEGORIES:STREET JAZZ 初級,常態課_初級,課程
END:VEVENT
BEGIN:VEVENT
DTSTART;TZID=Asia/Shanghai:20240430T205000
DTEND;TZID=Asia/Shanghai:20240430T215000
DTSTAMP:20260423T054921
CREATED:20240326T092839Z
LAST-MODIFIED:20240326T092839Z
UID:10019419-1714510200-1714513800@www.dancesoul.com.tw
SUMMARY:Choreography-少麟
DESCRIPTION:
URL:https://www.dancesoul.com.tw/schedule/choreography-%e5%b0%91%e9%ba%9f-6/2024-04-30/
CATEGORIES:Choreography,常態課_一般,課程
END:VEVENT
BEGIN:VEVENT
DTSTART;TZID=Asia/Shanghai:20240430T194000
DTEND;TZID=Asia/Shanghai:20240430T204000
DTSTAMP:20260423T054921
CREATED:20240326T092749Z
LAST-MODIFIED:20240326T092749Z
UID:10019414-1714506000-1714509600@www.dancesoul.com.tw
SUMMARY:Street Jazz-Denis
DESCRIPTION:
URL:https://www.dancesoul.com.tw/schedule/street-jazz-denis-43/2024-04-30/
CATEGORIES:STREET JAZZ,常態課_一般,課程
END:VEVENT
BEGIN:VEVENT
DTSTART;TZID=Asia/Shanghai:20240430T183000
DTEND;TZID=Asia/Shanghai:20240430T193000
DTSTAMP:20260423T054921
CREATED:20240326T092559Z
LAST-MODIFIED:20240326T092559Z
UID:10019409-1714501800-1714505400@www.dancesoul.com.tw
SUMMARY:Hip Hop(初)-阿禾
DESCRIPTION:
URL:https://www.dancesoul.com.tw/schedule/hip-hop%e5%88%9d-%e9%98%bf%e7%a6%be-48/2024-04-30/
CATEGORIES:Hip Hop 初級,常態課_初級,課程
END:VEVENT
BEGIN:VEVENT
DTSTART;TZID=Asia/Shanghai:20240429T205000
DTEND;TZID=Asia/Shanghai:20240429T215000
DTSTAMP:20260423T054921
CREATED:20240326T092500Z
LAST-MODIFIED:20240326T092500Z
UID:10019404-1714423800-1714427400@www.dancesoul.com.tw
SUMMARY:Jazz Funk-魏小美
DESCRIPTION:
URL:https://www.dancesoul.com.tw/schedule/jazz-funk-%e9%ad%8f%e5%b0%8f%e7%be%8e-70/2024-04-29/
CATEGORIES:Jazz Funk,常態課_一般,課程
END:VEVENT
BEGIN:VEVENT
DTSTART;TZID=Asia/Shanghai:20240429T194000
DTEND;TZID=Asia/Shanghai:20240429T204000
DTSTAMP:20260423T054921
CREATED:20240326T092327Z
LAST-MODIFIED:20240326T092327Z
UID:10019398-1714419600-1714423200@www.dancesoul.com.tw
SUMMARY:Heels(初)-宋靜
DESCRIPTION:
URL:https://www.dancesoul.com.tw/schedule/heels%e5%88%9d-%e5%ae%8b%e9%9d%9c-27/2024-04-29/
CATEGORIES:Heels 初級,常態課_初級,課程
END:VEVENT
BEGIN:VEVENT
DTSTART;TZID=Asia/Shanghai:20240429T183000
DTEND;TZID=Asia/Shanghai:20240429T193000
DTSTAMP:20260423T054921
CREATED:20240326T092231Z
LAST-MODIFIED:20240326T092231Z
UID:10019393-1714415400-1714419000@www.dancesoul.com.tw
SUMMARY:Twerk(初)-碗公
DESCRIPTION:
URL:https://www.dancesoul.com.tw/schedule/twerk%e5%88%9d-%e7%a2%97%e5%85%ac-29/2024-04-29/
CATEGORIES:Twerk 初級,常態課_初級,課程
END:VEVENT
END:VCALENDAR