BEGIN:VCALENDAR
VERSION:2.0
PRODID:-//DANCE SOUL 舞魂街舞學校 - ECPv6.15.18//NONSGML v1.0//EN
CALSCALE:GREGORIAN
METHOD:PUBLISH
X-WR-CALNAME:DANCE SOUL 舞魂街舞學校
X-ORIGINAL-URL:https://www.dancesoul.com.tw
X-WR-CALDESC:Events for DANCE SOUL 舞魂街舞學校
REFRESH-INTERVAL;VALUE=DURATION:PT1H
X-Robots-Tag:noindex
X-PUBLISHED-TTL:PT1H
BEGIN:VTIMEZONE
TZID:Asia/Shanghai
BEGIN:STANDARD
TZOFFSETFROM:+0800
TZOFFSETTO:+0800
TZNAME:CST
DTSTART:20240101T000000
END:STANDARD
END:VTIMEZONE
BEGIN:VEVENT
DTSTART;TZID=Asia/Shanghai:20250511T192500
DTEND;TZID=Asia/Shanghai:20250511T202500
DTSTAMP:20260421T063158
CREATED:20250418T064812Z
LAST-MODIFIED:20250418T064812Z
UID:10021609-1746991500-1746995100@www.dancesoul.com.tw
SUMMARY:Hip Hop(初)-Rod
DESCRIPTION:
URL:https://www.dancesoul.com.tw/schedule/hip-hop%e5%88%9d-rod/2025-05-11/
CATEGORIES:Hip Hop 初級,常態課_初級,課程
END:VEVENT
BEGIN:VEVENT
DTSTART;TZID=Asia/Shanghai:20250511T165000
DTEND;TZID=Asia/Shanghai:20250511T175000
DTSTAMP:20260421T063158
CREATED:20250421T081956Z
LAST-MODIFIED:20250421T085242Z
UID:10021627-1746982200-1746985800@www.dancesoul.com.tw
SUMMARY:MV-( LISA-FUTW)-瑜庭
DESCRIPTION:
URL:https://www.dancesoul.com.tw/schedule/%e7%91%9c%e5%ba%ad%ef%bc%88%e9%80%b1%e6%97%a5-lisa-futw/2025-05-11/
CATEGORIES:MV課,課程
END:VEVENT
BEGIN:VEVENT
DTSTART;TZID=Asia/Shanghai:20250511T165000
DTEND;TZID=Asia/Shanghai:20250511T175000
DTSTAMP:20260421T063158
CREATED:20250417T103045Z
LAST-MODIFIED:20250417T103045Z
UID:10021605-1746982200-1746985800@www.dancesoul.com.tw
SUMMARY:Jazz Funk-姿昀
DESCRIPTION:
URL:https://www.dancesoul.com.tw/schedule/jazz-funk-%e5%a7%bf%e6%98%80-11/2025-05-11/
CATEGORIES:Jazz Funk,常態課_一般,課程
END:VEVENT
BEGIN:VEVENT
DTSTART;TZID=Asia/Shanghai:20250511T154000
DTEND;TZID=Asia/Shanghai:20250511T164000
DTSTAMP:20260421T063158
CREATED:20250417T102858Z
LAST-MODIFIED:20250417T102858Z
UID:10021601-1746978000-1746981600@www.dancesoul.com.tw
SUMMARY:兒童 Street Jazz-傘傘
DESCRIPTION:
URL:https://www.dancesoul.com.tw/schedule/%e5%85%92%e7%ab%a5-street-jazz-%e5%82%98%e5%82%98-9/2025-05-11/
CATEGORIES:兒童 Street Jazz,兒童課,常態課_一般,課程
END:VEVENT
BEGIN:VEVENT
DTSTART;TZID=Asia/Shanghai:20250511T143000
DTEND;TZID=Asia/Shanghai:20250511T153000
DTSTAMP:20260421T063158
CREATED:20250421T073623Z
LAST-MODIFIED:20250421T073623Z
UID:10021623-1746973800-1746977400@www.dancesoul.com.tw
SUMMARY:兒童MV-(izna-Sign )-羿芃
DESCRIPTION:
URL:https://www.dancesoul.com.tw/schedule/%e5%85%92%e7%ab%a5mv-izna-sign-%e7%be%bf%e8%8a%83/2025-05-11/
CATEGORIES:MV課,兒童MV,兒童課,課程
END:VEVENT
BEGIN:VEVENT
DTSTART;TZID=Asia/Shanghai:20250511T132000
DTEND;TZID=Asia/Shanghai:20250511T142000
DTSTAMP:20260421T063158
CREATED:20250417T102325Z
LAST-MODIFIED:20250417T102325Z
UID:10021597-1746969600-1746973200@www.dancesoul.com.tw
SUMMARY:兒童街舞-羿芃
DESCRIPTION:
URL:https://www.dancesoul.com.tw/schedule/%e5%85%92%e7%ab%a5%e8%a1%97%e8%88%9e-%e7%be%bf%e8%8a%83-17/2025-05-11/
CATEGORIES:兒童基礎街舞,兒童街舞,兒童課,常態課_一般,課程
END:VEVENT
BEGIN:VEVENT
DTSTART;TZID=Asia/Shanghai:20250510T203000
DTEND;TZID=Asia/Shanghai:20250510T213000
DTSTAMP:20260421T063158
CREATED:20250417T102000Z
LAST-MODIFIED:20250515T050254Z
UID:10021592-1746909000-1746912600@www.dancesoul.com.tw
SUMMARY:基礎入門-雞蛋
DESCRIPTION:
URL:https://www.dancesoul.com.tw/schedule/%e5%9f%ba%e7%a4%8e%e5%85%a5%e9%96%80-%e9%9b%9e%e8%9b%8b-39/2025-05-10/
CATEGORIES:基礎入門,常態課_初級,課程
END:VEVENT
BEGIN:VEVENT
DTSTART;TZID=Asia/Shanghai:20250510T192500
DTEND;TZID=Asia/Shanghai:20250510T202500
DTSTAMP:20260421T063158
CREATED:20250417T101730Z
LAST-MODIFIED:20250515T050159Z
UID:10021587-1746905100-1746908700@www.dancesoul.com.tw
SUMMARY:Choreography(初)-無盡
DESCRIPTION:
URL:https://www.dancesoul.com.tw/schedule/choreography%e5%88%9d-%e7%84%a1%e7%9b%a1-12/2025-05-10/
CATEGORIES:Choreography 初級,常態課_初級,課程
END:VEVENT
BEGIN:VEVENT
DTSTART;TZID=Asia/Shanghai:20250510T182000
DTEND;TZID=Asia/Shanghai:20250510T192000
DTSTAMP:20260421T063158
CREATED:20250417T100804Z
LAST-MODIFIED:20250515T050016Z
UID:10021582-1746901200-1746904800@www.dancesoul.com.tw
SUMMARY:Popping-紀威
DESCRIPTION:
URL:https://www.dancesoul.com.tw/schedule/popping-%e7%b4%80%e5%a8%81-52/2025-05-10/
CATEGORIES:Poppin,常態課_一般,課程
END:VEVENT
BEGIN:VEVENT
DTSTART;TZID=Asia/Shanghai:20250510T165000
DTEND;TZID=Asia/Shanghai:20250510T175000
DTSTAMP:20260421T063158
CREATED:20250421T073004Z
LAST-MODIFIED:20250421T073004Z
UID:10021618-1746895800-1746899400@www.dancesoul.com.tw
SUMMARY:MV-(YEJI-Air)-凝琦
DESCRIPTION:
URL:https://www.dancesoul.com.tw/schedule/mv-yeji-air-%e5%87%9d%e7%90%a6/2025-05-10/
CATEGORIES:MV課,課程
END:VEVENT
BEGIN:VEVENT
DTSTART;TZID=Asia/Shanghai:20250510T154000
DTEND;TZID=Asia/Shanghai:20250510T164000
DTSTAMP:20260421T063158
CREATED:20250417T100532Z
LAST-MODIFIED:20250515T045826Z
UID:10021577-1746891600-1746895200@www.dancesoul.com.tw
SUMMARY:兒童Krump-Coffee
DESCRIPTION:
URL:https://www.dancesoul.com.tw/schedule/%e5%85%92%e7%ab%a5krump-coffee-5/2025-05-10/
CATEGORIES:兒童Krump,兒童課,常態課_一般,課程
END:VEVENT
BEGIN:VEVENT
DTSTART;TZID=Asia/Shanghai:20250510T143000
DTEND;TZID=Asia/Shanghai:20250510T153000
DTSTAMP:20260421T063158
CREATED:20250421T072732Z
LAST-MODIFIED:20250421T072732Z
UID:10021613-1746887400-1746891000@www.dancesoul.com.tw
SUMMARY:兒童MV-(YEJI-Air)-薇臻
DESCRIPTION:
URL:https://www.dancesoul.com.tw/schedule/%e5%85%92%e7%ab%a5mv-yeji-air-%e8%96%87%e8%87%bb/2025-05-10/
CATEGORIES:MV課,兒童MV,兒童課,課程
END:VEVENT
BEGIN:VEVENT
DTSTART;TZID=Asia/Shanghai:20250510T132000
DTEND;TZID=Asia/Shanghai:20250510T142000
DTSTAMP:20260421T063158
CREATED:20250417T100338Z
LAST-MODIFIED:20250417T100338Z
UID:10021572-1746883200-1746886800@www.dancesoul.com.tw
SUMMARY:兒童街舞-薇臻
DESCRIPTION:
URL:https://www.dancesoul.com.tw/schedule/%e5%85%92%e7%ab%a5%e8%a1%97%e8%88%9e-%e8%96%87%e8%87%bb-18/2025-05-10/
CATEGORIES:兒童基礎街舞,兒童街舞,兒童課,常態課_一般,課程
END:VEVENT
BEGIN:VEVENT
DTSTART;TZID=Asia/Shanghai:20250509T203000
DTEND;TZID=Asia/Shanghai:20250509T213000
DTSTAMP:20260421T063158
CREATED:20250417T095943Z
LAST-MODIFIED:20250515T045301Z
UID:10021567-1746822600-1746826200@www.dancesoul.com.tw
SUMMARY:Jazz Funk-鈴鐺
DESCRIPTION:
URL:https://www.dancesoul.com.tw/schedule/jazz-funk-%e9%88%b4%e9%90%ba-29/2025-05-09/
CATEGORIES:Jazz Funk,常態課_一般,課程
END:VEVENT
BEGIN:VEVENT
DTSTART;TZID=Asia/Shanghai:20250509T192500
DTEND;TZID=Asia/Shanghai:20250509T202500
DTSTAMP:20260421T063158
CREATED:20250417T095812Z
LAST-MODIFIED:20250515T045216Z
UID:10021562-1746818700-1746822300@www.dancesoul.com.tw
SUMMARY:Street Jazz-邱邱
DESCRIPTION:
URL:https://www.dancesoul.com.tw/schedule/street-jazz-%e9%82%b1%e9%82%b1-3/2025-05-09/
CATEGORIES:STREET JAZZ,常態課_一般,課程
END:VEVENT
BEGIN:VEVENT
DTSTART;TZID=Asia/Shanghai:20250509T182000
DTEND;TZID=Asia/Shanghai:20250509T192000
DTSTAMP:20260421T063158
CREATED:20250417T095647Z
LAST-MODIFIED:20250515T045043Z
UID:10021505-1746814800-1746818400@www.dancesoul.com.tw
SUMMARY:Street Jazz(初)-Cen妹
DESCRIPTION:
URL:https://www.dancesoul.com.tw/schedule/street-jazz%e5%88%9d-cen%e5%a6%b9-43/2025-05-09/
CATEGORIES:STREET JAZZ 初級,常態課_初級,課程
END:VEVENT
BEGIN:VEVENT
DTSTART;TZID=Asia/Shanghai:20250508T213500
DTEND;TZID=Asia/Shanghai:20250508T223500
DTSTAMP:20260421T063158
CREATED:20250417T095519Z
LAST-MODIFIED:20250515T044905Z
UID:10021500-1746740100-1746743700@www.dancesoul.com.tw
SUMMARY:Choreography-巴豪
DESCRIPTION:
URL:https://www.dancesoul.com.tw/schedule/choreography-%e5%b7%b4%e8%b1%aa-5/2025-05-08/
CATEGORIES:Choreography,常態課_一般,課程
END:VEVENT
BEGIN:VEVENT
DTSTART;TZID=Asia/Shanghai:20250508T203000
DTEND;TZID=Asia/Shanghai:20250508T213000
DTSTAMP:20260421T063158
CREATED:20250417T095336Z
LAST-MODIFIED:20250515T044810Z
UID:10021495-1746736200-1746739800@www.dancesoul.com.tw
SUMMARY:Hip Hop-林彤
DESCRIPTION:
URL:https://www.dancesoul.com.tw/schedule/hip-hop-%e6%9e%97%e5%bd%a4-29/2025-05-08/
CATEGORIES:Hip Hop,常態課_一般,課程
END:VEVENT
BEGIN:VEVENT
DTSTART;TZID=Asia/Shanghai:20250508T192500
DTEND;TZID=Asia/Shanghai:20250508T202500
DTSTAMP:20260421T063158
CREATED:20250417T095206Z
LAST-MODIFIED:20250515T044717Z
UID:10021490-1746732300-1746735900@www.dancesoul.com.tw
SUMMARY:Hip Hop(初)-佐佐
DESCRIPTION:
URL:https://www.dancesoul.com.tw/schedule/hip-hop%e5%88%9d-%e4%bd%90%e4%bd%90-23/2025-05-08/
CATEGORIES:Hip Hop 初級,常態課_初級,課程
END:VEVENT
BEGIN:VEVENT
DTSTART;TZID=Asia/Shanghai:20250508T182000
DTEND;TZID=Asia/Shanghai:20250508T192000
DTSTAMP:20260421T063158
CREATED:20250417T095015Z
LAST-MODIFIED:20250515T044543Z
UID:10021485-1746728400-1746732000@www.dancesoul.com.tw
SUMMARY:Jazz Funk-瑜庭
DESCRIPTION:
URL:https://www.dancesoul.com.tw/schedule/jazz-funk-%e7%91%9c%e5%ba%ad-6/2025-05-08/
CATEGORIES:Jazz Funk,常態課_一般,課程
END:VEVENT
BEGIN:VEVENT
DTSTART;TZID=Asia/Shanghai:20250507T213500
DTEND;TZID=Asia/Shanghai:20250507T223500
DTSTAMP:20260421T063158
CREATED:20250417T094806Z
LAST-MODIFIED:20250515T044442Z
UID:10021480-1746653700-1746657300@www.dancesoul.com.tw
SUMMARY:Free Style-承達
DESCRIPTION:
URL:https://www.dancesoul.com.tw/schedule/free-style-%e6%89%bf%e9%81%94-50/2025-05-07/
CATEGORIES:Freestyle,常態課_一般,課程
END:VEVENT
BEGIN:VEVENT
DTSTART;TZID=Asia/Shanghai:20250507T203000
DTEND;TZID=Asia/Shanghai:20250507T213000
DTSTAMP:20260421T063158
CREATED:20250417T094025Z
LAST-MODIFIED:20250515T044303Z
UID:10021468-1746649800-1746653400@www.dancesoul.com.tw
SUMMARY:Street Jazz(初)-Kyle
DESCRIPTION:
URL:https://www.dancesoul.com.tw/schedule/street-jazz%e5%88%9d-kyle-26/2025-05-07/
CATEGORIES:STREET JAZZ 初級,常態課_初級,課程
END:VEVENT
BEGIN:VEVENT
DTSTART;TZID=Asia/Shanghai:20250507T192500
DTEND;TZID=Asia/Shanghai:20250507T202500
DTSTAMP:20260421T063158
CREATED:20250417T094436Z
LAST-MODIFIED:20250725T075734Z
UID:10021472-1746645900-1746649500@www.dancesoul.com.tw
SUMMARY:Street Jazz-Larry
DESCRIPTION:
URL:https://www.dancesoul.com.tw/schedule/street-jazz-larry-28/2025-05-07/
CATEGORIES:STREET JAZZ,常態課_一般,課程
END:VEVENT
BEGIN:VEVENT
DTSTART;TZID=Asia/Shanghai:20250507T182000
DTEND;TZID=Asia/Shanghai:20250507T192000
DTSTAMP:20260421T063158
CREATED:20250417T094623Z
LAST-MODIFIED:20250725T075554Z
UID:10021476-1746642000-1746645600@www.dancesoul.com.tw
SUMMARY:Krump-Coffee
DESCRIPTION:
URL:https://www.dancesoul.com.tw/schedule/krump-coffee-5/2025-05-07/
CATEGORIES:Krump,常態課_一般,課程
END:VEVENT
BEGIN:VEVENT
DTSTART;TZID=Asia/Shanghai:20250506T203000
DTEND;TZID=Asia/Shanghai:20250506T213000
DTSTAMP:20260421T063158
CREATED:20250417T093643Z
LAST-MODIFIED:20250515T044021Z
UID:10021460-1746563400-1746567000@www.dancesoul.com.tw
SUMMARY:Free Style-俊宏
DESCRIPTION:
URL:https://www.dancesoul.com.tw/schedule/free-style-%e4%bf%8a%e5%ae%8f-27/2025-05-06/
CATEGORIES:Freestyle,常態課_一般,課程
END:VEVENT
BEGIN:VEVENT
DTSTART;TZID=Asia/Shanghai:20250506T192500
DTEND;TZID=Asia/Shanghai:20250506T202500
DTSTAMP:20260421T063158
CREATED:20250417T093453Z
LAST-MODIFIED:20250515T043908Z
UID:10021456-1746559500-1746563100@www.dancesoul.com.tw
SUMMARY:Street Jazz-Denis
DESCRIPTION:
URL:https://www.dancesoul.com.tw/schedule/street-jazz-denis-56/2025-05-06/
CATEGORIES:STREET JAZZ,常態課_一般,課程
END:VEVENT
BEGIN:VEVENT
DTSTART;TZID=Asia/Shanghai:20250506T182000
DTEND;TZID=Asia/Shanghai:20250506T192000
DTSTAMP:20260421T063158
CREATED:20250417T093101Z
LAST-MODIFIED:20250504T043814Z
UID:10021452-1746555600-1746559200@www.dancesoul.com.tw
SUMMARY:MV-(當日Dance Soul IG 限動公布歌曲)-薇臻
DESCRIPTION:
URL:https://www.dancesoul.com.tw/schedule/mv-%e7%95%b6%e6%97%a5dance-soul-ig-%e9%99%90%e5%8b%95%e5%85%ac%e5%b8%83%e6%ad%8c%e6%9b%b2-%e8%96%87%e8%87%bb-9/2025-05-06/
CATEGORIES:MV課,課程
END:VEVENT
BEGIN:VEVENT
DTSTART;TZID=Asia/Shanghai:20250505T203000
DTEND;TZID=Asia/Shanghai:20250505T213000
DTSTAMP:20260421T063158
CREATED:20250417T091745Z
LAST-MODIFIED:20250515T043433Z
UID:10021448-1746477000-1746480600@www.dancesoul.com.tw
SUMMARY:Jazz Funk-魏小美
DESCRIPTION:
URL:https://www.dancesoul.com.tw/schedule/jazz-funk-%e9%ad%8f%e5%b0%8f%e7%be%8e-83/2025-05-05/
CATEGORIES:Jazz Funk,常態課_一般,課程
END:VEVENT
BEGIN:VEVENT
DTSTART;TZID=Asia/Shanghai:20250505T192500
DTEND;TZID=Asia/Shanghai:20250505T202500
DTSTAMP:20260421T063158
CREATED:20250417T091529Z
LAST-MODIFIED:20250515T043326Z
UID:10021444-1746473100-1746476700@www.dancesoul.com.tw
SUMMARY:Heels(初)-宋靜
DESCRIPTION:
URL:https://www.dancesoul.com.tw/schedule/heels%e5%88%9d-%e5%ae%8b%e9%9d%9c-40/2025-05-05/2/
CATEGORIES:Heels 初級,常態課_初級,課程
END:VEVENT
BEGIN:VEVENT
DTSTART;TZID=Asia/Shanghai:20250505T182000
DTEND;TZID=Asia/Shanghai:20250505T192000
DTSTAMP:20260421T063158
CREATED:20250417T091105Z
LAST-MODIFIED:20250515T043131Z
UID:10021440-1746469200-1746472800@www.dancesoul.com.tw
SUMMARY:Twerk(初)-碗公
DESCRIPTION:
URL:https://www.dancesoul.com.tw/schedule/twerk%e5%88%9d-%e7%a2%97%e5%85%ac-42/2025-05-05/
CATEGORIES:Twerk 初級,常態課_初級,課程
END:VEVENT
END:VCALENDAR