BEGIN:VCALENDAR
VERSION:2.0
PRODID:-//DANCE SOUL 舞魂街舞學校 - ECPv6.15.18//NONSGML v1.0//EN
CALSCALE:GREGORIAN
METHOD:PUBLISH
X-ORIGINAL-URL:https://www.dancesoul.com.tw
X-WR-CALDESC:Events for DANCE SOUL 舞魂街舞學校
REFRESH-INTERVAL;VALUE=DURATION:PT1H
X-Robots-Tag:noindex
X-PUBLISHED-TTL:PT1H
BEGIN:VTIMEZONE
TZID:Asia/Shanghai
BEGIN:STANDARD
TZOFFSETFROM:+0800
TZOFFSETTO:+0800
TZNAME:CST
DTSTART:20240101T000000
END:STANDARD
END:VTIMEZONE
BEGIN:VEVENT
DTSTART;TZID=Asia/Shanghai:20250419T132000
DTEND;TZID=Asia/Shanghai:20250419T142000
DTSTAMP:20260421T060954
CREATED:20250328T082417Z
LAST-MODIFIED:20250328T082417Z
UID:10021390-1745068800-1745072400@www.dancesoul.com.tw
SUMMARY:兒童街舞-薇臻
DESCRIPTION:
URL:https://www.dancesoul.com.tw/schedule/%e5%85%92%e7%ab%a5%e8%a1%97%e8%88%9e-%e8%96%87%e8%87%bb-17/2025-04-19/
CATEGORIES:兒童街舞,兒童課,課程
END:VEVENT
BEGIN:VEVENT
DTSTART;TZID=Asia/Shanghai:20250419T143000
DTEND;TZID=Asia/Shanghai:20250419T153000
DTSTAMP:20260421T060954
CREATED:20250328T082609Z
LAST-MODIFIED:20250328T082609Z
UID:10021394-1745073000-1745076600@www.dancesoul.com.tw
SUMMARY:兒童MV-(BABYMONSER - BILLIONAIRE)-薇臻
DESCRIPTION:
URL:https://www.dancesoul.com.tw/schedule/%e5%85%92%e7%ab%a5mv-babymonser-billionaire-%e8%96%87%e8%87%bb/2025-04-19/
CATEGORIES:兒童MV,兒童課,課程
END:VEVENT
BEGIN:VEVENT
DTSTART;TZID=Asia/Shanghai:20250419T154000
DTEND;TZID=Asia/Shanghai:20250419T164000
DTSTAMP:20260421T060954
CREATED:20250328T082746Z
LAST-MODIFIED:20250328T082746Z
UID:10021398-1745077200-1745080800@www.dancesoul.com.tw
SUMMARY:兒童Krump-Coffee
DESCRIPTION:
URL:https://www.dancesoul.com.tw/schedule/%e5%85%92%e7%ab%a5krump-coffee-4/2025-04-19/
CATEGORIES:兒童Krump,兒童課,課程
END:VEVENT
BEGIN:VEVENT
DTSTART;TZID=Asia/Shanghai:20250419T165000
DTEND;TZID=Asia/Shanghai:20250419T175000
DTSTAMP:20260421T060954
CREATED:20250328T082945Z
LAST-MODIFIED:20250328T082945Z
UID:10021402-1745081400-1745085000@www.dancesoul.com.tw
SUMMARY:MV-(JENNIE - like JENNIE)-凝琦
DESCRIPTION:
URL:https://www.dancesoul.com.tw/schedule/mv-jennie-like-jennie-%e5%87%9d%e7%90%a6/2025-04-19/
CATEGORIES:MV課,課程
END:VEVENT
BEGIN:VEVENT
DTSTART;TZID=Asia/Shanghai:20250419T182000
DTEND;TZID=Asia/Shanghai:20250419T192000
DTSTAMP:20260421T060954
CREATED:20250328T083120Z
LAST-MODIFIED:20250328T083120Z
UID:10021406-1745086800-1745090400@www.dancesoul.com.tw
SUMMARY:Popping-紀威
DESCRIPTION:
URL:https://www.dancesoul.com.tw/schedule/popping-%e7%b4%80%e5%a8%81-51/2025-04-19/
CATEGORIES:Poppin,常態課_一般,課程
END:VEVENT
BEGIN:VEVENT
DTSTART;TZID=Asia/Shanghai:20250419T192500
DTEND;TZID=Asia/Shanghai:20250419T202500
DTSTAMP:20260421T060954
CREATED:20250328T083213Z
LAST-MODIFIED:20250328T083213Z
UID:10021410-1745090700-1745094300@www.dancesoul.com.tw
SUMMARY:Choreography(初)-無盡
DESCRIPTION:
URL:https://www.dancesoul.com.tw/schedule/choreography%e5%88%9d-%e7%84%a1%e7%9b%a1-11/2025-04-19/
CATEGORIES:Choreography 初級,常態課_初級,課程
END:VEVENT
BEGIN:VEVENT
DTSTART;TZID=Asia/Shanghai:20250419T203000
DTEND;TZID=Asia/Shanghai:20250419T213000
DTSTAMP:20260421T060954
CREATED:20250328T083404Z
LAST-MODIFIED:20250328T083404Z
UID:10021414-1745094600-1745098200@www.dancesoul.com.tw
SUMMARY:基礎入門-雞蛋
DESCRIPTION:
URL:https://www.dancesoul.com.tw/schedule/%e5%9f%ba%e7%a4%8e%e5%85%a5%e9%96%80-%e9%9b%9e%e8%9b%8b-38/2025-04-19/
CATEGORIES:基礎入門,常態課_初級,課程
END:VEVENT
BEGIN:VEVENT
DTSTART;TZID=Asia/Shanghai:20250420T132000
DTEND;TZID=Asia/Shanghai:20250420T142000
DTSTAMP:20260421T060954
CREATED:20250328T083512Z
LAST-MODIFIED:20250328T083512Z
UID:10021418-1745155200-1745158800@www.dancesoul.com.tw
SUMMARY:兒童街舞-羿芃
DESCRIPTION:
URL:https://www.dancesoul.com.tw/schedule/%e5%85%92%e7%ab%a5%e8%a1%97%e8%88%9e-%e7%be%bf%e8%8a%83-16/2025-04-20/
CATEGORIES:兒童街舞,兒童課,課程
END:VEVENT
BEGIN:VEVENT
DTSTART;TZID=Asia/Shanghai:20250420T143000
DTEND;TZID=Asia/Shanghai:20250420T153000
DTSTAMP:20260421T060954
CREATED:20250328T084126Z
LAST-MODIFIED:20250328T084126Z
UID:10021422-1745159400-1745163000@www.dancesoul.com.tw
SUMMARY:兒童MV-(LE SSERAFIM - HOT )-羿芃
DESCRIPTION:
URL:https://www.dancesoul.com.tw/schedule/%e5%85%92%e7%ab%a5mv-le-sserafim-hot-%e7%be%bf%e8%8a%83/2025-04-20/
CATEGORIES:兒童MV,兒童課,課程
END:VEVENT
BEGIN:VEVENT
DTSTART;TZID=Asia/Shanghai:20250420T154000
DTEND;TZID=Asia/Shanghai:20250420T164000
DTSTAMP:20260421T060954
CREATED:20250328T084420Z
LAST-MODIFIED:20250328T084420Z
UID:10021430-1745163600-1745167200@www.dancesoul.com.tw
SUMMARY:兒童 Street Jazz-傘傘
DESCRIPTION:
URL:https://www.dancesoul.com.tw/schedule/%e5%85%92%e7%ab%a5-street-jazz-%e5%82%98%e5%82%98-8/2025-04-20/
CATEGORIES:兒童 Street Jazz,兒童課,課程
END:VEVENT
BEGIN:VEVENT
DTSTART;TZID=Asia/Shanghai:20250420T165000
DTEND;TZID=Asia/Shanghai:20250420T175000
DTSTAMP:20260421T060954
CREATED:20250328T084242Z
LAST-MODIFIED:20250328T084242Z
UID:10021426-1745167800-1745171400@www.dancesoul.com.tw
SUMMARY:MV-(YEJI - Air)-瑜庭
DESCRIPTION:
URL:https://www.dancesoul.com.tw/schedule/mv-yeji-air-%e7%91%9c%e5%ba%ad/2025-04-20/
CATEGORIES:MV課,常態課_一般,課程
END:VEVENT
BEGIN:VEVENT
DTSTART;TZID=Asia/Shanghai:20250420T182000
DTEND;TZID=Asia/Shanghai:20250420T192000
DTSTAMP:20260421T060954
CREATED:20250328T084530Z
LAST-MODIFIED:20250328T084530Z
UID:10021434-1745173200-1745176800@www.dancesoul.com.tw
SUMMARY:Jazz Funk-姿昀
DESCRIPTION:
URL:https://www.dancesoul.com.tw/schedule/jazz-funk-%e5%a7%bf%e6%98%80-10/2025-04-20/
CATEGORIES:Jazz Funk,常態課_一般,課程
END:VEVENT
BEGIN:VEVENT
DTSTART;TZID=Asia/Shanghai:20250420T192500
DTEND;TZID=Asia/Shanghai:20250420T202500
DTSTAMP:20260421T060954
CREATED:20250328T084654Z
LAST-MODIFIED:20250328T084654Z
UID:10021438-1745177100-1745180700@www.dancesoul.com.tw
SUMMARY:Hip Hop(初)-承翰
DESCRIPTION:
URL:https://www.dancesoul.com.tw/schedule/hip-hop%e5%88%9d-%e6%89%bf%e7%bf%b0-15/2025-04-20/
CATEGORIES:Hip Hop 初級,常態課_初級,課程
END:VEVENT
BEGIN:VEVENT
DTSTART;TZID=Asia/Shanghai:20250421T182000
DTEND;TZID=Asia/Shanghai:20250421T192000
DTSTAMP:20260421T060954
CREATED:20250322T100819Z
LAST-MODIFIED:20250322T100819Z
UID:10021288-1745259600-1745263200@www.dancesoul.com.tw
SUMMARY:Twerk(初)-碗公
DESCRIPTION:
URL:https://www.dancesoul.com.tw/schedule/twerk%e5%88%9d-%e7%a2%97%e5%85%ac-41/2025-04-21/
CATEGORIES:Twerk 初級,常態課_初級,課程
END:VEVENT
BEGIN:VEVENT
DTSTART;TZID=Asia/Shanghai:20250421T192500
DTEND;TZID=Asia/Shanghai:20250421T202500
DTSTAMP:20260421T060954
CREATED:20250322T101535Z
LAST-MODIFIED:20250322T101535Z
UID:10021292-1745263500-1745267100@www.dancesoul.com.tw
SUMMARY:Heels(初)-宋靜
DESCRIPTION:
URL:https://www.dancesoul.com.tw/schedule/heels%e5%88%9d-%e5%ae%8b%e9%9d%9c-39/2025-04-21/
CATEGORIES:Heels 初級,常態課_初級,課程
END:VEVENT
BEGIN:VEVENT
DTSTART;TZID=Asia/Shanghai:20250421T203000
DTEND;TZID=Asia/Shanghai:20250421T213000
DTSTAMP:20260421T060954
CREATED:20250322T101955Z
LAST-MODIFIED:20250322T101955Z
UID:10021296-1745267400-1745271000@www.dancesoul.com.tw
SUMMARY:Jazz Funk-魏小美
DESCRIPTION:
URL:https://www.dancesoul.com.tw/schedule/jazz-funk-%e9%ad%8f%e5%b0%8f%e7%be%8e-82/2025-04-21/
CATEGORIES:Jazz Funk,常態課_一般,課程
END:VEVENT
BEGIN:VEVENT
DTSTART;TZID=Asia/Shanghai:20250422T182000
DTEND;TZID=Asia/Shanghai:20250422T192000
DTSTAMP:20260421T060954
CREATED:20250323T112104Z
LAST-MODIFIED:20250323T112730Z
UID:10021320-1745346000-1745349600@www.dancesoul.com.tw
SUMMARY:MV-(當日Dance Soul IG 限動公布歌曲)-薇臻
DESCRIPTION:
URL:https://www.dancesoul.com.tw/schedule/street-jazz-denis-55/2025-04-22/
CATEGORIES:MV課,常態課_一般,課程
END:VEVENT
BEGIN:VEVENT
DTSTART;TZID=Asia/Shanghai:20250422T192500
DTEND;TZID=Asia/Shanghai:20250422T202500
DTSTAMP:20260421T060954
CREATED:20250323T110819Z
LAST-MODIFIED:20250323T111604Z
UID:10021310-1745349900-1745353500@www.dancesoul.com.tw
SUMMARY:Street Jazz-Denis
DESCRIPTION:
URL:https://www.dancesoul.com.tw/schedule/mv-%e7%95%b6%e6%97%a5dance-soul-ig-%e9%99%90%e5%8b%95%e5%85%ac%e5%b8%83%e6%ad%8c%e6%9b%b2-%e8%96%87%e8%87%bb-8-2/2025-04-22/
CATEGORIES:STREET JAZZ,常態課_一般,課程
END:VEVENT
BEGIN:VEVENT
DTSTART;TZID=Asia/Shanghai:20250422T203000
DTEND;TZID=Asia/Shanghai:20250422T213000
DTSTAMP:20260421T060954
CREATED:20250323T113218Z
LAST-MODIFIED:20250323T113218Z
UID:10021325-1745353800-1745357400@www.dancesoul.com.tw
SUMMARY:Free Style-俊宏
DESCRIPTION:
URL:https://www.dancesoul.com.tw/schedule/free-style-%e4%bf%8a%e5%ae%8f-26/2025-04-22/
CATEGORIES:Freestyle,常態課_一般,課程
END:VEVENT
BEGIN:VEVENT
DTSTART;TZID=Asia/Shanghai:20250423T182000
DTEND;TZID=Asia/Shanghai:20250423T192000
DTSTAMP:20260421T060954
CREATED:20250323T113845Z
LAST-MODIFIED:20250323T113845Z
UID:10021330-1745432400-1745436000@www.dancesoul.com.tw
SUMMARY:Street Jazz(初)-Kyle
DESCRIPTION:
URL:https://www.dancesoul.com.tw/schedule/street-jazz%e5%88%9d-kyle-25/2025-04-23/
CATEGORIES:STREET JAZZ 初級,常態課_初級,課程
END:VEVENT
BEGIN:VEVENT
DTSTART;TZID=Asia/Shanghai:20250423T192500
DTEND;TZID=Asia/Shanghai:20250423T202500
DTSTAMP:20260421T060954
CREATED:20250328T075545Z
LAST-MODIFIED:20250328T075545Z
UID:10021345-1745436300-1745439900@www.dancesoul.com.tw
SUMMARY:Street Jazz-Larry
DESCRIPTION:
URL:https://www.dancesoul.com.tw/schedule/street-jazz-larry-27/2025-04-23/
CATEGORIES:STREET JAZZ,常態課_一般,課程
END:VEVENT
BEGIN:VEVENT
DTSTART;TZID=Asia/Shanghai:20250423T203000
DTEND;TZID=Asia/Shanghai:20250423T213000
DTSTAMP:20260421T060954
CREATED:20250328T075729Z
LAST-MODIFIED:20250328T075729Z
UID:10021350-1745440200-1745443800@www.dancesoul.com.tw
SUMMARY:Krump-Coffee
DESCRIPTION:
URL:https://www.dancesoul.com.tw/schedule/krump-coffee-3/2025-04-23/
CATEGORIES:Krump,常態課_一般,課程
END:VEVENT
BEGIN:VEVENT
DTSTART;TZID=Asia/Shanghai:20250423T213500
DTEND;TZID=Asia/Shanghai:20250423T223500
DTSTAMP:20260421T060954
CREATED:20250328T075952Z
LAST-MODIFIED:20250328T075952Z
UID:10021355-1745444100-1745447700@www.dancesoul.com.tw
SUMMARY:Free Style-承達
DESCRIPTION:
URL:https://www.dancesoul.com.tw/schedule/free-style-%e6%89%bf%e9%81%94-49/2025-04-23/
CATEGORIES:Freestyle,常態課_一般,課程
END:VEVENT
BEGIN:VEVENT
DTSTART;TZID=Asia/Shanghai:20250424T182000
DTEND;TZID=Asia/Shanghai:20250424T192000
DTSTAMP:20260421T060954
CREATED:20250328T080149Z
LAST-MODIFIED:20250328T080149Z
UID:10021360-1745518800-1745522400@www.dancesoul.com.tw
SUMMARY:Jazz Funk-瑜庭
DESCRIPTION:
URL:https://www.dancesoul.com.tw/schedule/jazz-funk-%e7%91%9c%e5%ba%ad-5/2025-04-24/
CATEGORIES:Jazz Funk,常態課_一般,課程
END:VEVENT
BEGIN:VEVENT
DTSTART;TZID=Asia/Shanghai:20250424T192500
DTEND;TZID=Asia/Shanghai:20250424T202500
DTSTAMP:20260421T060954
CREATED:20250328T080519Z
LAST-MODIFIED:20250328T080519Z
UID:10021364-1745522700-1745526300@www.dancesoul.com.tw
SUMMARY:Hip Hop(初)-佐佐
DESCRIPTION:
URL:https://www.dancesoul.com.tw/schedule/hip-hop%e5%88%9d-%e4%bd%90%e4%bd%90-22/2025-04-24/
CATEGORIES:Hip Hop 初級,常態課_初級,課程
END:VEVENT
BEGIN:VEVENT
DTSTART;TZID=Asia/Shanghai:20250424T203000
DTEND;TZID=Asia/Shanghai:20250424T213000
DTSTAMP:20260421T060954
CREATED:20250328T080624Z
LAST-MODIFIED:20250328T080624Z
UID:10021368-1745526600-1745530200@www.dancesoul.com.tw
SUMMARY:Hip Hop-林彤
DESCRIPTION:
URL:https://www.dancesoul.com.tw/schedule/hip-hop-%e6%9e%97%e5%bd%a4-28/2025-04-24/
END:VEVENT
BEGIN:VEVENT
DTSTART;TZID=Asia/Shanghai:20250424T213500
DTEND;TZID=Asia/Shanghai:20250424T223500
DTSTAMP:20260421T060954
CREATED:20250328T080803Z
LAST-MODIFIED:20250328T080803Z
UID:10021372-1745530500-1745534100@www.dancesoul.com.tw
SUMMARY:Choreography-巴豪
DESCRIPTION:
URL:https://www.dancesoul.com.tw/schedule/choreography-%e5%b7%b4%e8%b1%aa-4/2025-04-24/
CATEGORIES:Choreography,常態課_一般,課程
END:VEVENT
BEGIN:VEVENT
DTSTART;TZID=Asia/Shanghai:20250425T182000
DTEND;TZID=Asia/Shanghai:20250425T192000
DTSTAMP:20260421T060954
CREATED:20250328T080903Z
LAST-MODIFIED:20250328T080903Z
UID:10021376-1745605200-1745608800@www.dancesoul.com.tw
SUMMARY:Street Jazz(初)-Cen妹
DESCRIPTION:
URL:https://www.dancesoul.com.tw/schedule/street-jazz%e5%88%9d-cen%e5%a6%b9-42/2025-04-25/
CATEGORIES:STREET JAZZ 初級,常態課_初級,課程
END:VEVENT
BEGIN:VEVENT
DTSTART;TZID=Asia/Shanghai:20250425T192500
DTEND;TZID=Asia/Shanghai:20250425T202500
DTSTAMP:20260421T060954
CREATED:20250328T081052Z
LAST-MODIFIED:20250328T081052Z
UID:10021380-1745609100-1745612700@www.dancesoul.com.tw
SUMMARY:Street Jazz-邱邱
DESCRIPTION:
URL:https://www.dancesoul.com.tw/schedule/street-jazz-%e9%82%b1%e9%82%b1-2/2025-04-25/
CATEGORIES:STREET JAZZ,常態課_一般,課程
END:VEVENT
BEGIN:VEVENT
DTSTART;TZID=Asia/Shanghai:20250425T203000
DTEND;TZID=Asia/Shanghai:20250425T213000
DTSTAMP:20260421T060954
CREATED:20250328T081148Z
LAST-MODIFIED:20250328T081148Z
UID:10021384-1745613000-1745616600@www.dancesoul.com.tw
SUMMARY:Jazz Funk-鈴鐺
DESCRIPTION:
URL:https://www.dancesoul.com.tw/schedule/jazz-funk-%e9%88%b4%e9%90%ba-28/2025-04-25/
CATEGORIES:Jazz Funk,常態課_一般,課程
END:VEVENT
END:VCALENDAR