BEGIN:VCALENDAR
VERSION:2.0
PRODID:-//DANCE SOUL 舞魂街舞學校 - ECPv6.15.18//NONSGML v1.0//EN
CALSCALE:GREGORIAN
METHOD:PUBLISH
X-ORIGINAL-URL:https://www.dancesoul.com.tw
X-WR-CALDESC:Events for DANCE SOUL 舞魂街舞學校
REFRESH-INTERVAL;VALUE=DURATION:PT1H
X-Robots-Tag:noindex
X-PUBLISHED-TTL:PT1H
BEGIN:VTIMEZONE
TZID:Asia/Shanghai
BEGIN:STANDARD
TZOFFSETFROM:+0800
TZOFFSETTO:+0800
TZNAME:CST
DTSTART:20240101T000000
END:STANDARD
END:VTIMEZONE
BEGIN:VEVENT
DTSTART;TZID=Asia/Shanghai:20250625T192500
DTEND;TZID=Asia/Shanghai:20250625T202500
DTSTAMP:20260421T122648
CREATED:20250417T094436Z
LAST-MODIFIED:20250725T075734Z
UID:10021696-1750879500-1750883100@www.dancesoul.com.tw
SUMMARY:Street Jazz-Larry
DESCRIPTION:
URL:https://www.dancesoul.com.tw/schedule/street-jazz-larry-28/2025-06-25/
CATEGORIES:STREET JAZZ,常態課_一般,課程
END:VEVENT
BEGIN:VEVENT
DTSTART;TZID=Asia/Shanghai:20250625T203000
DTEND;TZID=Asia/Shanghai:20250625T213000
DTSTAMP:20260421T122648
CREATED:20250417T094025Z
LAST-MODIFIED:20250515T044303Z
UID:10021700-1750883400-1750887000@www.dancesoul.com.tw
SUMMARY:Street Jazz(初)-Kyle
DESCRIPTION:
URL:https://www.dancesoul.com.tw/schedule/street-jazz%e5%88%9d-kyle-26/2025-06-25/
CATEGORIES:STREET JAZZ 初級,常態課_初級,課程
END:VEVENT
BEGIN:VEVENT
DTSTART;TZID=Asia/Shanghai:20250625T213500
DTEND;TZID=Asia/Shanghai:20250625T223500
DTSTAMP:20260421T122648
CREATED:20250417T094806Z
LAST-MODIFIED:20250515T044442Z
UID:10021704-1750887300-1750890900@www.dancesoul.com.tw
SUMMARY:Free Style-承達
DESCRIPTION:
URL:https://www.dancesoul.com.tw/schedule/free-style-%e6%89%bf%e9%81%94-50/2025-06-25/
CATEGORIES:Freestyle,常態課_一般,課程
END:VEVENT
BEGIN:VEVENT
DTSTART;TZID=Asia/Shanghai:20250626T182000
DTEND;TZID=Asia/Shanghai:20250626T192000
DTSTAMP:20260421T122648
CREATED:20250417T095015Z
LAST-MODIFIED:20250515T044543Z
UID:10021708-1750962000-1750965600@www.dancesoul.com.tw
SUMMARY:Jazz Funk-瑜庭
DESCRIPTION:
URL:https://www.dancesoul.com.tw/schedule/jazz-funk-%e7%91%9c%e5%ba%ad-6/2025-06-26/
CATEGORIES:Jazz Funk,常態課_一般,課程
END:VEVENT
BEGIN:VEVENT
DTSTART;TZID=Asia/Shanghai:20250626T192500
DTEND;TZID=Asia/Shanghai:20250626T202500
DTSTAMP:20260421T122648
CREATED:20250417T095206Z
LAST-MODIFIED:20250515T044717Z
UID:10021712-1750965900-1750969500@www.dancesoul.com.tw
SUMMARY:Hip Hop(初)-佐佐
DESCRIPTION:
URL:https://www.dancesoul.com.tw/schedule/hip-hop%e5%88%9d-%e4%bd%90%e4%bd%90-23/2025-06-26/
CATEGORIES:Hip Hop 初級,常態課_初級,課程
END:VEVENT
BEGIN:VEVENT
DTSTART;TZID=Asia/Shanghai:20250626T203000
DTEND;TZID=Asia/Shanghai:20250626T213000
DTSTAMP:20260421T122648
CREATED:20250417T095336Z
LAST-MODIFIED:20250515T044810Z
UID:10021716-1750969800-1750973400@www.dancesoul.com.tw
SUMMARY:Hip Hop-林彤
DESCRIPTION:
URL:https://www.dancesoul.com.tw/schedule/hip-hop-%e6%9e%97%e5%bd%a4-29/2025-06-26/
CATEGORIES:Hip Hop,常態課_一般,課程
END:VEVENT
BEGIN:VEVENT
DTSTART;TZID=Asia/Shanghai:20250626T213500
DTEND;TZID=Asia/Shanghai:20250626T223500
DTSTAMP:20260421T122648
CREATED:20250417T095519Z
LAST-MODIFIED:20250515T044905Z
UID:10021720-1750973700-1750977300@www.dancesoul.com.tw
SUMMARY:Choreography-巴豪
DESCRIPTION:
URL:https://www.dancesoul.com.tw/schedule/choreography-%e5%b7%b4%e8%b1%aa-5/2025-06-26/
CATEGORIES:Choreography,常態課_一般,課程
END:VEVENT
BEGIN:VEVENT
DTSTART;TZID=Asia/Shanghai:20250627T182000
DTEND;TZID=Asia/Shanghai:20250627T192000
DTSTAMP:20260421T122648
CREATED:20250417T095647Z
LAST-MODIFIED:20250515T045043Z
UID:10021512-1751048400-1751052000@www.dancesoul.com.tw
SUMMARY:Street Jazz(初)-Cen妹
DESCRIPTION:
URL:https://www.dancesoul.com.tw/schedule/street-jazz%e5%88%9d-cen%e5%a6%b9-43/2025-06-27/
CATEGORIES:STREET JAZZ 初級,常態課_初級,課程
END:VEVENT
BEGIN:VEVENT
DTSTART;TZID=Asia/Shanghai:20250627T192500
DTEND;TZID=Asia/Shanghai:20250627T202500
DTSTAMP:20260421T122648
CREATED:20250417T095812Z
LAST-MODIFIED:20250515T045216Z
UID:10021724-1751052300-1751055900@www.dancesoul.com.tw
SUMMARY:Street Jazz-邱邱
DESCRIPTION:
URL:https://www.dancesoul.com.tw/schedule/street-jazz-%e9%82%b1%e9%82%b1-3/2025-06-27/
CATEGORIES:STREET JAZZ,常態課_一般,課程
END:VEVENT
BEGIN:VEVENT
DTSTART;TZID=Asia/Shanghai:20250627T203000
DTEND;TZID=Asia/Shanghai:20250627T213000
DTSTAMP:20260421T122648
CREATED:20250417T095943Z
LAST-MODIFIED:20250515T045301Z
UID:10021728-1751056200-1751059800@www.dancesoul.com.tw
SUMMARY:Jazz Funk-鈴鐺
DESCRIPTION:
URL:https://www.dancesoul.com.tw/schedule/jazz-funk-%e9%88%b4%e9%90%ba-29/2025-06-27/
CATEGORIES:Jazz Funk,常態課_一般,課程
END:VEVENT
BEGIN:VEVENT
DTSTART;TZID=Asia/Shanghai:20250628T133000
DTEND;TZID=Asia/Shanghai:20250628T143000
DTSTAMP:20260421T122648
CREATED:20250515T045605Z
LAST-MODIFIED:20250515T045605Z
UID:10021732-1751117400-1751121000@www.dancesoul.com.tw
SUMMARY:兒童街舞-薇臻
DESCRIPTION:
URL:https://www.dancesoul.com.tw/schedule/%e5%85%92%e7%ab%a5%e8%a1%97%e8%88%9e-%e8%96%87%e8%87%bb-19/2025-06-28/
CATEGORIES:兒童街舞
END:VEVENT
BEGIN:VEVENT
DTSTART;TZID=Asia/Shanghai:20250628T143000
DTEND;TZID=Asia/Shanghai:20250628T153000
DTSTAMP:20260421T122648
CREATED:20250515T045725Z
LAST-MODIFIED:20250515T045725Z
UID:10021736-1751121000-1751124600@www.dancesoul.com.tw
SUMMARY:兒童MV(MEOVV - Hands up)-薇臻
DESCRIPTION:
URL:https://www.dancesoul.com.tw/schedule/%e5%85%92%e7%ab%a5mvmeovv-hands-up-%e8%96%87%e8%87%bb/2025-06-28/
CATEGORIES:兒童MV
END:VEVENT
BEGIN:VEVENT
DTSTART;TZID=Asia/Shanghai:20250628T154000
DTEND;TZID=Asia/Shanghai:20250628T164000
DTSTAMP:20260421T122648
CREATED:20250417T100532Z
LAST-MODIFIED:20250515T045826Z
UID:10021740-1751125200-1751128800@www.dancesoul.com.tw
SUMMARY:兒童Krump-Coffee
DESCRIPTION:
URL:https://www.dancesoul.com.tw/schedule/%e5%85%92%e7%ab%a5krump-coffee-5/2025-06-28/
CATEGORIES:兒童Krump,兒童課,常態課_一般,課程
END:VEVENT
BEGIN:VEVENT
DTSTART;TZID=Asia/Shanghai:20250628T164000
DTEND;TZID=Asia/Shanghai:20250628T174000
DTSTAMP:20260421T122648
CREATED:20250901T055344Z
LAST-MODIFIED:20251202T055314Z
UID:10030717-1751128800-1751132400@www.dancesoul.com.tw
SUMMARY:MV(BABYMONSTER - ‘PSYCHO’)-凝琦
DESCRIPTION:
URL:https://www.dancesoul.com.tw/schedule/mvive-xoxz-%e5%87%9d%e7%90%a6/2025-06-28/
CATEGORIES:MV課,課程
END:VEVENT
BEGIN:VEVENT
DTSTART;TZID=Asia/Shanghai:20250628T165000
DTEND;TZID=Asia/Shanghai:20250628T175000
DTSTAMP:20260421T122648
CREATED:20250515T050454Z
LAST-MODIFIED:20250623T104653Z
UID:10021756-1751129400-1751133000@www.dancesoul.com.tw
SUMMARY:MV-凝琦
DESCRIPTION:
URL:https://www.dancesoul.com.tw/schedule/mv-%e5%87%9d%e7%90%a6/2025-06-28/
CATEGORIES:MV課
END:VEVENT
BEGIN:VEVENT
DTSTART;TZID=Asia/Shanghai:20250628T182000
DTEND;TZID=Asia/Shanghai:20250628T192000
DTSTAMP:20260421T122649
CREATED:20250417T100804Z
LAST-MODIFIED:20250515T050016Z
UID:10021744-1751134800-1751138400@www.dancesoul.com.tw
SUMMARY:Popping-紀威
DESCRIPTION:
URL:https://www.dancesoul.com.tw/schedule/popping-%e7%b4%80%e5%a8%81-52/2025-06-28/
CATEGORIES:Poppin,常態課_一般,課程
END:VEVENT
BEGIN:VEVENT
DTSTART;TZID=Asia/Shanghai:20250628T192500
DTEND;TZID=Asia/Shanghai:20250628T202500
DTSTAMP:20260421T122649
CREATED:20250417T101730Z
LAST-MODIFIED:20250515T050159Z
UID:10021748-1751138700-1751142300@www.dancesoul.com.tw
SUMMARY:Choreography(初)-無盡
DESCRIPTION:
URL:https://www.dancesoul.com.tw/schedule/choreography%e5%88%9d-%e7%84%a1%e7%9b%a1-12/2025-06-28/
CATEGORIES:Choreography 初級,常態課_初級,課程
END:VEVENT
BEGIN:VEVENT
DTSTART;TZID=Asia/Shanghai:20250628T203000
DTEND;TZID=Asia/Shanghai:20250628T213000
DTSTAMP:20260421T122649
CREATED:20250417T102000Z
LAST-MODIFIED:20250515T050254Z
UID:10021752-1751142600-1751146200@www.dancesoul.com.tw
SUMMARY:基礎入門-雞蛋
DESCRIPTION:
URL:https://www.dancesoul.com.tw/schedule/%e5%9f%ba%e7%a4%8e%e5%85%a5%e9%96%80-%e9%9b%9e%e8%9b%8b-39/2025-06-28/
CATEGORIES:基礎入門,常態課_初級,課程
END:VEVENT
BEGIN:VEVENT
DTSTART;TZID=Asia/Shanghai:20250629T132000
DTEND;TZID=Asia/Shanghai:20250629T142000
DTSTAMP:20260421T122649
CREATED:20250515T041317Z
LAST-MODIFIED:20250515T041317Z
UID:10021634-1751203200-1751206800@www.dancesoul.com.tw
SUMMARY:兒童街舞-羿芃
DESCRIPTION:
URL:https://www.dancesoul.com.tw/schedule/%e5%85%92%e7%ab%a5%e8%a1%97%e8%88%9e-%e7%be%bf%e8%8a%83-18/2025-06-29/
CATEGORIES:兒童街舞
END:VEVENT
BEGIN:VEVENT
DTSTART;TZID=Asia/Shanghai:20250629T143000
DTEND;TZID=Asia/Shanghai:20250629T153000
DTSTAMP:20260421T122649
CREATED:20250515T041633Z
LAST-MODIFIED:20250515T041633Z
UID:10021639-1751207400-1751211000@www.dancesoul.com.tw
SUMMARY:兒童MV-羿芃
DESCRIPTION:
URL:https://www.dancesoul.com.tw/schedule/%e5%85%92%e7%ab%a5mv-%e7%be%bf%e8%8a%83/2025-06-29/
CATEGORIES:兒童MV
END:VEVENT
BEGIN:VEVENT
DTSTART;TZID=Asia/Shanghai:20250629T154000
DTEND;TZID=Asia/Shanghai:20250629T164000
DTSTAMP:20260421T122649
CREATED:20250515T042016Z
LAST-MODIFIED:20250515T042016Z
UID:10021644-1751211600-1751215200@www.dancesoul.com.tw
SUMMARY:兒童Street Jazz-傘傘
DESCRIPTION:
URL:https://www.dancesoul.com.tw/schedule/%e5%85%92%e7%ab%a5street-jazz-%e5%82%98%e5%82%98-2/2025-06-29/
CATEGORIES:兒童 Street Jazz
END:VEVENT
BEGIN:VEVENT
DTSTART;TZID=Asia/Shanghai:20250629T165000
DTEND;TZID=Asia/Shanghai:20250629T175000
DTSTAMP:20260421T122649
CREATED:20250515T042232Z
LAST-MODIFIED:20250515T042232Z
UID:10021649-1751215800-1751219400@www.dancesoul.com.tw
SUMMARY:MV(MEOVV - Hands up)-瑜庭
DESCRIPTION:
URL:https://www.dancesoul.com.tw/schedule/mvmeovv-hands-up-%e7%91%9c%e5%ba%ad/2025-06-29/
CATEGORIES:MV課
END:VEVENT
BEGIN:VEVENT
DTSTART;TZID=Asia/Shanghai:20250629T182000
DTEND;TZID=Asia/Shanghai:20250629T192000
DTSTAMP:20260421T122649
CREATED:20250515T042413Z
LAST-MODIFIED:20250515T042413Z
UID:10021654-1751221200-1751224800@www.dancesoul.com.tw
SUMMARY:Jazz Funk-姿昀
DESCRIPTION:
URL:https://www.dancesoul.com.tw/schedule/jazz-funk-%e5%a7%bf%e6%98%80-12/2025-06-29/
CATEGORIES:Jazz Funk
END:VEVENT
BEGIN:VEVENT
DTSTART;TZID=Asia/Shanghai:20250629T192500
DTEND;TZID=Asia/Shanghai:20250629T202500
DTSTAMP:20260421T122649
CREATED:20250515T042639Z
LAST-MODIFIED:20250515T042639Z
UID:10021659-1751225100-1751228700@www.dancesoul.com.tw
SUMMARY:Hip Hop(初)-Rod
DESCRIPTION:
URL:https://www.dancesoul.com.tw/schedule/hip-hop%e5%88%9d-rod-2/2025-06-29/
CATEGORIES:Hip Hop
END:VEVENT
BEGIN:VEVENT
DTSTART;TZID=Asia/Shanghai:20250630T182000
DTEND;TZID=Asia/Shanghai:20250630T192000
DTSTAMP:20260421T122649
CREATED:20250417T091105Z
LAST-MODIFIED:20250515T043131Z
UID:10021665-1751307600-1751311200@www.dancesoul.com.tw
SUMMARY:Twerk(初)-碗公
DESCRIPTION:
URL:https://www.dancesoul.com.tw/schedule/twerk%e5%88%9d-%e7%a2%97%e5%85%ac-42/2025-06-30/
CATEGORIES:Twerk 初級,常態課_初級,課程
END:VEVENT
BEGIN:VEVENT
DTSTART;TZID=Asia/Shanghai:20250630T192500
DTEND;TZID=Asia/Shanghai:20250630T202500
DTSTAMP:20260421T122649
CREATED:20250417T091529Z
LAST-MODIFIED:20250515T043326Z
UID:10021671-1751311500-1751315100@www.dancesoul.com.tw
SUMMARY:Heels(初)-宋靜
DESCRIPTION:
URL:https://www.dancesoul.com.tw/schedule/heels%e5%88%9d-%e5%ae%8b%e9%9d%9c-40/2025-06-30/
CATEGORIES:Heels 初級,常態課_初級,課程
END:VEVENT
BEGIN:VEVENT
DTSTART;TZID=Asia/Shanghai:20250630T203000
DTEND;TZID=Asia/Shanghai:20250630T213000
DTSTAMP:20260421T122649
CREATED:20250417T091745Z
LAST-MODIFIED:20250515T043433Z
UID:10021676-1751315400-1751319000@www.dancesoul.com.tw
SUMMARY:Jazz Funk-魏小美
DESCRIPTION:
URL:https://www.dancesoul.com.tw/schedule/jazz-funk-%e9%ad%8f%e5%b0%8f%e7%be%8e-83/2025-06-30/
CATEGORIES:Jazz Funk,常態課_一般,課程
END:VEVENT
BEGIN:VEVENT
DTSTART;TZID=Asia/Shanghai:20250701T143000
DTEND;TZID=Asia/Shanghai:20250701T153000
DTSTAMP:20260421T122649
CREATED:20250623T120518Z
LAST-MODIFIED:20250725T074800Z
UID:10021841-1751380200-1751383800@www.dancesoul.com.tw
SUMMARY:Street Jazz-Cen妹
DESCRIPTION:
URL:https://www.dancesoul.com.tw/schedule/street-jazz-cen%e5%a6%b9/2025-07-01/
CATEGORIES:STREET JAZZ
END:VEVENT
BEGIN:VEVENT
DTSTART;TZID=Asia/Shanghai:20250701T154000
DTEND;TZID=Asia/Shanghai:20250701T164000
DTSTAMP:20260421T122649
CREATED:20250623T121009Z
LAST-MODIFIED:20250725T074903Z
UID:10021846-1751384400-1751388000@www.dancesoul.com.tw
SUMMARY:MV-俊宏
DESCRIPTION:
URL:https://www.dancesoul.com.tw/schedule/mv-%e4%bf%8a%e5%ae%8f/2025-07-01/
CATEGORIES:MV課
END:VEVENT
BEGIN:VEVENT
DTSTART;TZID=Asia/Shanghai:20250701T165000
DTEND;TZID=Asia/Shanghai:20250701T175000
DTSTAMP:20260421T122649
CREATED:20250623T121143Z
LAST-MODIFIED:20250623T121143Z
UID:10021851-1751388600-1751392200@www.dancesoul.com.tw
SUMMARY:MV-凝琦x薇臻
DESCRIPTION:
URL:https://www.dancesoul.com.tw/schedule/mv-%e5%87%9d%e7%90%a6x%e8%96%87%e8%87%bb/2025-07-01/
CATEGORIES:MV課,特別課程
END:VEVENT
END:VCALENDAR