BEGIN:VCALENDAR
VERSION:2.0
PRODID:-//DANCE SOUL 舞魂街舞學校 - ECPv6.15.18//NONSGML v1.0//EN
CALSCALE:GREGORIAN
METHOD:PUBLISH
X-WR-CALNAME:DANCE SOUL 舞魂街舞學校
X-ORIGINAL-URL:https://www.dancesoul.com.tw
X-WR-CALDESC:Events for DANCE SOUL 舞魂街舞學校
REFRESH-INTERVAL;VALUE=DURATION:PT1H
X-Robots-Tag:noindex
X-PUBLISHED-TTL:PT1H
BEGIN:VTIMEZONE
TZID:Asia/Shanghai
BEGIN:STANDARD
TZOFFSETFROM:+0800
TZOFFSETTO:+0800
TZNAME:CST
DTSTART:20240101T000000
END:STANDARD
END:VTIMEZONE
BEGIN:VEVENT
DTSTART;TZID=Asia/Shanghai:20250507T213500
DTEND;TZID=Asia/Shanghai:20250507T223500
DTSTAMP:20260421T122737
CREATED:20250417T094806Z
LAST-MODIFIED:20250515T044442Z
UID:10021480-1746653700-1746657300@www.dancesoul.com.tw
SUMMARY:Free Style-承達
DESCRIPTION:
URL:https://www.dancesoul.com.tw/schedule/free-style-%e6%89%bf%e9%81%94-50/2025-05-07/
CATEGORIES:Freestyle,常態課_一般,課程
END:VEVENT
BEGIN:VEVENT
DTSTART;TZID=Asia/Shanghai:20250507T203000
DTEND;TZID=Asia/Shanghai:20250507T213000
DTSTAMP:20260421T122737
CREATED:20250417T094025Z
LAST-MODIFIED:20250515T044303Z
UID:10021468-1746649800-1746653400@www.dancesoul.com.tw
SUMMARY:Street Jazz(初)-Kyle
DESCRIPTION:
URL:https://www.dancesoul.com.tw/schedule/street-jazz%e5%88%9d-kyle-26/2025-05-07/
CATEGORIES:STREET JAZZ 初級,常態課_初級,課程
END:VEVENT
BEGIN:VEVENT
DTSTART;TZID=Asia/Shanghai:20250507T192500
DTEND;TZID=Asia/Shanghai:20250507T202500
DTSTAMP:20260421T122737
CREATED:20250417T094436Z
LAST-MODIFIED:20250725T075734Z
UID:10021472-1746645900-1746649500@www.dancesoul.com.tw
SUMMARY:Street Jazz-Larry
DESCRIPTION:
URL:https://www.dancesoul.com.tw/schedule/street-jazz-larry-28/2025-05-07/
CATEGORIES:STREET JAZZ,常態課_一般,課程
END:VEVENT
BEGIN:VEVENT
DTSTART;TZID=Asia/Shanghai:20250507T182000
DTEND;TZID=Asia/Shanghai:20250507T192000
DTSTAMP:20260421T122737
CREATED:20250417T094623Z
LAST-MODIFIED:20250725T075554Z
UID:10021476-1746642000-1746645600@www.dancesoul.com.tw
SUMMARY:Krump-Coffee
DESCRIPTION:
URL:https://www.dancesoul.com.tw/schedule/krump-coffee-5/2025-05-07/
CATEGORIES:Krump,常態課_一般,課程
END:VEVENT
BEGIN:VEVENT
DTSTART;TZID=Asia/Shanghai:20250506T203000
DTEND;TZID=Asia/Shanghai:20250506T213000
DTSTAMP:20260421T122737
CREATED:20250417T093643Z
LAST-MODIFIED:20250515T044021Z
UID:10021460-1746563400-1746567000@www.dancesoul.com.tw
SUMMARY:Free Style-俊宏
DESCRIPTION:
URL:https://www.dancesoul.com.tw/schedule/free-style-%e4%bf%8a%e5%ae%8f-27/2025-05-06/
CATEGORIES:Freestyle,常態課_一般,課程
END:VEVENT
BEGIN:VEVENT
DTSTART;TZID=Asia/Shanghai:20250506T192500
DTEND;TZID=Asia/Shanghai:20250506T202500
DTSTAMP:20260421T122737
CREATED:20250417T093453Z
LAST-MODIFIED:20250515T043908Z
UID:10021456-1746559500-1746563100@www.dancesoul.com.tw
SUMMARY:Street Jazz-Denis
DESCRIPTION:
URL:https://www.dancesoul.com.tw/schedule/street-jazz-denis-56/2025-05-06/
CATEGORIES:STREET JAZZ,常態課_一般,課程
END:VEVENT
BEGIN:VEVENT
DTSTART;TZID=Asia/Shanghai:20250506T182000
DTEND;TZID=Asia/Shanghai:20250506T192000
DTSTAMP:20260421T122737
CREATED:20250417T093101Z
LAST-MODIFIED:20250504T043814Z
UID:10021452-1746555600-1746559200@www.dancesoul.com.tw
SUMMARY:MV-(當日Dance Soul IG 限動公布歌曲)-薇臻
DESCRIPTION:
URL:https://www.dancesoul.com.tw/schedule/mv-%e7%95%b6%e6%97%a5dance-soul-ig-%e9%99%90%e5%8b%95%e5%85%ac%e5%b8%83%e6%ad%8c%e6%9b%b2-%e8%96%87%e8%87%bb-9/2025-05-06/
CATEGORIES:MV課,課程
END:VEVENT
BEGIN:VEVENT
DTSTART;TZID=Asia/Shanghai:20250505T203000
DTEND;TZID=Asia/Shanghai:20250505T213000
DTSTAMP:20260421T122737
CREATED:20250417T091745Z
LAST-MODIFIED:20250515T043433Z
UID:10021448-1746477000-1746480600@www.dancesoul.com.tw
SUMMARY:Jazz Funk-魏小美
DESCRIPTION:
URL:https://www.dancesoul.com.tw/schedule/jazz-funk-%e9%ad%8f%e5%b0%8f%e7%be%8e-83/2025-05-05/
CATEGORIES:Jazz Funk,常態課_一般,課程
END:VEVENT
BEGIN:VEVENT
DTSTART;TZID=Asia/Shanghai:20250505T192500
DTEND;TZID=Asia/Shanghai:20250505T202500
DTSTAMP:20260421T122737
CREATED:20250417T091529Z
LAST-MODIFIED:20250515T043326Z
UID:10021444-1746473100-1746476700@www.dancesoul.com.tw
SUMMARY:Heels(初)-宋靜
DESCRIPTION:
URL:https://www.dancesoul.com.tw/schedule/heels%e5%88%9d-%e5%ae%8b%e9%9d%9c-40/2025-05-05/2/
CATEGORIES:Heels 初級,常態課_初級,課程
END:VEVENT
BEGIN:VEVENT
DTSTART;TZID=Asia/Shanghai:20250505T182000
DTEND;TZID=Asia/Shanghai:20250505T192000
DTSTAMP:20260421T122737
CREATED:20250417T091105Z
LAST-MODIFIED:20250515T043131Z
UID:10021440-1746469200-1746472800@www.dancesoul.com.tw
SUMMARY:Twerk(初)-碗公
DESCRIPTION:
URL:https://www.dancesoul.com.tw/schedule/twerk%e5%88%9d-%e7%a2%97%e5%85%ac-42/2025-05-05/
CATEGORIES:Twerk 初級,常態課_初級,課程
END:VEVENT
BEGIN:VEVENT
DTSTART;TZID=Asia/Shanghai:20250505T080000
DTEND;TZID=Asia/Shanghai:20250505T170000
DTSTAMP:20260421T122737
CREATED:20250417T091529Z
LAST-MODIFIED:20250515T043326Z
UID:10021666-1746432000-1746464400@www.dancesoul.com.tw
SUMMARY:Heels(初)-宋靜
DESCRIPTION:
URL:https://www.dancesoul.com.tw/schedule/heels%e5%88%9d-%e5%ae%8b%e9%9d%9c-40/2025-05-05/1/
CATEGORIES:Heels 初級,常態課_初級,課程
END:VEVENT
BEGIN:VEVENT
DTSTART;TZID=Asia/Shanghai:20250504T192500
DTEND;TZID=Asia/Shanghai:20250504T202500
DTSTAMP:20260421T122737
CREATED:20250418T064812Z
LAST-MODIFIED:20250418T064812Z
UID:10021608-1746386700-1746390300@www.dancesoul.com.tw
SUMMARY:Hip Hop(初)-Rod
DESCRIPTION:
URL:https://www.dancesoul.com.tw/schedule/hip-hop%e5%88%9d-rod/2025-05-04/
CATEGORIES:Hip Hop 初級,常態課_初級,課程
END:VEVENT
BEGIN:VEVENT
DTSTART;TZID=Asia/Shanghai:20250504T165000
DTEND;TZID=Asia/Shanghai:20250504T175000
DTSTAMP:20260421T122737
CREATED:20250421T081956Z
LAST-MODIFIED:20250421T085242Z
UID:10021626-1746377400-1746381000@www.dancesoul.com.tw
SUMMARY:MV-( LISA-FUTW)-瑜庭
DESCRIPTION:
URL:https://www.dancesoul.com.tw/schedule/%e7%91%9c%e5%ba%ad%ef%bc%88%e9%80%b1%e6%97%a5-lisa-futw/2025-05-04/
CATEGORIES:MV課,課程
END:VEVENT
BEGIN:VEVENT
DTSTART;TZID=Asia/Shanghai:20250504T165000
DTEND;TZID=Asia/Shanghai:20250504T175000
DTSTAMP:20260421T122737
CREATED:20250417T103045Z
LAST-MODIFIED:20250417T103045Z
UID:10021604-1746377400-1746381000@www.dancesoul.com.tw
SUMMARY:Jazz Funk-姿昀
DESCRIPTION:
URL:https://www.dancesoul.com.tw/schedule/jazz-funk-%e5%a7%bf%e6%98%80-11/2025-05-04/
CATEGORIES:Jazz Funk,常態課_一般,課程
END:VEVENT
BEGIN:VEVENT
DTSTART;TZID=Asia/Shanghai:20250504T154000
DTEND;TZID=Asia/Shanghai:20250504T164000
DTSTAMP:20260421T122737
CREATED:20250417T102858Z
LAST-MODIFIED:20250417T102858Z
UID:10021600-1746373200-1746376800@www.dancesoul.com.tw
SUMMARY:兒童 Street Jazz-傘傘
DESCRIPTION:
URL:https://www.dancesoul.com.tw/schedule/%e5%85%92%e7%ab%a5-street-jazz-%e5%82%98%e5%82%98-9/2025-05-04/
CATEGORIES:兒童 Street Jazz,兒童課,常態課_一般,課程
END:VEVENT
BEGIN:VEVENT
DTSTART;TZID=Asia/Shanghai:20250504T143000
DTEND;TZID=Asia/Shanghai:20250504T153000
DTSTAMP:20260421T122737
CREATED:20250421T073623Z
LAST-MODIFIED:20250421T073623Z
UID:10021622-1746369000-1746372600@www.dancesoul.com.tw
SUMMARY:兒童MV-(izna-Sign )-羿芃
DESCRIPTION:
URL:https://www.dancesoul.com.tw/schedule/%e5%85%92%e7%ab%a5mv-izna-sign-%e7%be%bf%e8%8a%83/2025-05-04/
CATEGORIES:MV課,兒童MV,兒童課,課程
END:VEVENT
BEGIN:VEVENT
DTSTART;TZID=Asia/Shanghai:20250504T132000
DTEND;TZID=Asia/Shanghai:20250504T142000
DTSTAMP:20260421T122737
CREATED:20250417T102325Z
LAST-MODIFIED:20250417T102325Z
UID:10021596-1746364800-1746368400@www.dancesoul.com.tw
SUMMARY:兒童街舞-羿芃
DESCRIPTION:
URL:https://www.dancesoul.com.tw/schedule/%e5%85%92%e7%ab%a5%e8%a1%97%e8%88%9e-%e7%be%bf%e8%8a%83-17/2025-05-04/
CATEGORIES:兒童基礎街舞,兒童街舞,兒童課,常態課_一般,課程
END:VEVENT
BEGIN:VEVENT
DTSTART;TZID=Asia/Shanghai:20250503T203000
DTEND;TZID=Asia/Shanghai:20250503T213000
DTSTAMP:20260421T122737
CREATED:20250417T102000Z
LAST-MODIFIED:20250515T050254Z
UID:10021591-1746304200-1746307800@www.dancesoul.com.tw
SUMMARY:基礎入門-雞蛋
DESCRIPTION:
URL:https://www.dancesoul.com.tw/schedule/%e5%9f%ba%e7%a4%8e%e5%85%a5%e9%96%80-%e9%9b%9e%e8%9b%8b-39/2025-05-03/
CATEGORIES:基礎入門,常態課_初級,課程
END:VEVENT
BEGIN:VEVENT
DTSTART;TZID=Asia/Shanghai:20250503T192500
DTEND;TZID=Asia/Shanghai:20250503T202500
DTSTAMP:20260421T122737
CREATED:20250417T101730Z
LAST-MODIFIED:20250515T050159Z
UID:10021586-1746300300-1746303900@www.dancesoul.com.tw
SUMMARY:Choreography(初)-無盡
DESCRIPTION:
URL:https://www.dancesoul.com.tw/schedule/choreography%e5%88%9d-%e7%84%a1%e7%9b%a1-12/2025-05-03/
CATEGORIES:Choreography 初級,常態課_初級,課程
END:VEVENT
BEGIN:VEVENT
DTSTART;TZID=Asia/Shanghai:20250503T182000
DTEND;TZID=Asia/Shanghai:20250503T192000
DTSTAMP:20260421T122737
CREATED:20250417T100804Z
LAST-MODIFIED:20250515T050016Z
UID:10021581-1746296400-1746300000@www.dancesoul.com.tw
SUMMARY:Popping-紀威
DESCRIPTION:
URL:https://www.dancesoul.com.tw/schedule/popping-%e7%b4%80%e5%a8%81-52/2025-05-03/
CATEGORIES:Poppin,常態課_一般,課程
END:VEVENT
BEGIN:VEVENT
DTSTART;TZID=Asia/Shanghai:20250503T165000
DTEND;TZID=Asia/Shanghai:20250503T175000
DTSTAMP:20260421T122737
CREATED:20250421T073004Z
LAST-MODIFIED:20250421T073004Z
UID:10021617-1746291000-1746294600@www.dancesoul.com.tw
SUMMARY:MV-(YEJI-Air)-凝琦
DESCRIPTION:
URL:https://www.dancesoul.com.tw/schedule/mv-yeji-air-%e5%87%9d%e7%90%a6/2025-05-03/
CATEGORIES:MV課,課程
END:VEVENT
BEGIN:VEVENT
DTSTART;TZID=Asia/Shanghai:20250503T154000
DTEND;TZID=Asia/Shanghai:20250503T164000
DTSTAMP:20260421T122737
CREATED:20250417T100532Z
LAST-MODIFIED:20250515T045826Z
UID:10021576-1746286800-1746290400@www.dancesoul.com.tw
SUMMARY:兒童Krump-Coffee
DESCRIPTION:
URL:https://www.dancesoul.com.tw/schedule/%e5%85%92%e7%ab%a5krump-coffee-5/2025-05-03/
CATEGORIES:兒童Krump,兒童課,常態課_一般,課程
END:VEVENT
BEGIN:VEVENT
DTSTART;TZID=Asia/Shanghai:20250503T143000
DTEND;TZID=Asia/Shanghai:20250503T153000
DTSTAMP:20260421T122737
CREATED:20250421T072732Z
LAST-MODIFIED:20250421T072732Z
UID:10021612-1746282600-1746286200@www.dancesoul.com.tw
SUMMARY:兒童MV-(YEJI-Air)-薇臻
DESCRIPTION:
URL:https://www.dancesoul.com.tw/schedule/%e5%85%92%e7%ab%a5mv-yeji-air-%e8%96%87%e8%87%bb/2025-05-03/
CATEGORIES:MV課,兒童MV,兒童課,課程
END:VEVENT
BEGIN:VEVENT
DTSTART;TZID=Asia/Shanghai:20250503T132000
DTEND;TZID=Asia/Shanghai:20250503T142000
DTSTAMP:20260421T122737
CREATED:20250417T100338Z
LAST-MODIFIED:20250417T100338Z
UID:10021571-1746278400-1746282000@www.dancesoul.com.tw
SUMMARY:兒童街舞-薇臻
DESCRIPTION:
URL:https://www.dancesoul.com.tw/schedule/%e5%85%92%e7%ab%a5%e8%a1%97%e8%88%9e-%e8%96%87%e8%87%bb-18/2025-05-03/
CATEGORIES:兒童基礎街舞,兒童街舞,兒童課,常態課_一般,課程
END:VEVENT
BEGIN:VEVENT
DTSTART;TZID=Asia/Shanghai:20250502T203000
DTEND;TZID=Asia/Shanghai:20250502T213000
DTSTAMP:20260421T122737
CREATED:20250417T095943Z
LAST-MODIFIED:20250515T045301Z
UID:10021566-1746217800-1746221400@www.dancesoul.com.tw
SUMMARY:Jazz Funk-鈴鐺
DESCRIPTION:
URL:https://www.dancesoul.com.tw/schedule/jazz-funk-%e9%88%b4%e9%90%ba-29/2025-05-02/
CATEGORIES:Jazz Funk,常態課_一般,課程
END:VEVENT
BEGIN:VEVENT
DTSTART;TZID=Asia/Shanghai:20250502T192500
DTEND;TZID=Asia/Shanghai:20250502T202500
DTSTAMP:20260421T122737
CREATED:20250417T095812Z
LAST-MODIFIED:20250515T045216Z
UID:10021561-1746213900-1746217500@www.dancesoul.com.tw
SUMMARY:Street Jazz-邱邱
DESCRIPTION:
URL:https://www.dancesoul.com.tw/schedule/street-jazz-%e9%82%b1%e9%82%b1-3/2025-05-02/
CATEGORIES:STREET JAZZ,常態課_一般,課程
END:VEVENT
BEGIN:VEVENT
DTSTART;TZID=Asia/Shanghai:20250502T182000
DTEND;TZID=Asia/Shanghai:20250502T192000
DTSTAMP:20260421T122737
CREATED:20250417T095647Z
LAST-MODIFIED:20250515T045043Z
UID:10021504-1746210000-1746213600@www.dancesoul.com.tw
SUMMARY:Street Jazz(初)-Cen妹
DESCRIPTION:
URL:https://www.dancesoul.com.tw/schedule/street-jazz%e5%88%9d-cen%e5%a6%b9-43/2025-05-02/
CATEGORIES:STREET JAZZ 初級,常態課_初級,課程
END:VEVENT
BEGIN:VEVENT
DTSTART;TZID=Asia/Shanghai:20250501T213500
DTEND;TZID=Asia/Shanghai:20250501T223500
DTSTAMP:20260421T122737
CREATED:20250417T095519Z
LAST-MODIFIED:20250515T044905Z
UID:10021499-1746135300-1746138900@www.dancesoul.com.tw
SUMMARY:Choreography-巴豪
DESCRIPTION:
URL:https://www.dancesoul.com.tw/schedule/choreography-%e5%b7%b4%e8%b1%aa-5/2025-05-01/
CATEGORIES:Choreography,常態課_一般,課程
END:VEVENT
BEGIN:VEVENT
DTSTART;TZID=Asia/Shanghai:20250501T203000
DTEND;TZID=Asia/Shanghai:20250501T213000
DTSTAMP:20260421T122737
CREATED:20250417T095336Z
LAST-MODIFIED:20250515T044810Z
UID:10021494-1746131400-1746135000@www.dancesoul.com.tw
SUMMARY:Hip Hop-林彤
DESCRIPTION:
URL:https://www.dancesoul.com.tw/schedule/hip-hop-%e6%9e%97%e5%bd%a4-29/2025-05-01/
CATEGORIES:Hip Hop,常態課_一般,課程
END:VEVENT
BEGIN:VEVENT
DTSTART;TZID=Asia/Shanghai:20250501T192500
DTEND;TZID=Asia/Shanghai:20250501T202500
DTSTAMP:20260421T122737
CREATED:20250417T095206Z
LAST-MODIFIED:20250515T044717Z
UID:10021489-1746127500-1746131100@www.dancesoul.com.tw
SUMMARY:Hip Hop(初)-佐佐
DESCRIPTION:
URL:https://www.dancesoul.com.tw/schedule/hip-hop%e5%88%9d-%e4%bd%90%e4%bd%90-23/2025-05-01/
CATEGORIES:Hip Hop 初級,常態課_初級,課程
END:VEVENT
END:VCALENDAR