BEGIN:VCALENDAR
VERSION:2.0
PRODID:-//DANCE SOUL 舞魂街舞學校 - ECPv6.15.18//NONSGML v1.0//EN
CALSCALE:GREGORIAN
METHOD:PUBLISH
X-WR-CALNAME:DANCE SOUL 舞魂街舞學校
X-ORIGINAL-URL:https://www.dancesoul.com.tw
X-WR-CALDESC:Events for DANCE SOUL 舞魂街舞學校
REFRESH-INTERVAL;VALUE=DURATION:PT1H
X-Robots-Tag:noindex
X-PUBLISHED-TTL:PT1H
BEGIN:VTIMEZONE
TZID:Asia/Shanghai
BEGIN:STANDARD
TZOFFSETFROM:+0800
TZOFFSETTO:+0800
TZNAME:CST
DTSTART:20250101T000000
END:STANDARD
END:VTIMEZONE
BEGIN:VEVENT
DTSTART;TZID=Asia/Shanghai:20260306T192500
DTEND;TZID=Asia/Shanghai:20260306T202500
DTSTAMP:20260421T122759
CREATED:20260327T090205Z
LAST-MODIFIED:20260327T090205Z
UID:10037411-1772825100-1772828700@www.dancesoul.com.tw
SUMMARY:Street Jazz-CenMei
DESCRIPTION:
URL:https://www.dancesoul.com.tw/schedule/street-jazz-cenmei/2026-03-06/
END:VEVENT
BEGIN:VEVENT
DTSTART;TZID=Asia/Shanghai:20260306T182000
DTEND;TZID=Asia/Shanghai:20260306T192000
DTSTAMP:20260421T122759
CREATED:20260327T083919Z
LAST-MODIFIED:20260327T083920Z
UID:10022860-1772821200-1772824800@www.dancesoul.com.tw
SUMMARY:Twerk（初）-碗公
DESCRIPTION:
URL:https://www.dancesoul.com.tw/schedule/twerk%ef%bc%88%e5%88%9d%ef%bc%89-%e7%a2%97%e5%85%ac-2-2/2026-03-06/
END:VEVENT
BEGIN:VEVENT
DTSTART;TZID=Asia/Shanghai:20260305T213500
DTEND;TZID=Asia/Shanghai:20260305T223500
DTSTAMP:20260421T122759
CREATED:20250828T104929Z
LAST-MODIFIED:20250828T104929Z
UID:10026247-1772746500-1772750100@www.dancesoul.com.tw
SUMMARY:Choreography-巴豪
DESCRIPTION:
URL:https://www.dancesoul.com.tw/schedule/choreography-%e5%b7%b4%e8%b1%aa-7/2026-03-05/
CATEGORIES:Choreography,常態課_一般,課程
END:VEVENT
BEGIN:VEVENT
DTSTART;TZID=Asia/Shanghai:20260305T203000
DTEND;TZID=Asia/Shanghai:20260305T213000
DTSTAMP:20260421T122759
CREATED:20260327T085246Z
LAST-MODIFIED:20260327T085313Z
UID:10036089-1772742600-1772746200@www.dancesoul.com.tw
SUMMARY:Choreography-HU RUEI胡睿
DESCRIPTION:
URL:https://www.dancesoul.com.tw/schedule/choreography-hu-ruei%e8%83%a1%e7%9d%bf/2026-03-05/
END:VEVENT
BEGIN:VEVENT
DTSTART;TZID=Asia/Shanghai:20260305T192500
DTEND;TZID=Asia/Shanghai:20260305T202500
DTSTAMP:20260421T122759
CREATED:20260327T082918Z
LAST-MODIFIED:20260327T084510Z
UID:10034767-1772738700-1772742300@www.dancesoul.com.tw
SUMMARY:Hip Hop(初)-林彤
DESCRIPTION:
URL:https://www.dancesoul.com.tw/schedule/hip-hop%e5%88%9d-%e6%9e%97%e5%bd%a4-3-2/2026-03-05/
CATEGORIES:Hip Hop 初級,常態課_初級,課程
END:VEVENT
BEGIN:VEVENT
DTSTART;TZID=Asia/Shanghai:20260305T182000
DTEND;TZID=Asia/Shanghai:20260305T192000
DTSTAMP:20260421T122759
CREATED:20251202T055643Z
LAST-MODIFIED:20251202T055645Z
UID:10025467-1772734800-1772738400@www.dancesoul.com.tw
SUMMARY:Street Jazz-羊羊
DESCRIPTION:
URL:https://www.dancesoul.com.tw/schedule/hip-hop-%e4%bd%90%e4%bd%90-2-2/2026-03-05/
CATEGORIES:Hip Hop,常態課_一般,課程
END:VEVENT
BEGIN:VEVENT
DTSTART;TZID=Asia/Shanghai:20260304T213500
DTEND;TZID=Asia/Shanghai:20260304T223500
DTSTAMP:20260421T122759
CREATED:20260327T085649Z
LAST-MODIFIED:20260327T085650Z
UID:10035563-1772660100-1772663700@www.dancesoul.com.tw
SUMMARY:MV-緗緗
DESCRIPTION:
URL:https://www.dancesoul.com.tw/schedule/mv-%e7%b7%97%e7%b7%97-2-2/2026-03-04/
END:VEVENT
BEGIN:VEVENT
DTSTART;TZID=Asia/Shanghai:20260304T203000
DTEND;TZID=Asia/Shanghai:20260304T213000
DTSTAMP:20260421T122759
CREATED:20250828T103540Z
LAST-MODIFIED:20250828T103540Z
UID:10024945-1772656200-1772659800@www.dancesoul.com.tw
SUMMARY:Street Jazz-Kyle
DESCRIPTION:
URL:https://www.dancesoul.com.tw/schedule/street-jazz-kyle-4/2026-03-04/
CATEGORIES:STREET JAZZ,常態課_一般,課程
END:VEVENT
BEGIN:VEVENT
DTSTART;TZID=Asia/Shanghai:20260304T192500
DTEND;TZID=Asia/Shanghai:20260304T202500
DTSTAMP:20260421T122759
CREATED:20250828T102504Z
LAST-MODIFIED:20250828T102504Z
UID:10024684-1772652300-1772655900@www.dancesoul.com.tw
SUMMARY:Street Jazz-Larry
DESCRIPTION:
URL:https://www.dancesoul.com.tw/schedule/street-jazz-larry-30/2026-03-04/
CATEGORIES:STREET JAZZ,常態課_一般,課程
END:VEVENT
BEGIN:VEVENT
DTSTART;TZID=Asia/Shanghai:20260304T182000
DTEND;TZID=Asia/Shanghai:20260304T192000
DTSTAMP:20260421T122759
CREATED:20260327T082544Z
LAST-MODIFIED:20260327T082544Z
UID:10032919-1772648400-1772652000@www.dancesoul.com.tw
SUMMARY:Choreography(初)-無盡
DESCRIPTION:
URL:https://www.dancesoul.com.tw/schedule/choreography%e5%88%9d-%e7%84%a1%e7%9b%a1-14-2/2026-03-04/
CATEGORIES:Choreography 初級,常態課_初級,課程
END:VEVENT
BEGIN:VEVENT
DTSTART;TZID=Asia/Shanghai:20260303T213500
DTEND;TZID=Asia/Shanghai:20260303T223500
DTSTAMP:20260421T122759
CREATED:20260327T081822Z
LAST-MODIFIED:20260327T081932Z
UID:10030161-1772573700-1772577300@www.dancesoul.com.tw
SUMMARY:Hip Hop-承翰
DESCRIPTION:
URL:https://www.dancesoul.com.tw/schedule/hip-hop-%e6%89%bf%e7%bf%b0-2-3/2026-03-03/
CATEGORIES:Hip Hop,常態課_一般,課程
END:VEVENT
BEGIN:VEVENT
DTSTART;TZID=Asia/Shanghai:20260303T202000
DTEND;TZID=Asia/Shanghai:20260303T212000
DTSTAMP:20260421T122759
CREATED:20250828T100203Z
LAST-MODIFIED:20250828T100203Z
UID:10023901-1772569200-1772572800@www.dancesoul.com.tw
SUMMARY:Free Style-俊宏
DESCRIPTION:
URL:https://www.dancesoul.com.tw/schedule/free-style-%e4%bf%8a%e5%ae%8f-29/2026-03-03/
CATEGORIES:Freestyle,常態課_一般,課程
END:VEVENT
BEGIN:VEVENT
DTSTART;TZID=Asia/Shanghai:20260303T192500
DTEND;TZID=Asia/Shanghai:20260303T202500
DTSTAMP:20260421T122759
CREATED:20260327T083744Z
LAST-MODIFIED:20260327T083744Z
UID:10025731-1772565900-1772569500@www.dancesoul.com.tw
SUMMARY:Choreography-羅毅
DESCRIPTION:
URL:https://www.dancesoul.com.tw/schedule/choreography-%e7%be%85%e6%af%85-2-2/2026-03-03/
CATEGORIES:Choreography,常態課_一般,課程
END:VEVENT
BEGIN:VEVENT
DTSTART;TZID=Asia/Shanghai:20260303T182000
DTEND;TZID=Asia/Shanghai:20260303T192000
DTSTAMP:20260421T122759
CREATED:20250828T095545Z
LAST-MODIFIED:20250828T095545Z
UID:10023639-1772562000-1772565600@www.dancesoul.com.tw
SUMMARY:MV-薇臻
DESCRIPTION:
URL:https://www.dancesoul.com.tw/schedule/mv-%e8%96%87%e8%87%bb-4/2026-03-03/
END:VEVENT
BEGIN:VEVENT
DTSTART;TZID=Asia/Shanghai:20260302T213500
DTEND;TZID=Asia/Shanghai:20260302T223500
DTSTAMP:20260421T122759
CREATED:20260327T082216Z
LAST-MODIFIED:20260327T082217Z
UID:10029901-1772487300-1772490900@www.dancesoul.com.tw
SUMMARY:Jazz Funk-姿昀
DESCRIPTION:
URL:https://www.dancesoul.com.tw/schedule/jazz-funk-%e5%a7%bf%e6%98%80-15-2/2026-03-02/
CATEGORIES:Jazz Funk,課程
END:VEVENT
BEGIN:VEVENT
DTSTART;TZID=Asia/Shanghai:20260302T203000
DTEND;TZID=Asia/Shanghai:20260302T213000
DTSTAMP:20260421T122759
CREATED:20260327T084046Z
LAST-MODIFIED:20260327T084828Z
UID:10023104-1772483400-1772487000@www.dancesoul.com.tw
SUMMARY:Heels-宋靜
DESCRIPTION:
URL:https://www.dancesoul.com.tw/schedule/heels-%e5%ae%8b%e9%9d%9c-3-2/2026-03-02/
END:VEVENT
BEGIN:VEVENT
DTSTART;TZID=Asia/Shanghai:20260302T192500
DTEND;TZID=Asia/Shanghai:20260302T202500
DTSTAMP:20260421T122759
CREATED:20260327T082108Z
LAST-MODIFIED:20260327T082108Z
UID:10030770-1772479500-1772483100@www.dancesoul.com.tw
SUMMARY:Jazz Funk-魏小美
DESCRIPTION:
URL:https://www.dancesoul.com.tw/schedule/jazz-funk-%e9%ad%8f%e5%b0%8f%e7%be%8e-84-2-2/2026-03-02/
END:VEVENT
BEGIN:VEVENT
DTSTART;TZID=Asia/Shanghai:20260302T182000
DTEND;TZID=Asia/Shanghai:20260302T192000
DTSTAMP:20260421T122759
CREATED:20260327T084628Z
LAST-MODIFIED:20260327T084933Z
UID:10022230-1772475600-1772479200@www.dancesoul.com.tw
SUMMARY:MV-瑜庭
DESCRIPTION:
URL:https://www.dancesoul.com.tw/schedule/mvtwice-this-is-for-%e7%91%9c%e5%ba%ad-2/2026-03-02/
CATEGORIES:MV課,課程
END:VEVENT
BEGIN:VEVENT
DTSTART;TZID=Asia/Shanghai:20260301T192500
DTEND;TZID=Asia/Shanghai:20260301T202500
DTSTAMP:20260421T122759
CREATED:20260327T081608Z
LAST-MODIFIED:20260327T081608Z
UID:10030162-1772393100-1772396700@www.dancesoul.com.tw
SUMMARY:Hip Hop-ROD
DESCRIPTION:
URL:https://www.dancesoul.com.tw/schedule/hip-hop-%e6%89%bf%e7%bf%b0-2-2/2026-03-01/
CATEGORIES:Hip Hop,常態課_一般,課程
END:VEVENT
BEGIN:VEVENT
DTSTART;TZID=Asia/Shanghai:20260301T192500
DTEND;TZID=Asia/Shanghai:20260301T202500
DTSTAMP:20260421T122759
CREATED:20250901T060526Z
LAST-MODIFIED:20250901T060526Z
UID:10030158-1772393100-1772396700@www.dancesoul.com.tw
SUMMARY:Hip Hop-承翰
DESCRIPTION:
URL:https://www.dancesoul.com.tw/schedule/hip-hop-%e6%89%bf%e7%bf%b0-2/2026-03-01/
CATEGORIES:Hip Hop,常態課_一般,課程
END:VEVENT
BEGIN:VEVENT
DTSTART;TZID=Asia/Shanghai:20260301T182000
DTEND;TZID=Asia/Shanghai:20260301T192000
DTSTAMP:20260421T122759
CREATED:20260327T085927Z
LAST-MODIFIED:20260327T085927Z
UID:10037146-1772389200-1772392800@www.dancesoul.com.tw
SUMMARY:Jazz Funk-Zulin小霖
DESCRIPTION:
URL:https://www.dancesoul.com.tw/schedule/jazz-funk-zulin%e5%b0%8f%e9%9c%96/2026-03-01/
END:VEVENT
BEGIN:VEVENT
DTSTART;TZID=Asia/Shanghai:20260301T165000
DTEND;TZID=Asia/Shanghai:20260301T175000
DTSTAMP:20260421T122759
CREATED:20251201T095640Z
LAST-MODIFIED:20260315T071631Z
UID:10029636-1772383800-1772387400@www.dancesoul.com.tw
SUMMARY:MV(Apink - 'Love Me More')-Jenny
DESCRIPTION:
URL:https://www.dancesoul.com.tw/schedule/mvsomi-closer-%e7%91%9c%e5%ba%ad-2/2026-03-01/
CATEGORIES:MV課,課程
END:VEVENT
BEGIN:VEVENT
DTSTART;TZID=Asia/Shanghai:20260301T154000
DTEND;TZID=Asia/Shanghai:20260301T164000
DTSTAMP:20260421T122759
CREATED:20250901T060229Z
LAST-MODIFIED:20250901T060229Z
UID:10029375-1772379600-1772383200@www.dancesoul.com.tw
SUMMARY:兒童Street Jazz-傘傘
DESCRIPTION:
URL:https://www.dancesoul.com.tw/schedule/%e5%85%92%e7%ab%a5street-jazz-%e5%82%98%e5%82%98-4/2026-03-01/
CATEGORIES:兒童街舞,兒童課
END:VEVENT
BEGIN:VEVENT
DTSTART;TZID=Asia/Shanghai:20260301T143000
DTEND;TZID=Asia/Shanghai:20260301T153000
DTSTAMP:20260421T122759
CREATED:20260315T071830Z
LAST-MODIFIED:20260315T071830Z
UID:10031316-1772375400-1772379000@www.dancesoul.com.tw
SUMMARY:兒童MV(ILLIT-opps!)-羿芃
DESCRIPTION:
URL:https://www.dancesoul.com.tw/schedule/%e5%85%92%e7%ab%a5mvizna-sass-%e7%be%bf%e8%8a%83-2-2/2026-03-01/
CATEGORIES:兒童MV,兒童課
END:VEVENT
BEGIN:VEVENT
DTSTART;TZID=Asia/Shanghai:20260301T132000
DTEND;TZID=Asia/Shanghai:20260301T142000
DTSTAMP:20260421T122759
CREATED:20250901T055750Z
LAST-MODIFIED:20250901T055750Z
UID:10028853-1772371200-1772374800@www.dancesoul.com.tw
SUMMARY:兒童街舞-羿芃
DESCRIPTION:
URL:https://www.dancesoul.com.tw/schedule/%e5%85%92%e7%ab%a5%e8%a1%97%e8%88%9e-%e7%be%bf%e8%8a%83-20/2026-03-01/
CATEGORIES:兒童街舞,課程
END:VEVENT
BEGIN:VEVENT
DTSTART;TZID=Asia/Shanghai:20260228T182000
DTEND;TZID=Asia/Shanghai:20260228T192000
DTSTAMP:20260421T122759
CREATED:20250901T055441Z
LAST-MODIFIED:20250901T055457Z
UID:10028070-1772302800-1772306400@www.dancesoul.com.tw
SUMMARY:Popping-紀威
DESCRIPTION:
URL:https://www.dancesoul.com.tw/schedule/popping-%e7%b4%80%e5%a8%81-54/2026-02-28/
CATEGORIES:Poppin,常態課_一般,課程
END:VEVENT
BEGIN:VEVENT
DTSTART;TZID=Asia/Shanghai:20260228T164000
DTEND;TZID=Asia/Shanghai:20260228T174000
DTSTAMP:20260421T122759
CREATED:20260315T072002Z
LAST-MODIFIED:20260315T072518Z
UID:10031344-1772296800-1772300400@www.dancesoul.com.tw
SUMMARY:MV(IVE - ‘BANG BANG’)-薇臻
DESCRIPTION:
URL:https://www.dancesoul.com.tw/schedule/mvive-xoxz-%e5%87%9d%e7%90%a6-2-2/2026-02-28/
CATEGORIES:MV課,課程
END:VEVENT
BEGIN:VEVENT
DTSTART;TZID=Asia/Shanghai:20260228T143000
DTEND;TZID=Asia/Shanghai:20260228T153000
DTSTAMP:20260421T122759
CREATED:20251202T055414Z
LAST-MODIFIED:20260315T072223Z
UID:10027547-1772289000-1772292600@www.dancesoul.com.tw
SUMMARY:兒童MV(IVE - 'BANG BANG')-薇臻
DESCRIPTION:
URL:https://www.dancesoul.com.tw/schedule/%e5%85%92%e7%ab%a5mvbabymonster-hot-sauce-%e8%96%87%e8%87%bb-2/2026-02-28/
CATEGORIES:MV課,兒童MV,課程
END:VEVENT
BEGIN:VEVENT
DTSTART;TZID=Asia/Shanghai:20260228T132000
DTEND;TZID=Asia/Shanghai:20260228T142000
DTSTAMP:20260421T122759
CREATED:20251201T070320Z
LAST-MODIFIED:20260315T072345Z
UID:10027286-1772284800-1772288400@www.dancesoul.com.tw
SUMMARY:兒童MV(初)(i-dle - 'Mona(Feat.skaiwater)')-薇臻
DESCRIPTION:
URL:https://www.dancesoul.com.tw/schedule/%e5%85%92%e7%ab%a5%e8%a1%97%e8%88%9e-%e8%96%87%e8%87%bb-21-2-2-2/2026-02-28/
CATEGORIES:兒童街舞,兒童課
END:VEVENT
BEGIN:VEVENT
DTSTART;TZID=Asia/Shanghai:20260226T213500
DTEND;TZID=Asia/Shanghai:20260226T223500
DTSTAMP:20260421T122759
CREATED:20250828T104929Z
LAST-MODIFIED:20250828T104929Z
UID:10026246-1772141700-1772145300@www.dancesoul.com.tw
SUMMARY:Choreography-巴豪
DESCRIPTION:
URL:https://www.dancesoul.com.tw/schedule/choreography-%e5%b7%b4%e8%b1%aa-7/2026-02-26/
CATEGORIES:Choreography,常態課_一般,課程
END:VEVENT
END:VCALENDAR