BEGIN:VCALENDAR
VERSION:2.0
PRODID:-//DANCE SOUL 舞魂街舞學校 - ECPv6.15.18//NONSGML v1.0//EN
CALSCALE:GREGORIAN
METHOD:PUBLISH
X-ORIGINAL-URL:https://www.dancesoul.com.tw
X-WR-CALDESC:Events for DANCE SOUL 舞魂街舞學校
REFRESH-INTERVAL;VALUE=DURATION:PT1H
X-Robots-Tag:noindex
X-PUBLISHED-TTL:PT1H
BEGIN:VTIMEZONE
TZID:Asia/Shanghai
BEGIN:STANDARD
TZOFFSETFROM:+0800
TZOFFSETTO:+0800
TZNAME:CST
DTSTART:20240101T000000
END:STANDARD
END:VTIMEZONE
BEGIN:VEVENT
DTSTART;TZID=Asia/Shanghai:20250825T165000
DTEND;TZID=Asia/Shanghai:20250825T175000
DTSTAMP:20260421T134100
CREATED:20250725T074201Z
LAST-MODIFIED:20250725T074201Z
UID:10022054-1756140600-1756144200@www.dancesoul.com.tw
SUMMARY:Choreography-承達x無盡
DESCRIPTION:
URL:https://www.dancesoul.com.tw/schedule/choreography-%e6%89%bf%e9%81%94x%e7%84%a1%e7%9b%a1/2025-08-25/
CATEGORIES:Choreography,特別課程
END:VEVENT
BEGIN:VEVENT
DTSTART;TZID=Asia/Shanghai:20250825T192500
DTEND;TZID=Asia/Shanghai:20250825T202500
DTSTAMP:20260421T134100
CREATED:20250623T120211Z
LAST-MODIFIED:20250725T072353Z
UID:10022034-1756149900-1756153500@www.dancesoul.com.tw
SUMMARY:Heels-宋靜
DESCRIPTION:
URL:https://www.dancesoul.com.tw/schedule/heels-%e5%ae%8b%e9%9d%9c-2/2025-08-25/
CATEGORIES:Heels
END:VEVENT
BEGIN:VEVENT
DTSTART;TZID=Asia/Shanghai:20250825T203000
DTEND;TZID=Asia/Shanghai:20250825T213000
DTSTAMP:20260421T134100
CREATED:20250623T120332Z
LAST-MODIFIED:20250725T073323Z
UID:10022042-1756153800-1756157400@www.dancesoul.com.tw
SUMMARY:Jazz Funk-姿昀
DESCRIPTION:
URL:https://www.dancesoul.com.tw/schedule/jazz-funk-%e5%a7%bf%e6%98%80-13/2025-08-25/
CATEGORIES:Jazz Funk
END:VEVENT
BEGIN:VEVENT
DTSTART;TZID=Asia/Shanghai:20250826T143000
DTEND;TZID=Asia/Shanghai:20250826T153000
DTSTAMP:20260421T134100
CREATED:20250623T120518Z
LAST-MODIFIED:20250725T074800Z
UID:10022058-1756218600-1756222200@www.dancesoul.com.tw
SUMMARY:Street Jazz-Cen妹
DESCRIPTION:
URL:https://www.dancesoul.com.tw/schedule/street-jazz-cen%e5%a6%b9/2025-08-26/
CATEGORIES:STREET JAZZ
END:VEVENT
BEGIN:VEVENT
DTSTART;TZID=Asia/Shanghai:20250826T154000
DTEND;TZID=Asia/Shanghai:20250826T164000
DTSTAMP:20260421T134100
CREATED:20250623T121009Z
LAST-MODIFIED:20250725T074903Z
UID:10022062-1756222800-1756226400@www.dancesoul.com.tw
SUMMARY:MV-俊宏
DESCRIPTION:
URL:https://www.dancesoul.com.tw/schedule/mv-%e4%bf%8a%e5%ae%8f/2025-08-26/
CATEGORIES:MV課
END:VEVENT
BEGIN:VEVENT
DTSTART;TZID=Asia/Shanghai:20250826T165000
DTEND;TZID=Asia/Shanghai:20250826T175000
DTSTAMP:20260421T134100
CREATED:20250725T075045Z
LAST-MODIFIED:20250725T075045Z
UID:10022066-1756227000-1756230600@www.dancesoul.com.tw
SUMMARY:MV-俊宏x薇臻
DESCRIPTION:
URL:https://www.dancesoul.com.tw/schedule/mv-%e4%bf%8a%e5%ae%8fx%e8%96%87%e8%87%bb/2025-08-26/
CATEGORIES:MV課,特別課程
END:VEVENT
BEGIN:VEVENT
DTSTART;TZID=Asia/Shanghai:20250826T182000
DTEND;TZID=Asia/Shanghai:20250826T192000
DTSTAMP:20260421T134100
CREATED:20250623T121300Z
LAST-MODIFIED:20250725T075226Z
UID:10022070-1756232400-1756236000@www.dancesoul.com.tw
SUMMARY:MV-薇臻
DESCRIPTION:
URL:https://www.dancesoul.com.tw/schedule/mv-%e8%96%87%e8%87%bb-3/2025-08-26/
CATEGORIES:MV課
END:VEVENT
BEGIN:VEVENT
DTSTART;TZID=Asia/Shanghai:20250826T192500
DTEND;TZID=Asia/Shanghai:20250826T202500
DTSTAMP:20260421T134100
CREATED:20250623T121421Z
LAST-MODIFIED:20250725T075312Z
UID:10022074-1756236300-1756239900@www.dancesoul.com.tw
SUMMARY:Street Jazz-Denis
DESCRIPTION:
URL:https://www.dancesoul.com.tw/schedule/street-jazz-denis-57/2025-08-26/
CATEGORIES:STREET JAZZ
END:VEVENT
BEGIN:VEVENT
DTSTART;TZID=Asia/Shanghai:20250826T203000
DTEND;TZID=Asia/Shanghai:20250826T213000
DTSTAMP:20260421T134100
CREATED:20250623T121559Z
LAST-MODIFIED:20250725T075356Z
UID:10022078-1756240200-1756243800@www.dancesoul.com.tw
SUMMARY:Free Style-俊宏
DESCRIPTION:
URL:https://www.dancesoul.com.tw/schedule/free-style-%e4%bf%8a%e5%ae%8f-28/2025-08-26/
CATEGORIES:Freestyle
END:VEVENT
BEGIN:VEVENT
DTSTART;TZID=Asia/Shanghai:20250827T143000
DTEND;TZID=Asia/Shanghai:20250827T153000
DTSTAMP:20260421T134100
CREATED:20250623T121721Z
LAST-MODIFIED:20250725T080546Z
UID:10022112-1756305000-1756308600@www.dancesoul.com.tw
SUMMARY:基礎入門-無盡
DESCRIPTION:
URL:https://www.dancesoul.com.tw/schedule/%e5%9f%ba%e7%a4%8e%e5%85%a5%e9%96%80-%e7%84%a1%e7%9b%a1-9/2025-08-27/
CATEGORIES:基礎入門
END:VEVENT
BEGIN:VEVENT
DTSTART;TZID=Asia/Shanghai:20250827T154000
DTEND;TZID=Asia/Shanghai:20250827T164000
DTSTAMP:20260421T134100
CREATED:20250725T080447Z
LAST-MODIFIED:20250725T080447Z
UID:10022108-1756309200-1756312800@www.dancesoul.com.tw
SUMMARY:Hip Hop-Rod
DESCRIPTION:
URL:https://www.dancesoul.com.tw/schedule/hip-hop-rod/2025-08-27/
CATEGORIES:Hip Hop,常態課_一般,課程
END:VEVENT
BEGIN:VEVENT
DTSTART;TZID=Asia/Shanghai:20250827T165000
DTEND;TZID=Asia/Shanghai:20250827T175000
DTSTAMP:20260421T134100
CREATED:20250725T080003Z
LAST-MODIFIED:20250725T080003Z
UID:10022100-1756313400-1756317000@www.dancesoul.com.tw
SUMMARY:Choreography-羅毅
DESCRIPTION:
URL:https://www.dancesoul.com.tw/schedule/choreography-%e7%be%85%e6%af%85/2025-08-27/
CATEGORIES:Choreography,常態課_一般,課程
END:VEVENT
BEGIN:VEVENT
DTSTART;TZID=Asia/Shanghai:20250827T182000
DTEND;TZID=Asia/Shanghai:20250827T192000
DTSTAMP:20260421T134100
CREATED:20250417T094623Z
LAST-MODIFIED:20250725T075554Z
UID:10022087-1756318800-1756322400@www.dancesoul.com.tw
SUMMARY:Krump-Coffee
DESCRIPTION:
URL:https://www.dancesoul.com.tw/schedule/krump-coffee-5/2025-08-27/
CATEGORIES:Krump,常態課_一般,課程
END:VEVENT
BEGIN:VEVENT
DTSTART;TZID=Asia/Shanghai:20250827T192500
DTEND;TZID=Asia/Shanghai:20250827T202500
DTSTAMP:20260421T134100
CREATED:20250417T094436Z
LAST-MODIFIED:20250725T075734Z
UID:10022096-1756322700-1756326300@www.dancesoul.com.tw
SUMMARY:Street Jazz-Larry
DESCRIPTION:
URL:https://www.dancesoul.com.tw/schedule/street-jazz-larry-28/2025-08-27/
CATEGORIES:STREET JAZZ,常態課_一般,課程
END:VEVENT
BEGIN:VEVENT
DTSTART;TZID=Asia/Shanghai:20250827T203000
DTEND;TZID=Asia/Shanghai:20250827T213000
DTSTAMP:20260421T134100
CREATED:20250725T080152Z
LAST-MODIFIED:20250725T080152Z
UID:10022104-1756326600-1756330200@www.dancesoul.com.tw
SUMMARY:Free Style-承達
DESCRIPTION:
URL:https://www.dancesoul.com.tw/schedule/free-style-%e6%89%bf%e9%81%94-52/2025-08-27/
CATEGORIES:Freestyle,常態課_一般,課程
END:VEVENT
BEGIN:VEVENT
DTSTART;TZID=Asia/Shanghai:20250828T143000
DTEND;TZID=Asia/Shanghai:20250828T153000
DTSTAMP:20260421T134100
CREATED:20250623T122838Z
LAST-MODIFIED:20250725T080850Z
UID:10022116-1756391400-1756395000@www.dancesoul.com.tw
SUMMARY:Jazz Funk-米其林
DESCRIPTION:
URL:https://www.dancesoul.com.tw/schedule/jazz-funk-%e7%b1%b3%e5%85%b6%e6%9e%97-3/2025-08-28/
CATEGORIES:Jazz Funk
END:VEVENT
BEGIN:VEVENT
DTSTART;TZID=Asia/Shanghai:20250828T154000
DTEND;TZID=Asia/Shanghai:20250828T164000
DTSTAMP:20260421T134100
CREATED:20250623T123015Z
LAST-MODIFIED:20250725T080946Z
UID:10022120-1756395600-1756399200@www.dancesoul.com.tw
SUMMARY:Street Jazz-小翁
DESCRIPTION:
URL:https://www.dancesoul.com.tw/schedule/street-jazz-%e5%b0%8f%e7%bf%81/2025-08-28/
CATEGORIES:STREET JAZZ
END:VEVENT
BEGIN:VEVENT
DTSTART;TZID=Asia/Shanghai:20250828T165000
DTEND;TZID=Asia/Shanghai:20250828T175000
DTSTAMP:20260421T134100
CREATED:20250725T081305Z
LAST-MODIFIED:20250725T081305Z
UID:10022124-1756399800-1756403400@www.dancesoul.com.tw
SUMMARY:Choreography-姿昀xKylex宜蓁
DESCRIPTION:
URL:https://www.dancesoul.com.tw/schedule/choreography-%e5%a7%bf%e6%98%80xkylex%e5%ae%9c%e8%93%81/2025-08-28/
CATEGORIES:Choreography,特別課程
END:VEVENT
BEGIN:VEVENT
DTSTART;TZID=Asia/Shanghai:20250828T182000
DTEND;TZID=Asia/Shanghai:20250828T192000
DTSTAMP:20260421T134100
CREATED:20250623T123413Z
LAST-MODIFIED:20250725T081555Z
UID:10022128-1756405200-1756408800@www.dancesoul.com.tw
SUMMARY:Jazz Funk-瑜庭
DESCRIPTION:
URL:https://www.dancesoul.com.tw/schedule/jazz-funk-%e7%91%9c%e5%ba%ad-7/2025-08-28/
CATEGORIES:Jazz Funk
END:VEVENT
BEGIN:VEVENT
DTSTART;TZID=Asia/Shanghai:20250828T192500
DTEND;TZID=Asia/Shanghai:20250828T202500
DTSTAMP:20260421T134100
CREATED:20250623T123638Z
LAST-MODIFIED:20250725T081646Z
UID:10022132-1756409100-1756412700@www.dancesoul.com.tw
SUMMARY:Hip Hop-佐佐
DESCRIPTION:
URL:https://www.dancesoul.com.tw/schedule/hip-hop-%e4%bd%90%e4%bd%90/2025-08-28/
CATEGORIES:Hip Hop
END:VEVENT
BEGIN:VEVENT
DTSTART;TZID=Asia/Shanghai:20250828T203000
DTEND;TZID=Asia/Shanghai:20250828T213000
DTSTAMP:20260421T134100
CREATED:20250623T123744Z
LAST-MODIFIED:20250725T081741Z
UID:10022136-1756413000-1756416600@www.dancesoul.com.tw
SUMMARY:Hip Hop-林彤
DESCRIPTION:
URL:https://www.dancesoul.com.tw/schedule/hip-hop-%e6%9e%97%e5%bd%a4-30/2025-08-28/
CATEGORIES:Hip Hop
END:VEVENT
BEGIN:VEVENT
DTSTART;TZID=Asia/Shanghai:20250828T213500
DTEND;TZID=Asia/Shanghai:20250828T223500
DTSTAMP:20260421T134100
CREATED:20250623T123930Z
LAST-MODIFIED:20250725T081853Z
UID:10022140-1756416900-1756420500@www.dancesoul.com.tw
SUMMARY:Choreography-巴豪
DESCRIPTION:
URL:https://www.dancesoul.com.tw/schedule/choreography-%e5%b7%b4%e8%b1%aa-6/2025-08-28/
CATEGORIES:Choreography
END:VEVENT
BEGIN:VEVENT
DTSTART;TZID=Asia/Shanghai:20250829T143000
DTEND;TZID=Asia/Shanghai:20250829T143000
DTSTAMP:20260421T134100
CREATED:20250725T082101Z
LAST-MODIFIED:20250725T082101Z
UID:10022145-1756477800-1756477800@www.dancesoul.com.tw
SUMMARY:MV-瑜庭
DESCRIPTION:
URL:https://www.dancesoul.com.tw/schedule/mv-%e7%91%9c%e5%ba%ad/2025-08-29/
CATEGORIES:MV課,常態課_一般,課程
END:VEVENT
BEGIN:VEVENT
DTSTART;TZID=Asia/Shanghai:20250829T154000
DTEND;TZID=Asia/Shanghai:20250829T164000
DTSTAMP:20260421T134100
CREATED:20250623T130858Z
LAST-MODIFIED:20250725T082212Z
UID:10022150-1756482000-1756485600@www.dancesoul.com.tw
SUMMARY:Street Jazz-大可
DESCRIPTION:
URL:https://www.dancesoul.com.tw/schedule/street-jazz-%e5%a4%a7%e5%8f%af/2025-08-29/
CATEGORIES:STREET JAZZ
END:VEVENT
BEGIN:VEVENT
DTSTART;TZID=Asia/Shanghai:20250829T165000
DTEND;TZID=Asia/Shanghai:20250829T175000
DTSTAMP:20260421T134100
CREATED:20250725T082349Z
LAST-MODIFIED:20250725T082349Z
UID:10022155-1756486200-1756489800@www.dancesoul.com.tw
SUMMARY:Choreography-瑜庭x大可
DESCRIPTION:
URL:https://www.dancesoul.com.tw/schedule/choreography-%e7%91%9c%e5%ba%adx%e5%a4%a7%e5%8f%af/2025-08-29/
CATEGORIES:Choreography,特別課程
END:VEVENT
BEGIN:VEVENT
DTSTART;TZID=Asia/Shanghai:20250829T182000
DTEND;TZID=Asia/Shanghai:20250829T192000
DTSTAMP:20260421T134100
CREATED:20250623T131317Z
LAST-MODIFIED:20250725T082638Z
UID:10022160-1756491600-1756495200@www.dancesoul.com.tw
SUMMARY:Street Jazz-Cen妹
DESCRIPTION:
URL:https://www.dancesoul.com.tw/schedule/street-jazz-cen%e5%a6%b9-2/2025-08-29/
CATEGORIES:STREET JAZZ
END:VEVENT
BEGIN:VEVENT
DTSTART;TZID=Asia/Shanghai:20250829T192500
DTEND;TZID=Asia/Shanghai:20250829T202500
DTSTAMP:20260421T134100
CREATED:20250623T131637Z
LAST-MODIFIED:20250725T082736Z
UID:10022165-1756495500-1756499100@www.dancesoul.com.tw
SUMMARY:Street Jazz-邱邱
DESCRIPTION:
URL:https://www.dancesoul.com.tw/schedule/street-jazz-%e9%82%b1%e9%82%b1-4/2025-08-29/
CATEGORIES:STREET JAZZ
END:VEVENT
BEGIN:VEVENT
DTSTART;TZID=Asia/Shanghai:20250829T203000
DTEND;TZID=Asia/Shanghai:20250829T213000
DTSTAMP:20260421T134100
CREATED:20250623T131740Z
LAST-MODIFIED:20250725T082828Z
UID:10022170-1756499400-1756503000@www.dancesoul.com.tw
SUMMARY:Jazz Funk-鈴鐺
DESCRIPTION:
URL:https://www.dancesoul.com.tw/schedule/jazz-funk-%e9%88%b4%e9%90%ba-30/2025-08-29/
CATEGORIES:Jazz Funk
END:VEVENT
BEGIN:VEVENT
DTSTART;TZID=Asia/Shanghai:20250830T132000
DTEND;TZID=Asia/Shanghai:20250830T142000
DTSTAMP:20260421T134100
CREATED:20250725T084212Z
LAST-MODIFIED:20250725T084514Z
UID:10022190-1756560000-1756563600@www.dancesoul.com.tw
SUMMARY:兒童MV(初)(izna-BEEP)-薇臻
DESCRIPTION:
URL:https://www.dancesoul.com.tw/schedule/%e5%85%92%e7%ab%a5mv%e5%88%9dizna-beep-%e8%96%87%e8%87%bb/2025-08-30/
CATEGORIES:MV課,兒童MV,課程
END:VEVENT
BEGIN:VEVENT
DTSTART;TZID=Asia/Shanghai:20250830T132000
DTEND;TZID=Asia/Shanghai:20250830T142000
DTSTAMP:20260421T134100
CREATED:20251201T070320Z
LAST-MODIFIED:20260315T072345Z
UID:10031396-1756560000-1756563600@www.dancesoul.com.tw
SUMMARY:兒童MV(初)(i-dle - 'Mona(Feat.skaiwater)')-薇臻
DESCRIPTION:
URL:https://www.dancesoul.com.tw/schedule/%e5%85%92%e7%ab%a5%e8%a1%97%e8%88%9e-%e8%96%87%e8%87%bb-21-2-2-2/2025-08-30/
CATEGORIES:兒童街舞,兒童課
END:VEVENT
END:VCALENDAR