BEGIN:VCALENDAR
VERSION:2.0
PRODID:-//DANCE SOUL 舞魂街舞學校 - ECPv6.15.18//NONSGML v1.0//EN
CALSCALE:GREGORIAN
METHOD:PUBLISH
X-WR-CALNAME:DANCE SOUL 舞魂街舞學校
X-ORIGINAL-URL:https://www.dancesoul.com.tw
X-WR-CALDESC:Events for DANCE SOUL 舞魂街舞學校
REFRESH-INTERVAL;VALUE=DURATION:PT1H
X-Robots-Tag:noindex
X-PUBLISHED-TTL:PT1H
BEGIN:VTIMEZONE
TZID:Asia/Shanghai
BEGIN:STANDARD
TZOFFSETFROM:+0800
TZOFFSETTO:+0800
TZNAME:CST
DTSTART:20230101T000000
END:STANDARD
END:VTIMEZONE
BEGIN:VEVENT
DTSTART;TZID=Asia/Shanghai:20240820T150000
DTEND;TZID=Asia/Shanghai:20240820T160000
DTSTAMP:20260422T013230
CREATED:20240726T113449Z
LAST-MODIFIED:20240730T075854Z
UID:10020131-1724166000-1724169600@www.dancesoul.com.tw
SUMMARY:兒童MV-(NewJeans - Supernatural)-薇臻
DESCRIPTION:
URL:https://www.dancesoul.com.tw/schedule/%e5%85%92%e7%ab%a5mv-newjeans-supernatural-%e8%96%87%e8%87%bb/2024-08-20/
CATEGORIES:兒童MV,兒童課,課程
END:VEVENT
BEGIN:VEVENT
DTSTART;TZID=Asia/Shanghai:20240819T205000
DTEND;TZID=Asia/Shanghai:20240819T215000
DTSTAMP:20260422T013230
CREATED:20240726T114939Z
LAST-MODIFIED:20240726T114939Z
UID:10020031-1724100600-1724104200@www.dancesoul.com.tw
SUMMARY:Jazz Funk-魏小美
DESCRIPTION:
URL:https://www.dancesoul.com.tw/schedule/jazz-funk-%e9%ad%8f%e5%b0%8f%e7%be%8e-74/2024-08-19/
CATEGORIES:Jazz Funk,常態課_一般,課程
END:VEVENT
BEGIN:VEVENT
DTSTART;TZID=Asia/Shanghai:20240819T194000
DTEND;TZID=Asia/Shanghai:20240819T204000
DTSTAMP:20260422T013230
CREATED:20240726T114656Z
LAST-MODIFIED:20240726T114656Z
UID:10020027-1724096400-1724100000@www.dancesoul.com.tw
SUMMARY:Heels(初)-宋靜
DESCRIPTION:
URL:https://www.dancesoul.com.tw/schedule/heels%e5%88%9d-%e5%ae%8b%e9%9d%9c-31/2024-08-19/
CATEGORIES:Heels 初級,常態課_初級,課程
END:VEVENT
BEGIN:VEVENT
DTSTART;TZID=Asia/Shanghai:20240819T183000
DTEND;TZID=Asia/Shanghai:20240819T193000
DTSTAMP:20260422T013230
CREATED:20240726T114555Z
LAST-MODIFIED:20240726T114555Z
UID:10020023-1724092200-1724095800@www.dancesoul.com.tw
SUMMARY:Twerk(初)-碗公
DESCRIPTION:
URL:https://www.dancesoul.com.tw/schedule/twerk%e5%88%9d-%e7%a2%97%e5%85%ac-33/2024-08-19/
CATEGORIES:Twerk 初級,常態課_初級,課程
END:VEVENT
BEGIN:VEVENT
DTSTART;TZID=Asia/Shanghai:20240819T172000
DTEND;TZID=Asia/Shanghai:20240819T182000
DTSTAMP:20260422T013230
CREATED:20240726T114354Z
LAST-MODIFIED:20240726T114354Z
UID:10020019-1724088000-1724091600@www.dancesoul.com.tw
SUMMARY:Choreography-俊宏
DESCRIPTION:
URL:https://www.dancesoul.com.tw/schedule/choreography-%e4%bf%8a%e5%ae%8f-2/2024-08-19/
CATEGORIES:Choreography,常態課_一般
END:VEVENT
BEGIN:VEVENT
DTSTART;TZID=Asia/Shanghai:20240819T161000
DTEND;TZID=Asia/Shanghai:20240819T171000
DTSTAMP:20260422T013230
CREATED:20240726T114237Z
LAST-MODIFIED:20240726T114237Z
UID:10020015-1724083800-1724087400@www.dancesoul.com.tw
SUMMARY:Street Jazz(初)-Kyle
DESCRIPTION:
URL:https://www.dancesoul.com.tw/schedule/street-jazz%e5%88%9d-kyle-16/2024-08-19/
CATEGORIES:STREET JAZZ 初級,常態課_初級,課程
END:VEVENT
BEGIN:VEVENT
DTSTART;TZID=Asia/Shanghai:20240819T150000
DTEND;TZID=Asia/Shanghai:20240819T160000
DTSTAMP:20260422T013230
CREATED:20240726T112653Z
LAST-MODIFIED:20240726T112653Z
UID:10019994-1724079600-1724083200@www.dancesoul.com.tw
SUMMARY:兒童MV-(STAYC - Cheeky Icy Thang)-昀珊
DESCRIPTION:
URL:https://www.dancesoul.com.tw/schedule/%e5%85%92%e7%ab%a5mv-stayc-cheeky-icy-thang-%e6%98%80%e7%8f%8a/2024-08-19/
CATEGORIES:兒童MV,兒童課,課程
END:VEVENT
BEGIN:VEVENT
DTSTART;TZID=Asia/Shanghai:20240818T191000
DTEND;TZID=Asia/Shanghai:20240818T201000
DTSTAMP:20260422T013230
CREATED:20240726T112141Z
LAST-MODIFIED:20240726T112141Z
UID:10019986-1724008200-1724011800@www.dancesoul.com.tw
SUMMARY:Hip Hop(初)-承翰
DESCRIPTION:
URL:https://www.dancesoul.com.tw/schedule/hip-hop%e5%88%9d-%e6%89%bf%e7%bf%b0-6/2024-08-18/
CATEGORIES:Hip Hop 初級,常態課_初級,課程
END:VEVENT
BEGIN:VEVENT
DTSTART;TZID=Asia/Shanghai:20240818T180000
DTEND;TZID=Asia/Shanghai:20240818T190000
DTSTAMP:20260422T013230
CREATED:20240726T112005Z
LAST-MODIFIED:20240726T112330Z
UID:10019990-1724004000-1724007600@www.dancesoul.com.tw
SUMMARY:Jazz Funk-姿昀
DESCRIPTION:
URL:https://www.dancesoul.com.tw/schedule/jazz-funk-%e5%a7%bf%e6%98%80/2024-08-18/
CATEGORIES:Jazz Funk,常態課_一般,課程
END:VEVENT
BEGIN:VEVENT
DTSTART;TZID=Asia/Shanghai:20240818T165000
DTEND;TZID=Asia/Shanghai:20240818T175000
DTSTAMP:20260422T013230
CREATED:20240726T111812Z
LAST-MODIFIED:20240726T111812Z
UID:10019977-1723999800-1724003400@www.dancesoul.com.tw
SUMMARY:MV-(LISA - ROCKSTAR)-瑜庭
DESCRIPTION:
URL:https://www.dancesoul.com.tw/schedule/mv-lisa-rockstar-%e7%91%9c%e5%ba%ad/2024-08-18/
CATEGORIES:MV課,課程
END:VEVENT
BEGIN:VEVENT
DTSTART;TZID=Asia/Shanghai:20240818T154000
DTEND;TZID=Asia/Shanghai:20240818T164000
DTSTAMP:20260422T013230
CREATED:20240726T111702Z
LAST-MODIFIED:20240726T111702Z
UID:10019973-1723995600-1723999200@www.dancesoul.com.tw
SUMMARY:兒童 Street Jazz-傘傘
DESCRIPTION:
URL:https://www.dancesoul.com.tw/schedule/%e5%85%92%e7%ab%a5-street-jazz-%e5%82%98%e5%82%98-2/2024-08-18/
CATEGORIES:兒童 Street Jazz,兒童課,課程
END:VEVENT
BEGIN:VEVENT
DTSTART;TZID=Asia/Shanghai:20240818T143000
DTEND;TZID=Asia/Shanghai:20240818T153000
DTSTAMP:20260422T013230
CREATED:20240726T111524Z
LAST-MODIFIED:20240726T111524Z
UID:10019969-1723991400-1723995000@www.dancesoul.com.tw
SUMMARY:兒童MV-((G)I-DLE - Klaxon)-羿芃
DESCRIPTION:
URL:https://www.dancesoul.com.tw/schedule/%e5%85%92%e7%ab%a5mv-gi-dle-klaxon-%e7%be%bf%e8%8a%83/2024-08-18/
CATEGORIES:兒童MV,兒童課,課程
END:VEVENT
BEGIN:VEVENT
DTSTART;TZID=Asia/Shanghai:20240818T132000
DTEND;TZID=Asia/Shanghai:20240818T142000
DTSTAMP:20260422T013230
CREATED:20240726T110716Z
LAST-MODIFIED:20240726T110716Z
UID:10019965-1723987200-1723990800@www.dancesoul.com.tw
SUMMARY:兒童街舞-羿芃
DESCRIPTION:
URL:https://www.dancesoul.com.tw/schedule/%e5%85%92%e7%ab%a5%e8%a1%97%e8%88%9e-%e7%be%bf%e8%8a%83-8/2024-08-18/
CATEGORIES:兒童街舞,兒童課,課程
END:VEVENT
BEGIN:VEVENT
DTSTART;TZID=Asia/Shanghai:20240817T202000
DTEND;TZID=Asia/Shanghai:20240817T212000
DTSTAMP:20260422T013230
CREATED:20240726T110529Z
LAST-MODIFIED:20240726T110529Z
UID:10019960-1723926000-1723929600@www.dancesoul.com.tw
SUMMARY:基礎入門-雞蛋
DESCRIPTION:
URL:https://www.dancesoul.com.tw/schedule/%e5%9f%ba%e7%a4%8e%e5%85%a5%e9%96%80-%e9%9b%9e%e8%9b%8b-30/2024-08-17/
CATEGORIES:基礎入門,常態課_初級,課程
END:VEVENT
BEGIN:VEVENT
DTSTART;TZID=Asia/Shanghai:20240817T191000
DTEND;TZID=Asia/Shanghai:20240817T201000
DTSTAMP:20260422T013230
CREATED:20240726T110428Z
LAST-MODIFIED:20240726T110428Z
UID:10019955-1723921800-1723925400@www.dancesoul.com.tw
SUMMARY:Choreography(初)-無盡
DESCRIPTION:
URL:https://www.dancesoul.com.tw/schedule/choreography%e5%88%9d-%e7%84%a1%e7%9b%a1-3/2024-08-17/
CATEGORIES:Choreography 初級,常態課_初級,課程
END:VEVENT
BEGIN:VEVENT
DTSTART;TZID=Asia/Shanghai:20240817T180000
DTEND;TZID=Asia/Shanghai:20240817T190000
DTSTAMP:20260422T013230
CREATED:20240726T110259Z
LAST-MODIFIED:20240726T110259Z
UID:10019950-1723917600-1723921200@www.dancesoul.com.tw
SUMMARY:Popping-紀威
DESCRIPTION:
URL:https://www.dancesoul.com.tw/schedule/popping-%e7%b4%80%e5%a8%81-43/2024-08-17/
CATEGORIES:Poppin,常態課_一般,課程
END:VEVENT
BEGIN:VEVENT
DTSTART;TZID=Asia/Shanghai:20240817T165000
DTEND;TZID=Asia/Shanghai:20240817T175000
DTSTAMP:20260422T013230
CREATED:20240726T110157Z
LAST-MODIFIED:20240726T110157Z
UID:10019945-1723913400-1723917000@www.dancesoul.com.tw
SUMMARY:MV-(KISS OF LIFE - Sticky)-怡妏
DESCRIPTION:
URL:https://www.dancesoul.com.tw/schedule/mv-kiss-of-life-sticky-%e6%80%a1%e5%a6%8f/2024-08-17/
CATEGORIES:MV課,課程
END:VEVENT
BEGIN:VEVENT
DTSTART;TZID=Asia/Shanghai:20240817T154000
DTEND;TZID=Asia/Shanghai:20240817T164000
DTSTAMP:20260422T013230
CREATED:20240726T110003Z
LAST-MODIFIED:20240726T110003Z
UID:10019940-1723909200-1723912800@www.dancesoul.com.tw
SUMMARY:兒童基礎街舞-傘傘
DESCRIPTION:
URL:https://www.dancesoul.com.tw/schedule/%e5%85%92%e7%ab%a5%e5%9f%ba%e7%a4%8e%e8%a1%97%e8%88%9e-%e5%82%98%e5%82%98-2/2024-08-17/
CATEGORIES:兒童基礎街舞,兒童課,課程
END:VEVENT
BEGIN:VEVENT
DTSTART;TZID=Asia/Shanghai:20240817T143000
DTEND;TZID=Asia/Shanghai:20240817T153000
DTSTAMP:20260422T013230
CREATED:20240729T055037Z
LAST-MODIFIED:20240729T055037Z
UID:10020118-1723905000-1723908600@www.dancesoul.com.tw
SUMMARY:兒童MV-(LISA - ROCKSTAR)-薇臻
DESCRIPTION:
URL:https://www.dancesoul.com.tw/schedule/%e5%85%92%e7%ab%a5mv-lisa-rockstar-%e8%96%87%e8%87%bb/2024-08-17/
CATEGORIES:兒童MV,兒童課,課程
END:VEVENT
BEGIN:VEVENT
DTSTART;TZID=Asia/Shanghai:20240817T132000
DTEND;TZID=Asia/Shanghai:20240817T142000
DTSTAMP:20260422T013230
CREATED:20240726T105755Z
LAST-MODIFIED:20240726T105755Z
UID:10019935-1723900800-1723904400@www.dancesoul.com.tw
SUMMARY:兒童街舞-薇臻
DESCRIPTION:
URL:https://www.dancesoul.com.tw/schedule/%e5%85%92%e7%ab%a5%e8%a1%97%e8%88%9e-%e8%96%87%e8%87%bb-9/2024-08-17/
CATEGORIES:兒童街舞,兒童課,課程
END:VEVENT
BEGIN:VEVENT
DTSTART;TZID=Asia/Shanghai:20240816T205000
DTEND;TZID=Asia/Shanghai:20240816T215000
DTSTAMP:20260422T013230
CREATED:20240726T121850Z
LAST-MODIFIED:20240726T121850Z
UID:10020113-1723841400-1723845000@www.dancesoul.com.tw
SUMMARY:Jazz Funk-鈴鐺
DESCRIPTION:
URL:https://www.dancesoul.com.tw/schedule/jazz-funk-%e9%88%b4%e9%90%ba-21/2024-08-16/
CATEGORIES:Jazz Funk,常態課_一般,課程
END:VEVENT
BEGIN:VEVENT
DTSTART;TZID=Asia/Shanghai:20240816T194000
DTEND;TZID=Asia/Shanghai:20240816T204000
DTSTAMP:20260422T013230
CREATED:20240726T121727Z
LAST-MODIFIED:20240726T121727Z
UID:10020108-1723837200-1723840800@www.dancesoul.com.tw
SUMMARY:Hip Hop(初)-佐佐
DESCRIPTION:
URL:https://www.dancesoul.com.tw/schedule/hip-hop%e5%88%9d-%e4%bd%90%e4%bd%90-13/2024-08-16/
CATEGORIES:Hip Hop 初級,常態課_初級,課程
END:VEVENT
BEGIN:VEVENT
DTSTART;TZID=Asia/Shanghai:20240816T183000
DTEND;TZID=Asia/Shanghai:20240816T193000
DTSTAMP:20260422T013230
CREATED:20240726T121637Z
LAST-MODIFIED:20240726T121637Z
UID:10020103-1723833000-1723836600@www.dancesoul.com.tw
SUMMARY:Street Jazz(初)-Cen妹
DESCRIPTION:
URL:https://www.dancesoul.com.tw/schedule/street-jazz%e5%88%9d-cen%e5%a6%b9-34/2024-08-16/
CATEGORIES:STREET JAZZ 初級,常態課_初級,課程
END:VEVENT
BEGIN:VEVENT
DTSTART;TZID=Asia/Shanghai:20240816T172000
DTEND;TZID=Asia/Shanghai:20240816T182000
DTSTAMP:20260422T013230
CREATED:20240726T121516Z
LAST-MODIFIED:20240726T121516Z
UID:10020099-1723828800-1723832400@www.dancesoul.com.tw
SUMMARY:Choreography-達達
DESCRIPTION:
URL:https://www.dancesoul.com.tw/schedule/choreography-%e9%81%94%e9%81%94-2/2024-08-16/
CATEGORIES:Choreography,常態課_一般,課程
END:VEVENT
BEGIN:VEVENT
DTSTART;TZID=Asia/Shanghai:20240816T161000
DTEND;TZID=Asia/Shanghai:20240816T171000
DTSTAMP:20260422T013230
CREATED:20240726T121428Z
LAST-MODIFIED:20240726T121428Z
UID:10020095-1723824600-1723828200@www.dancesoul.com.tw
SUMMARY:Jazz Funk(初)-Larry
DESCRIPTION:
URL:https://www.dancesoul.com.tw/schedule/jazz-funk%e5%88%9d-larry-4/2024-08-16/
CATEGORIES:Jazz Funk 初級,常態課_初級,課程
END:VEVENT
BEGIN:VEVENT
DTSTART;TZID=Asia/Shanghai:20240816T150000
DTEND;TZID=Asia/Shanghai:20240816T160000
DTSTAMP:20260422T013230
CREATED:20240726T113004Z
LAST-MODIFIED:20240726T113004Z
UID:10020002-1723820400-1723824000@www.dancesoul.com.tw
SUMMARY:兒童MV-(BABYMONSTER - FOREVER)-昀珊
DESCRIPTION:
URL:https://www.dancesoul.com.tw/schedule/%e5%85%92%e7%ab%a5mv-babymonster-forever-%e6%98%80%e7%8f%8a/2024-08-16/
CATEGORIES:兒童MV,兒童課,課程
END:VEVENT
BEGIN:VEVENT
DTSTART;TZID=Asia/Shanghai:20240815T205000
DTEND;TZID=Asia/Shanghai:20240815T215000
DTSTAMP:20260422T013231
CREATED:20240729T060209Z
LAST-MODIFIED:20240729T060209Z
UID:10020125-1723755000-1723758600@www.dancesoul.com.tw
SUMMARY:Afro Style-巴豪
DESCRIPTION:
URL:https://www.dancesoul.com.tw/schedule/afro-style-%e5%b7%b4%e8%b1%aa-3/2024-08-15/
CATEGORIES:Afro Style,常態課_一般,課程
END:VEVENT
BEGIN:VEVENT
DTSTART;TZID=Asia/Shanghai:20240815T194000
DTEND;TZID=Asia/Shanghai:20240815T204000
DTSTAMP:20260422T013231
CREATED:20240726T121239Z
LAST-MODIFIED:20240726T121239Z
UID:10020090-1723750800-1723754400@www.dancesoul.com.tw
SUMMARY:Hip Hop-林彤
DESCRIPTION:
URL:https://www.dancesoul.com.tw/schedule/hip-hop-%e6%9e%97%e5%bd%a4-20/2024-08-15/
CATEGORIES:Hip Hop,常態課_一般,課程
END:VEVENT
BEGIN:VEVENT
DTSTART;TZID=Asia/Shanghai:20240815T183000
DTEND;TZID=Asia/Shanghai:20240815T193000
DTSTAMP:20260422T013231
CREATED:20240726T121154Z
LAST-MODIFIED:20240726T121154Z
UID:10020085-1723746600-1723750200@www.dancesoul.com.tw
SUMMARY:Choreography-芭比
DESCRIPTION:
URL:https://www.dancesoul.com.tw/schedule/choreography-%e8%8a%ad%e6%af%94-24/2024-08-15/
CATEGORIES:Choreography,常態課_一般,課程
END:VEVENT
BEGIN:VEVENT
DTSTART;TZID=Asia/Shanghai:20240815T172000
DTEND;TZID=Asia/Shanghai:20240815T182000
DTSTAMP:20260422T013231
CREATED:20240726T121034Z
LAST-MODIFIED:20240726T121034Z
UID:10020080-1723742400-1723746000@www.dancesoul.com.tw
SUMMARY:Jazz Funk-瑜庭
DESCRIPTION:
URL:https://www.dancesoul.com.tw/schedule/jazz-funk-%e7%91%9c%e5%ba%ad/2024-08-15/
CATEGORIES:Jazz Funk,常態課_一般,課程
END:VEVENT
END:VCALENDAR