BEGIN:VCALENDAR
VERSION:2.0
PRODID:-//DANCE SOUL 舞魂街舞學校 - ECPv6.15.18//NONSGML v1.0//EN
CALSCALE:GREGORIAN
METHOD:PUBLISH
X-ORIGINAL-URL:https://www.dancesoul.com.tw
X-WR-CALDESC:Events for DANCE SOUL 舞魂街舞學校
REFRESH-INTERVAL;VALUE=DURATION:PT1H
X-Robots-Tag:noindex
X-PUBLISHED-TTL:PT1H
BEGIN:VTIMEZONE
TZID:Asia/Shanghai
BEGIN:STANDARD
TZOFFSETFROM:+0800
TZOFFSETTO:+0800
TZNAME:CST
DTSTART:20230101T000000
END:STANDARD
END:VTIMEZONE
BEGIN:VEVENT
DTSTART;TZID=Asia/Shanghai:20240801T150000
DTEND;TZID=Asia/Shanghai:20240801T160000
DTSTAMP:20260421T072149
CREATED:20240729T055619Z
LAST-MODIFIED:20240729T055619Z
UID:10020121-1722524400-1722528000@www.dancesoul.com.tw
SUMMARY:兒童MV-(SUNMI - Balloon in Love)-薇臻
DESCRIPTION:
URL:https://www.dancesoul.com.tw/schedule/%e5%85%92%e7%ab%a5mv-sunmi-balloon-in-love-%e8%96%87%e8%87%bb-2/
CATEGORIES:兒童MV,兒童課,課程
END:VEVENT
BEGIN:VEVENT
DTSTART;TZID=Asia/Shanghai:20240801T161000
DTEND;TZID=Asia/Shanghai:20240801T171000
DTSTAMP:20260421T072149
CREATED:20240726T120943Z
LAST-MODIFIED:20240726T120943Z
UID:10020073-1722528600-1722532200@www.dancesoul.com.tw
SUMMARY:基礎入門-承翰
DESCRIPTION:
URL:https://www.dancesoul.com.tw/schedule/%e5%9f%ba%e7%a4%8e%e5%85%a5%e9%96%80-%e6%89%bf%e7%bf%b0-2/2024-08-01/
CATEGORIES:基礎入門,常態課_初級,課程
END:VEVENT
BEGIN:VEVENT
DTSTART;TZID=Asia/Shanghai:20240801T172000
DTEND;TZID=Asia/Shanghai:20240801T182000
DTSTAMP:20260421T072149
CREATED:20240726T121034Z
LAST-MODIFIED:20240726T121034Z
UID:10020078-1722532800-1722536400@www.dancesoul.com.tw
SUMMARY:Jazz Funk-瑜庭
DESCRIPTION:
URL:https://www.dancesoul.com.tw/schedule/jazz-funk-%e7%91%9c%e5%ba%ad/2024-08-01/
CATEGORIES:Jazz Funk,常態課_一般,課程
END:VEVENT
BEGIN:VEVENT
DTSTART;TZID=Asia/Shanghai:20240801T183000
DTEND;TZID=Asia/Shanghai:20240801T193000
DTSTAMP:20260421T072149
CREATED:20240726T121154Z
LAST-MODIFIED:20240726T121154Z
UID:10020083-1722537000-1722540600@www.dancesoul.com.tw
SUMMARY:Choreography-芭比
DESCRIPTION:
URL:https://www.dancesoul.com.tw/schedule/choreography-%e8%8a%ad%e6%af%94-24/2024-08-01/
CATEGORIES:Choreography,常態課_一般,課程
END:VEVENT
BEGIN:VEVENT
DTSTART;TZID=Asia/Shanghai:20240801T194000
DTEND;TZID=Asia/Shanghai:20240801T204000
DTSTAMP:20260421T072149
CREATED:20240726T121239Z
LAST-MODIFIED:20240726T121239Z
UID:10020088-1722541200-1722544800@www.dancesoul.com.tw
SUMMARY:Hip Hop-林彤
DESCRIPTION:
URL:https://www.dancesoul.com.tw/schedule/hip-hop-%e6%9e%97%e5%bd%a4-20/2024-08-01/
CATEGORIES:Hip Hop,常態課_一般,課程
END:VEVENT
BEGIN:VEVENT
DTSTART;TZID=Asia/Shanghai:20240801T205000
DTEND;TZID=Asia/Shanghai:20240801T215000
DTSTAMP:20260421T072149
CREATED:20240729T060817Z
LAST-MODIFIED:20240729T060817Z
UID:10020128-1722545400-1722549000@www.dancesoul.com.tw
SUMMARY:Afro Style-巴豪 (體驗課)
DESCRIPTION:
URL:https://www.dancesoul.com.tw/schedule/afro-style-%e5%b7%b4%e8%b1%aa-%e9%ab%94%e9%a9%97%e8%aa%b2/
CATEGORIES:Afro Style,特別課程,課程
END:VEVENT
BEGIN:VEVENT
DTSTART;TZID=Asia/Shanghai:20240802T150000
DTEND;TZID=Asia/Shanghai:20240802T160000
DTSTAMP:20260421T072149
CREATED:20240726T113004Z
LAST-MODIFIED:20240726T113004Z
UID:10020000-1722610800-1722614400@www.dancesoul.com.tw
SUMMARY:兒童MV-(BABYMONSTER - FOREVER)-昀珊
DESCRIPTION:
URL:https://www.dancesoul.com.tw/schedule/%e5%85%92%e7%ab%a5mv-babymonster-forever-%e6%98%80%e7%8f%8a/2024-08-02/
CATEGORIES:兒童MV,兒童課,課程
END:VEVENT
BEGIN:VEVENT
DTSTART;TZID=Asia/Shanghai:20240802T161000
DTEND;TZID=Asia/Shanghai:20240802T171000
DTSTAMP:20260421T072149
CREATED:20240726T121428Z
LAST-MODIFIED:20240726T121428Z
UID:10020093-1722615000-1722618600@www.dancesoul.com.tw
SUMMARY:Jazz Funk(初)-Larry
DESCRIPTION:
URL:https://www.dancesoul.com.tw/schedule/jazz-funk%e5%88%9d-larry-4/2024-08-02/
CATEGORIES:Jazz Funk 初級,常態課_初級,課程
END:VEVENT
BEGIN:VEVENT
DTSTART;TZID=Asia/Shanghai:20240802T172000
DTEND;TZID=Asia/Shanghai:20240802T182000
DTSTAMP:20260421T072149
CREATED:20240726T121516Z
LAST-MODIFIED:20240726T121516Z
UID:10020097-1722619200-1722622800@www.dancesoul.com.tw
SUMMARY:Choreography-達達
DESCRIPTION:
URL:https://www.dancesoul.com.tw/schedule/choreography-%e9%81%94%e9%81%94-2/2024-08-02/
CATEGORIES:Choreography,常態課_一般,課程
END:VEVENT
BEGIN:VEVENT
DTSTART;TZID=Asia/Shanghai:20240802T183000
DTEND;TZID=Asia/Shanghai:20240802T193000
DTSTAMP:20260421T072149
CREATED:20240726T121637Z
LAST-MODIFIED:20240726T121637Z
UID:10020101-1722623400-1722627000@www.dancesoul.com.tw
SUMMARY:Street Jazz(初)-Cen妹
DESCRIPTION:
URL:https://www.dancesoul.com.tw/schedule/street-jazz%e5%88%9d-cen%e5%a6%b9-34/2024-08-02/
CATEGORIES:STREET JAZZ 初級,常態課_初級,課程
END:VEVENT
BEGIN:VEVENT
DTSTART;TZID=Asia/Shanghai:20240802T194000
DTEND;TZID=Asia/Shanghai:20240802T204000
DTSTAMP:20260421T072149
CREATED:20240726T121727Z
LAST-MODIFIED:20240726T121727Z
UID:10020106-1722627600-1722631200@www.dancesoul.com.tw
SUMMARY:Hip Hop(初)-佐佐
DESCRIPTION:
URL:https://www.dancesoul.com.tw/schedule/hip-hop%e5%88%9d-%e4%bd%90%e4%bd%90-13/2024-08-02/
CATEGORIES:Hip Hop 初級,常態課_初級,課程
END:VEVENT
BEGIN:VEVENT
DTSTART;TZID=Asia/Shanghai:20240802T205000
DTEND;TZID=Asia/Shanghai:20240802T215000
DTSTAMP:20260421T072149
CREATED:20240726T121850Z
LAST-MODIFIED:20240726T121850Z
UID:10020111-1722631800-1722635400@www.dancesoul.com.tw
SUMMARY:Jazz Funk-鈴鐺
DESCRIPTION:
URL:https://www.dancesoul.com.tw/schedule/jazz-funk-%e9%88%b4%e9%90%ba-21/2024-08-02/
CATEGORIES:Jazz Funk,常態課_一般,課程
END:VEVENT
BEGIN:VEVENT
DTSTART;TZID=Asia/Shanghai:20240803T132000
DTEND;TZID=Asia/Shanghai:20240803T142000
DTSTAMP:20260421T072149
CREATED:20240726T105755Z
LAST-MODIFIED:20240726T105755Z
UID:10019933-1722691200-1722694800@www.dancesoul.com.tw
SUMMARY:兒童街舞-薇臻
DESCRIPTION:
URL:https://www.dancesoul.com.tw/schedule/%e5%85%92%e7%ab%a5%e8%a1%97%e8%88%9e-%e8%96%87%e8%87%bb-9/2024-08-03/
CATEGORIES:兒童街舞,兒童課,課程
END:VEVENT
BEGIN:VEVENT
DTSTART;TZID=Asia/Shanghai:20240803T143000
DTEND;TZID=Asia/Shanghai:20240803T153000
DTSTAMP:20260421T072149
CREATED:20240729T055037Z
LAST-MODIFIED:20240729T055037Z
UID:10020116-1722695400-1722699000@www.dancesoul.com.tw
SUMMARY:兒童MV-(LISA - ROCKSTAR)-薇臻
DESCRIPTION:
URL:https://www.dancesoul.com.tw/schedule/%e5%85%92%e7%ab%a5mv-lisa-rockstar-%e8%96%87%e8%87%bb/2024-08-03/
CATEGORIES:兒童MV,兒童課,課程
END:VEVENT
BEGIN:VEVENT
DTSTART;TZID=Asia/Shanghai:20240803T154000
DTEND;TZID=Asia/Shanghai:20240803T164000
DTSTAMP:20260421T072149
CREATED:20240726T110003Z
LAST-MODIFIED:20240726T110003Z
UID:10019938-1722699600-1722703200@www.dancesoul.com.tw
SUMMARY:兒童基礎街舞-傘傘
DESCRIPTION:
URL:https://www.dancesoul.com.tw/schedule/%e5%85%92%e7%ab%a5%e5%9f%ba%e7%a4%8e%e8%a1%97%e8%88%9e-%e5%82%98%e5%82%98-2/2024-08-03/
CATEGORIES:兒童基礎街舞,兒童課,課程
END:VEVENT
BEGIN:VEVENT
DTSTART;TZID=Asia/Shanghai:20240803T165000
DTEND;TZID=Asia/Shanghai:20240803T175000
DTSTAMP:20260421T072149
CREATED:20240726T110157Z
LAST-MODIFIED:20240726T110157Z
UID:10019943-1722703800-1722707400@www.dancesoul.com.tw
SUMMARY:MV-(KISS OF LIFE - Sticky)-怡妏
DESCRIPTION:
URL:https://www.dancesoul.com.tw/schedule/mv-kiss-of-life-sticky-%e6%80%a1%e5%a6%8f/2024-08-03/
CATEGORIES:MV課,課程
END:VEVENT
BEGIN:VEVENT
DTSTART;TZID=Asia/Shanghai:20240803T180000
DTEND;TZID=Asia/Shanghai:20240803T190000
DTSTAMP:20260421T072149
CREATED:20240726T110259Z
LAST-MODIFIED:20240726T110259Z
UID:10019948-1722708000-1722711600@www.dancesoul.com.tw
SUMMARY:Popping-紀威
DESCRIPTION:
URL:https://www.dancesoul.com.tw/schedule/popping-%e7%b4%80%e5%a8%81-43/2024-08-03/
CATEGORIES:Poppin,常態課_一般,課程
END:VEVENT
BEGIN:VEVENT
DTSTART;TZID=Asia/Shanghai:20240803T191000
DTEND;TZID=Asia/Shanghai:20240803T201000
DTSTAMP:20260421T072149
CREATED:20240726T110428Z
LAST-MODIFIED:20240726T110428Z
UID:10019953-1722712200-1722715800@www.dancesoul.com.tw
SUMMARY:Choreography(初)-無盡
DESCRIPTION:
URL:https://www.dancesoul.com.tw/schedule/choreography%e5%88%9d-%e7%84%a1%e7%9b%a1-3/2024-08-03/
CATEGORIES:Choreography 初級,常態課_初級,課程
END:VEVENT
BEGIN:VEVENT
DTSTART;TZID=Asia/Shanghai:20240803T202000
DTEND;TZID=Asia/Shanghai:20240803T212000
DTSTAMP:20260421T072149
CREATED:20240726T110529Z
LAST-MODIFIED:20240726T110529Z
UID:10019958-1722716400-1722720000@www.dancesoul.com.tw
SUMMARY:基礎入門-雞蛋
DESCRIPTION:
URL:https://www.dancesoul.com.tw/schedule/%e5%9f%ba%e7%a4%8e%e5%85%a5%e9%96%80-%e9%9b%9e%e8%9b%8b-30/2024-08-03/
CATEGORIES:基礎入門,常態課_初級,課程
END:VEVENT
BEGIN:VEVENT
DTSTART;TZID=Asia/Shanghai:20240804T132000
DTEND;TZID=Asia/Shanghai:20240804T142000
DTSTAMP:20260421T072149
CREATED:20240726T110716Z
LAST-MODIFIED:20240726T110716Z
UID:10019963-1722777600-1722781200@www.dancesoul.com.tw
SUMMARY:兒童街舞-羿芃
DESCRIPTION:
URL:https://www.dancesoul.com.tw/schedule/%e5%85%92%e7%ab%a5%e8%a1%97%e8%88%9e-%e7%be%bf%e8%8a%83-8/2024-08-04/
CATEGORIES:兒童街舞,兒童課,課程
END:VEVENT
BEGIN:VEVENT
DTSTART;TZID=Asia/Shanghai:20240804T143000
DTEND;TZID=Asia/Shanghai:20240804T153000
DTSTAMP:20260421T072149
CREATED:20240726T111524Z
LAST-MODIFIED:20240726T111524Z
UID:10019967-1722781800-1722785400@www.dancesoul.com.tw
SUMMARY:兒童MV-((G)I-DLE - Klaxon)-羿芃
DESCRIPTION:
URL:https://www.dancesoul.com.tw/schedule/%e5%85%92%e7%ab%a5mv-gi-dle-klaxon-%e7%be%bf%e8%8a%83/2024-08-04/
CATEGORIES:兒童MV,兒童課,課程
END:VEVENT
BEGIN:VEVENT
DTSTART;TZID=Asia/Shanghai:20240804T154000
DTEND;TZID=Asia/Shanghai:20240804T164000
DTSTAMP:20260421T072149
CREATED:20240726T111702Z
LAST-MODIFIED:20240726T111702Z
UID:10019971-1722786000-1722789600@www.dancesoul.com.tw
SUMMARY:兒童 Street Jazz-傘傘
DESCRIPTION:
URL:https://www.dancesoul.com.tw/schedule/%e5%85%92%e7%ab%a5-street-jazz-%e5%82%98%e5%82%98-2/2024-08-04/
CATEGORIES:兒童 Street Jazz,兒童課,課程
END:VEVENT
BEGIN:VEVENT
DTSTART;TZID=Asia/Shanghai:20240804T165000
DTEND;TZID=Asia/Shanghai:20240804T175000
DTSTAMP:20260421T072149
CREATED:20240726T111812Z
LAST-MODIFIED:20240726T111812Z
UID:10019975-1722790200-1722793800@www.dancesoul.com.tw
SUMMARY:MV-(LISA - ROCKSTAR)-瑜庭
DESCRIPTION:
URL:https://www.dancesoul.com.tw/schedule/mv-lisa-rockstar-%e7%91%9c%e5%ba%ad/2024-08-04/
CATEGORIES:MV課,課程
END:VEVENT
BEGIN:VEVENT
DTSTART;TZID=Asia/Shanghai:20240804T180000
DTEND;TZID=Asia/Shanghai:20240804T190000
DTSTAMP:20260421T072149
CREATED:20240726T112005Z
LAST-MODIFIED:20240726T112330Z
UID:10019988-1722794400-1722798000@www.dancesoul.com.tw
SUMMARY:Jazz Funk-姿昀
DESCRIPTION:
URL:https://www.dancesoul.com.tw/schedule/jazz-funk-%e5%a7%bf%e6%98%80/2024-08-04/
CATEGORIES:Jazz Funk,常態課_一般,課程
END:VEVENT
BEGIN:VEVENT
DTSTART;TZID=Asia/Shanghai:20240804T191000
DTEND;TZID=Asia/Shanghai:20240804T201000
DTSTAMP:20260421T072149
CREATED:20240726T112141Z
LAST-MODIFIED:20240726T112141Z
UID:10019984-1722798600-1722802200@www.dancesoul.com.tw
SUMMARY:Hip Hop(初)-承翰
DESCRIPTION:
URL:https://www.dancesoul.com.tw/schedule/hip-hop%e5%88%9d-%e6%89%bf%e7%bf%b0-6/2024-08-04/
CATEGORIES:Hip Hop 初級,常態課_初級,課程
END:VEVENT
BEGIN:VEVENT
DTSTART;TZID=Asia/Shanghai:20240805T150000
DTEND;TZID=Asia/Shanghai:20240805T160000
DTSTAMP:20260421T072149
CREATED:20240726T112653Z
LAST-MODIFIED:20240726T112653Z
UID:10019992-1722870000-1722873600@www.dancesoul.com.tw
SUMMARY:兒童MV-(STAYC - Cheeky Icy Thang)-昀珊
DESCRIPTION:
URL:https://www.dancesoul.com.tw/schedule/%e5%85%92%e7%ab%a5mv-stayc-cheeky-icy-thang-%e6%98%80%e7%8f%8a/2024-08-05/
CATEGORIES:兒童MV,兒童課,課程
END:VEVENT
BEGIN:VEVENT
DTSTART;TZID=Asia/Shanghai:20240805T161000
DTEND;TZID=Asia/Shanghai:20240805T171000
DTSTAMP:20260421T072149
CREATED:20240726T114237Z
LAST-MODIFIED:20240726T114237Z
UID:10020013-1722874200-1722877800@www.dancesoul.com.tw
SUMMARY:Street Jazz(初)-Kyle
DESCRIPTION:
URL:https://www.dancesoul.com.tw/schedule/street-jazz%e5%88%9d-kyle-16/2024-08-05/
CATEGORIES:STREET JAZZ 初級,常態課_初級,課程
END:VEVENT
BEGIN:VEVENT
DTSTART;TZID=Asia/Shanghai:20240805T172000
DTEND;TZID=Asia/Shanghai:20240805T182000
DTSTAMP:20260421T072149
CREATED:20240726T114354Z
LAST-MODIFIED:20240726T114354Z
UID:10020017-1722878400-1722882000@www.dancesoul.com.tw
SUMMARY:Choreography-俊宏
DESCRIPTION:
URL:https://www.dancesoul.com.tw/schedule/choreography-%e4%bf%8a%e5%ae%8f-2/2024-08-05/
CATEGORIES:Choreography,常態課_一般
END:VEVENT
BEGIN:VEVENT
DTSTART;TZID=Asia/Shanghai:20240805T183000
DTEND;TZID=Asia/Shanghai:20240805T193000
DTSTAMP:20260421T072149
CREATED:20240726T114555Z
LAST-MODIFIED:20240726T114555Z
UID:10020021-1722882600-1722886200@www.dancesoul.com.tw
SUMMARY:Twerk(初)-碗公
DESCRIPTION:
URL:https://www.dancesoul.com.tw/schedule/twerk%e5%88%9d-%e7%a2%97%e5%85%ac-33/2024-08-05/
CATEGORIES:Twerk 初級,常態課_初級,課程
END:VEVENT
BEGIN:VEVENT
DTSTART;TZID=Asia/Shanghai:20240805T194000
DTEND;TZID=Asia/Shanghai:20240805T204000
DTSTAMP:20260421T072149
CREATED:20240726T114656Z
LAST-MODIFIED:20240726T114656Z
UID:10020025-1722886800-1722890400@www.dancesoul.com.tw
SUMMARY:Heels(初)-宋靜
DESCRIPTION:
URL:https://www.dancesoul.com.tw/schedule/heels%e5%88%9d-%e5%ae%8b%e9%9d%9c-31/2024-08-05/
CATEGORIES:Heels 初級,常態課_初級,課程
END:VEVENT
END:VCALENDAR