BEGIN:VCALENDAR
VERSION:2.0
PRODID:-//DANCE SOUL 舞魂街舞學校 - ECPv6.15.18//NONSGML v1.0//EN
CALSCALE:GREGORIAN
METHOD:PUBLISH
X-ORIGINAL-URL:https://www.dancesoul.com.tw
X-WR-CALDESC:Events for DANCE SOUL 舞魂街舞學校
REFRESH-INTERVAL;VALUE=DURATION:PT1H
X-Robots-Tag:noindex
X-PUBLISHED-TTL:PT1H
BEGIN:VTIMEZONE
TZID:Asia/Shanghai
BEGIN:STANDARD
TZOFFSETFROM:+0800
TZOFFSETTO:+0800
TZNAME:CST
DTSTART:20250101T000000
END:STANDARD
END:VTIMEZONE
BEGIN:VEVENT
DTSTART;TZID=Asia/Shanghai:20261101T132000
DTEND;TZID=Asia/Shanghai:20261101T142000
DTSTAMP:20260421T113020
CREATED:20250901T055750Z
LAST-MODIFIED:20250901T055750Z
UID:10028888-1793539200-1793542800@www.dancesoul.com.tw
SUMMARY:兒童街舞-羿芃
DESCRIPTION:
URL:https://www.dancesoul.com.tw/schedule/%e5%85%92%e7%ab%a5%e8%a1%97%e8%88%9e-%e7%be%bf%e8%8a%83-20/2026-11-01/
CATEGORIES:兒童街舞,課程
END:VEVENT
BEGIN:VEVENT
DTSTART;TZID=Asia/Shanghai:20261101T143000
DTEND;TZID=Asia/Shanghai:20261101T153000
DTSTAMP:20260421T113020
CREATED:20260315T071830Z
LAST-MODIFIED:20260315T071830Z
UID:10029149-1793543400-1793547000@www.dancesoul.com.tw
SUMMARY:兒童MV(ILLIT-opps!)-羿芃
DESCRIPTION:
URL:https://www.dancesoul.com.tw/schedule/%e5%85%92%e7%ab%a5mvizna-sass-%e7%be%bf%e8%8a%83-2-2/2026-11-01/
CATEGORIES:兒童MV,兒童課
END:VEVENT
BEGIN:VEVENT
DTSTART;TZID=Asia/Shanghai:20261101T154000
DTEND;TZID=Asia/Shanghai:20261101T164000
DTSTAMP:20260421T113020
CREATED:20250901T060229Z
LAST-MODIFIED:20250901T060229Z
UID:10029410-1793547600-1793551200@www.dancesoul.com.tw
SUMMARY:兒童Street Jazz-傘傘
DESCRIPTION:
URL:https://www.dancesoul.com.tw/schedule/%e5%85%92%e7%ab%a5street-jazz-%e5%82%98%e5%82%98-4/2026-11-01/
CATEGORIES:兒童街舞,兒童課
END:VEVENT
BEGIN:VEVENT
DTSTART;TZID=Asia/Shanghai:20261101T165000
DTEND;TZID=Asia/Shanghai:20261101T175000
DTSTAMP:20260421T113020
CREATED:20251201T095640Z
LAST-MODIFIED:20260315T071631Z
UID:10029671-1793551800-1793555400@www.dancesoul.com.tw
SUMMARY:MV(Apink - 'Love Me More')-Jenny
DESCRIPTION:
URL:https://www.dancesoul.com.tw/schedule/mvsomi-closer-%e7%91%9c%e5%ba%ad-2/2026-11-01/
CATEGORIES:MV課,課程
END:VEVENT
BEGIN:VEVENT
DTSTART;TZID=Asia/Shanghai:20261101T182000
DTEND;TZID=Asia/Shanghai:20261101T192000
DTSTAMP:20260421T113020
CREATED:20260327T085927Z
LAST-MODIFIED:20260327T085927Z
UID:10037181-1793557200-1793560800@www.dancesoul.com.tw
SUMMARY:Jazz Funk-Zulin小霖
DESCRIPTION:
URL:https://www.dancesoul.com.tw/schedule/jazz-funk-zulin%e5%b0%8f%e9%9c%96/2026-11-01/
END:VEVENT
BEGIN:VEVENT
DTSTART;TZID=Asia/Shanghai:20261101T192500
DTEND;TZID=Asia/Shanghai:20261101T202500
DTSTAMP:20260421T113020
CREATED:20260327T081608Z
LAST-MODIFIED:20260327T081608Z
UID:10030193-1793561100-1793564700@www.dancesoul.com.tw
SUMMARY:Hip Hop-ROD
DESCRIPTION:
URL:https://www.dancesoul.com.tw/schedule/hip-hop-%e6%89%bf%e7%bf%b0-2-2/2026-11-01/
CATEGORIES:Hip Hop,常態課_一般,課程
END:VEVENT
BEGIN:VEVENT
DTSTART;TZID=Asia/Shanghai:20261102T182000
DTEND;TZID=Asia/Shanghai:20261102T192000
DTSTAMP:20260421T113020
CREATED:20260327T084628Z
LAST-MODIFIED:20260327T084933Z
UID:10035329-1793643600-1793647200@www.dancesoul.com.tw
SUMMARY:MV-瑜庭
DESCRIPTION:
URL:https://www.dancesoul.com.tw/schedule/mvtwice-this-is-for-%e7%91%9c%e5%ba%ad-2/2026-11-02/
CATEGORIES:MV課,課程
END:VEVENT
BEGIN:VEVENT
DTSTART;TZID=Asia/Shanghai:20261102T192500
DTEND;TZID=Asia/Shanghai:20261102T202500
DTSTAMP:20260421T113020
CREATED:20260327T082108Z
LAST-MODIFIED:20260327T082108Z
UID:10030801-1793647500-1793651100@www.dancesoul.com.tw
SUMMARY:Jazz Funk-魏小美
DESCRIPTION:
URL:https://www.dancesoul.com.tw/schedule/jazz-funk-%e9%ad%8f%e5%b0%8f%e7%be%8e-84-2-2/2026-11-02/
END:VEVENT
BEGIN:VEVENT
DTSTART;TZID=Asia/Shanghai:20261102T203000
DTEND;TZID=Asia/Shanghai:20261102T213000
DTSTAMP:20260421T113020
CREATED:20260327T084046Z
LAST-MODIFIED:20260327T084828Z
UID:10035065-1793651400-1793655000@www.dancesoul.com.tw
SUMMARY:Heels-宋靜
DESCRIPTION:
URL:https://www.dancesoul.com.tw/schedule/heels-%e5%ae%8b%e9%9d%9c-3-2/2026-11-02/
END:VEVENT
BEGIN:VEVENT
DTSTART;TZID=Asia/Shanghai:20261102T213500
DTEND;TZID=Asia/Shanghai:20261102T223500
DTSTAMP:20260421T113020
CREATED:20260327T082216Z
LAST-MODIFIED:20260327T082217Z
UID:10032426-1793655300-1793658900@www.dancesoul.com.tw
SUMMARY:Jazz Funk-姿昀
DESCRIPTION:
URL:https://www.dancesoul.com.tw/schedule/jazz-funk-%e5%a7%bf%e6%98%80-15-2/2026-11-02/
CATEGORIES:Jazz Funk,課程
END:VEVENT
BEGIN:VEVENT
DTSTART;TZID=Asia/Shanghai:20261103T182000
DTEND;TZID=Asia/Shanghai:20261103T192000
DTSTAMP:20260421T113020
CREATED:20250828T095545Z
LAST-MODIFIED:20250828T095545Z
UID:10023674-1793730000-1793733600@www.dancesoul.com.tw
SUMMARY:MV-薇臻
DESCRIPTION:
URL:https://www.dancesoul.com.tw/schedule/mv-%e8%96%87%e8%87%bb-4/2026-11-03/
END:VEVENT
BEGIN:VEVENT
DTSTART;TZID=Asia/Shanghai:20261103T192500
DTEND;TZID=Asia/Shanghai:20261103T202500
DTSTAMP:20260421T113020
CREATED:20260327T083744Z
LAST-MODIFIED:20260327T083744Z
UID:10034274-1793733900-1793737500@www.dancesoul.com.tw
SUMMARY:Choreography-羅毅
DESCRIPTION:
URL:https://www.dancesoul.com.tw/schedule/choreography-%e7%be%85%e6%af%85-2-2/2026-11-03/
CATEGORIES:Choreography,常態課_一般,課程
END:VEVENT
BEGIN:VEVENT
DTSTART;TZID=Asia/Shanghai:20261103T202000
DTEND;TZID=Asia/Shanghai:20261103T212000
DTSTAMP:20260421T113020
CREATED:20250828T100203Z
LAST-MODIFIED:20250828T100203Z
UID:10023936-1793737200-1793740800@www.dancesoul.com.tw
SUMMARY:Free Style-俊宏
DESCRIPTION:
URL:https://www.dancesoul.com.tw/schedule/free-style-%e4%bf%8a%e5%ae%8f-29/2026-11-03/
CATEGORIES:Freestyle,常態課_一般,課程
END:VEVENT
BEGIN:VEVENT
DTSTART;TZID=Asia/Shanghai:20261103T213500
DTEND;TZID=Asia/Shanghai:20261103T223500
DTSTAMP:20260421T113020
CREATED:20260327T081822Z
LAST-MODIFIED:20260327T081932Z
UID:10032142-1793741700-1793745300@www.dancesoul.com.tw
SUMMARY:Hip Hop-承翰
DESCRIPTION:
URL:https://www.dancesoul.com.tw/schedule/hip-hop-%e6%89%bf%e7%bf%b0-2-3/2026-11-03/
CATEGORIES:Hip Hop,常態課_一般,課程
END:VEVENT
BEGIN:VEVENT
DTSTART;TZID=Asia/Shanghai:20261104T182000
DTEND;TZID=Asia/Shanghai:20261104T192000
DTSTAMP:20260421T113020
CREATED:20260327T082544Z
LAST-MODIFIED:20260327T082544Z
UID:10032955-1793816400-1793820000@www.dancesoul.com.tw
SUMMARY:Choreography(初)-無盡
DESCRIPTION:
URL:https://www.dancesoul.com.tw/schedule/choreography%e5%88%9d-%e7%84%a1%e7%9b%a1-14-2/2026-11-04/
CATEGORIES:Choreography 初級,常態課_初級,課程
END:VEVENT
BEGIN:VEVENT
DTSTART;TZID=Asia/Shanghai:20261104T192500
DTEND;TZID=Asia/Shanghai:20261104T202500
DTSTAMP:20260421T113020
CREATED:20250828T102504Z
LAST-MODIFIED:20250828T102504Z
UID:10024719-1793820300-1793823900@www.dancesoul.com.tw
SUMMARY:Street Jazz-Larry
DESCRIPTION:
URL:https://www.dancesoul.com.tw/schedule/street-jazz-larry-30/2026-11-04/
CATEGORIES:STREET JAZZ,常態課_一般,課程
END:VEVENT
BEGIN:VEVENT
DTSTART;TZID=Asia/Shanghai:20261104T203000
DTEND;TZID=Asia/Shanghai:20261104T213000
DTSTAMP:20260421T113020
CREATED:20250828T103540Z
LAST-MODIFIED:20250828T103540Z
UID:10024980-1793824200-1793827800@www.dancesoul.com.tw
SUMMARY:Street Jazz-Kyle
DESCRIPTION:
URL:https://www.dancesoul.com.tw/schedule/street-jazz-kyle-4/2026-11-04/
CATEGORIES:STREET JAZZ,常態課_一般,課程
END:VEVENT
BEGIN:VEVENT
DTSTART;TZID=Asia/Shanghai:20261104T213500
DTEND;TZID=Asia/Shanghai:20261104T223500
DTSTAMP:20260421T113020
CREATED:20260327T085649Z
LAST-MODIFIED:20260327T085650Z
UID:10036652-1793828100-1793831700@www.dancesoul.com.tw
SUMMARY:MV-緗緗
DESCRIPTION:
URL:https://www.dancesoul.com.tw/schedule/mv-%e7%b7%97%e7%b7%97-2-2/2026-11-04/
END:VEVENT
BEGIN:VEVENT
DTSTART;TZID=Asia/Shanghai:20261105T182000
DTEND;TZID=Asia/Shanghai:20261105T192000
DTSTAMP:20260421T113020
CREATED:20251202T055643Z
LAST-MODIFIED:20251202T055645Z
UID:10025502-1793902800-1793906400@www.dancesoul.com.tw
SUMMARY:Street Jazz-羊羊
DESCRIPTION:
URL:https://www.dancesoul.com.tw/schedule/hip-hop-%e4%bd%90%e4%bd%90-2-2/2026-11-05/
CATEGORIES:Hip Hop,常態課_一般,課程
END:VEVENT
BEGIN:VEVENT
DTSTART;TZID=Asia/Shanghai:20261105T192500
DTEND;TZID=Asia/Shanghai:20261105T202500
DTSTAMP:20260421T113020
CREATED:20260327T082918Z
LAST-MODIFIED:20260327T084510Z
UID:10034801-1793906700-1793910300@www.dancesoul.com.tw
SUMMARY:Hip Hop(初)-林彤
DESCRIPTION:
URL:https://www.dancesoul.com.tw/schedule/hip-hop%e5%88%9d-%e6%9e%97%e5%bd%a4-3-2/2026-11-05/
CATEGORIES:Hip Hop 初級,常態課_初級,課程
END:VEVENT
BEGIN:VEVENT
DTSTART;TZID=Asia/Shanghai:20261105T203000
DTEND;TZID=Asia/Shanghai:20261105T213000
DTSTAMP:20260421T113020
CREATED:20260327T085246Z
LAST-MODIFIED:20260327T085313Z
UID:10036124-1793910600-1793914200@www.dancesoul.com.tw
SUMMARY:Choreography-HU RUEI胡睿
DESCRIPTION:
URL:https://www.dancesoul.com.tw/schedule/choreography-hu-ruei%e8%83%a1%e7%9d%bf/2026-11-05/
END:VEVENT
BEGIN:VEVENT
DTSTART;TZID=Asia/Shanghai:20261105T213500
DTEND;TZID=Asia/Shanghai:20261105T223500
DTSTAMP:20260421T113020
CREATED:20250828T104929Z
LAST-MODIFIED:20250828T104929Z
UID:10026282-1793914500-1793918100@www.dancesoul.com.tw
SUMMARY:Choreography-巴豪
DESCRIPTION:
URL:https://www.dancesoul.com.tw/schedule/choreography-%e5%b7%b4%e8%b1%aa-7/2026-11-05/
CATEGORIES:Choreography,常態課_一般,課程
END:VEVENT
BEGIN:VEVENT
DTSTART;TZID=Asia/Shanghai:20261106T182000
DTEND;TZID=Asia/Shanghai:20261106T192000
DTSTAMP:20260421T113020
CREATED:20260327T083919Z
LAST-MODIFIED:20260327T083920Z
UID:10034538-1793989200-1793992800@www.dancesoul.com.tw
SUMMARY:Twerk（初）-碗公
DESCRIPTION:
URL:https://www.dancesoul.com.tw/schedule/twerk%ef%bc%88%e5%88%9d%ef%bc%89-%e7%a2%97%e5%85%ac-2-2/2026-11-06/
END:VEVENT
BEGIN:VEVENT
DTSTART;TZID=Asia/Shanghai:20261106T192500
DTEND;TZID=Asia/Shanghai:20261106T202500
DTSTAMP:20260421T113020
CREATED:20260327T090205Z
LAST-MODIFIED:20260327T090205Z
UID:10037446-1793993100-1793996700@www.dancesoul.com.tw
SUMMARY:Street Jazz-CenMei
DESCRIPTION:
URL:https://www.dancesoul.com.tw/schedule/street-jazz-cenmei/2026-11-06/
END:VEVENT
BEGIN:VEVENT
DTSTART;TZID=Asia/Shanghai:20261106T203000
DTEND;TZID=Asia/Shanghai:20261106T213000
DTSTAMP:20260421T113020
CREATED:20260327T090256Z
LAST-MODIFIED:20260327T090256Z
UID:10037710-1793997000-1794000600@www.dancesoul.com.tw
SUMMARY:Jazz Funk-Dang 鈴鐺
DESCRIPTION:
URL:https://www.dancesoul.com.tw/schedule/jazz-funk-dang-%e9%88%b4%e9%90%ba/2026-11-06/
END:VEVENT
BEGIN:VEVENT
DTSTART;TZID=Asia/Shanghai:20261106T213500
DTEND;TZID=Asia/Shanghai:20261106T223500
DTSTAMP:20260421T113020
CREATED:20260327T085804Z
LAST-MODIFIED:20260327T085804Z
UID:10036917-1794000900-1794004500@www.dancesoul.com.tw
SUMMARY:Street Jazz-Roy燦伊
DESCRIPTION:
URL:https://www.dancesoul.com.tw/schedule/street-jazz-roy%e7%87%a6%e4%bc%8a/2026-11-06/
END:VEVENT
BEGIN:VEVENT
DTSTART;TZID=Asia/Shanghai:20261107T132000
DTEND;TZID=Asia/Shanghai:20261107T142000
DTSTAMP:20260421T113020
CREATED:20251201T070320Z
LAST-MODIFIED:20260315T072345Z
UID:10027322-1794057600-1794061200@www.dancesoul.com.tw
SUMMARY:兒童MV(初)(i-dle - 'Mona(Feat.skaiwater)')-薇臻
DESCRIPTION:
URL:https://www.dancesoul.com.tw/schedule/%e5%85%92%e7%ab%a5%e8%a1%97%e8%88%9e-%e8%96%87%e8%87%bb-21-2-2-2/2026-11-07/
CATEGORIES:兒童街舞,兒童課
END:VEVENT
BEGIN:VEVENT
DTSTART;TZID=Asia/Shanghai:20261107T143000
DTEND;TZID=Asia/Shanghai:20261107T153000
DTSTAMP:20260421T113020
CREATED:20251202T055414Z
LAST-MODIFIED:20260315T072223Z
UID:10027583-1794061800-1794065400@www.dancesoul.com.tw
SUMMARY:兒童MV(IVE - 'BANG BANG')-薇臻
DESCRIPTION:
URL:https://www.dancesoul.com.tw/schedule/%e5%85%92%e7%ab%a5mvbabymonster-hot-sauce-%e8%96%87%e8%87%bb-2/2026-11-07/
CATEGORIES:MV課,兒童MV,課程
END:VEVENT
BEGIN:VEVENT
DTSTART;TZID=Asia/Shanghai:20261107T154000
DTEND;TZID=Asia/Shanghai:20261107T164000
DTSTAMP:20260421T113020
CREATED:20250901T055134Z
LAST-MODIFIED:20260327T083158Z
UID:10033485-1794066000-1794069600@www.dancesoul.com.tw
SUMMARY:兒童Popping-勁宏
DESCRIPTION:
URL:https://www.dancesoul.com.tw/schedule/%e5%85%92%e7%ab%a5popping-%e5%8b%81%e5%ae%8f-2/2026-11-07/
CATEGORIES:兒童街舞,課程
END:VEVENT
BEGIN:VEVENT
DTSTART;TZID=Asia/Shanghai:20261107T164000
DTEND;TZID=Asia/Shanghai:20261107T174000
DTSTAMP:20260421T113020
CREATED:20260315T072002Z
LAST-MODIFIED:20260315T072518Z
UID:10027845-1794069600-1794073200@www.dancesoul.com.tw
SUMMARY:MV(IVE - ‘BANG BANG’)-薇臻
DESCRIPTION:
URL:https://www.dancesoul.com.tw/schedule/mvive-xoxz-%e5%87%9d%e7%90%a6-2-2/2026-11-07/
CATEGORIES:MV課,課程
END:VEVENT
END:VCALENDAR