BEGIN:VCALENDAR
VERSION:2.0
PRODID:-//DANCE SOUL 舞魂街舞學校 - ECPv6.15.18//NONSGML v1.0//EN
CALSCALE:GREGORIAN
METHOD:PUBLISH
X-ORIGINAL-URL:https://www.dancesoul.com.tw
X-WR-CALDESC:Events for DANCE SOUL 舞魂街舞學校
REFRESH-INTERVAL;VALUE=DURATION:PT1H
X-Robots-Tag:noindex
X-PUBLISHED-TTL:PT1H
BEGIN:VTIMEZONE
TZID:Asia/Shanghai
BEGIN:STANDARD
TZOFFSETFROM:+0800
TZOFFSETTO:+0800
TZNAME:CST
DTSTART:20230101T000000
END:STANDARD
END:VTIMEZONE
BEGIN:VEVENT
DTSTART;TZID=Asia/Shanghai:20240712T150000
DTEND;TZID=Asia/Shanghai:20240712T160000
DTSTAMP:20260423T070359
CREATED:20240625T090147Z
LAST-MODIFIED:20240625T090147Z
UID:10019919-1720796400-1720800000@www.dancesoul.com.tw
SUMMARY:兒童MV-(NAYEON - ABCD)-昀珊
DESCRIPTION:
URL:https://www.dancesoul.com.tw/schedule/%e5%85%92%e7%ab%a5mv-nayeon-abcd-%e6%98%80%e7%8f%8a/2024-07-12/
CATEGORIES:兒童MV,兒童課,課程
END:VEVENT
BEGIN:VEVENT
DTSTART;TZID=Asia/Shanghai:20240712T161000
DTEND;TZID=Asia/Shanghai:20240712T171000
DTSTAMP:20260423T070359
CREATED:20240624T093755Z
LAST-MODIFIED:20240624T093755Z
UID:10019891-1720800600-1720804200@www.dancesoul.com.tw
SUMMARY:Jazz Funk(初)-Larry
DESCRIPTION:
URL:https://www.dancesoul.com.tw/schedule/jazz-funk%e5%88%9d-larry-3/2024-07-12/
CATEGORIES:Jazz Funk 初級,常態課_初級,課程
END:VEVENT
BEGIN:VEVENT
DTSTART;TZID=Asia/Shanghai:20240712T172000
DTEND;TZID=Asia/Shanghai:20240712T182000
DTSTAMP:20260423T070359
CREATED:20240624T094023Z
LAST-MODIFIED:20240624T094023Z
UID:10019895-1720804800-1720808400@www.dancesoul.com.tw
SUMMARY:Choreography-達達
DESCRIPTION:
URL:https://www.dancesoul.com.tw/schedule/choreography-%e9%81%94%e9%81%94/2024-07-12/
CATEGORIES:Choreography,常態課_一般,課程
END:VEVENT
BEGIN:VEVENT
DTSTART;TZID=Asia/Shanghai:20240712T183000
DTEND;TZID=Asia/Shanghai:20240712T193000
DTSTAMP:20260423T070359
CREATED:20240624T094129Z
LAST-MODIFIED:20240624T094129Z
UID:10019899-1720809000-1720812600@www.dancesoul.com.tw
SUMMARY:Street Jazz(初)-Cen妹
DESCRIPTION:
URL:https://www.dancesoul.com.tw/schedule/street-jazz%e5%88%9d-cen%e5%a6%b9-33/2024-07-12/
CATEGORIES:STREET JAZZ 初級,常態課_初級,課程
END:VEVENT
BEGIN:VEVENT
DTSTART;TZID=Asia/Shanghai:20240712T194000
DTEND;TZID=Asia/Shanghai:20240712T204000
DTSTAMP:20260423T070359
CREATED:20240624T094259Z
LAST-MODIFIED:20240624T094259Z
UID:10019903-1720813200-1720816800@www.dancesoul.com.tw
SUMMARY:Hip Hop(初)-佐佐
DESCRIPTION:
URL:https://www.dancesoul.com.tw/schedule/hip-hop%e5%88%9d-%e4%bd%90%e4%bd%90-12/2024-07-12/
CATEGORIES:Hip Hop 初級,常態課_初級,課程
END:VEVENT
BEGIN:VEVENT
DTSTART;TZID=Asia/Shanghai:20240712T205000
DTEND;TZID=Asia/Shanghai:20240712T215000
DTSTAMP:20260423T070359
CREATED:20240624T094352Z
LAST-MODIFIED:20240624T094352Z
UID:10019907-1720817400-1720821000@www.dancesoul.com.tw
SUMMARY:Jazz Funk-鈴鐺
DESCRIPTION:
URL:https://www.dancesoul.com.tw/schedule/jazz-funk-%e9%88%b4%e9%90%ba-20/2024-07-12/
CATEGORIES:Jazz Funk,常態課_一般,課程
END:VEVENT
BEGIN:VEVENT
DTSTART;TZID=Asia/Shanghai:20240713T132000
DTEND;TZID=Asia/Shanghai:20240713T142000
DTSTAMP:20260423T070359
CREATED:20240624T073413Z
LAST-MODIFIED:20240624T073413Z
UID:10019715-1720876800-1720880400@www.dancesoul.com.tw
SUMMARY:兒童街舞-薇臻
DESCRIPTION:
URL:https://www.dancesoul.com.tw/schedule/%e5%85%92%e7%ab%a5%e8%a1%97%e8%88%9e-%e8%96%87%e8%87%bb-8/2024-07-13/
CATEGORIES:兒童街舞,兒童課,課程
END:VEVENT
BEGIN:VEVENT
DTSTART;TZID=Asia/Shanghai:20240713T143000
DTEND;TZID=Asia/Shanghai:20240713T153000
DTSTAMP:20260423T070359
CREATED:20240624T075531Z
LAST-MODIFIED:20240624T075531Z
UID:10019719-1720881000-1720884600@www.dancesoul.com.tw
SUMMARY:兒童MV-(Aespa - Armageddon)-薇臻
DESCRIPTION:
URL:https://www.dancesoul.com.tw/schedule/%e5%85%92%e7%ab%a5mv-aespa-armageddon-%e8%96%87%e8%87%bb/2024-07-13/
CATEGORIES:兒童MV,兒童課,課程
END:VEVENT
BEGIN:VEVENT
DTSTART;TZID=Asia/Shanghai:20240713T154000
DTEND;TZID=Asia/Shanghai:20240713T164000
DTSTAMP:20260423T070359
CREATED:20240624T081217Z
LAST-MODIFIED:20240624T081217Z
UID:10019723-1720885200-1720888800@www.dancesoul.com.tw
SUMMARY:兒童基礎街舞-傘傘
DESCRIPTION:
URL:https://www.dancesoul.com.tw/schedule/%e5%85%92%e7%ab%a5%e5%9f%ba%e7%a4%8e%e8%a1%97%e8%88%9e-%e5%82%98%e5%82%98/2024-07-13/
CATEGORIES:兒童基礎街舞,兒童課,課程
END:VEVENT
BEGIN:VEVENT
DTSTART;TZID=Asia/Shanghai:20240713T165000
DTEND;TZID=Asia/Shanghai:20240713T175000
DTSTAMP:20260423T070400
CREATED:20240624T081416Z
LAST-MODIFIED:20240624T081416Z
UID:10019727-1720889400-1720893000@www.dancesoul.com.tw
SUMMARY:MV-(NAYEON - ABCD)-怡妏
DESCRIPTION:
URL:https://www.dancesoul.com.tw/schedule/mv-nayeon-abcd-%e6%80%a1%e5%a6%8f/2024-07-13/
CATEGORIES:MV課,課程
END:VEVENT
BEGIN:VEVENT
DTSTART;TZID=Asia/Shanghai:20240713T180000
DTEND;TZID=Asia/Shanghai:20240713T190000
DTSTAMP:20260423T070400
CREATED:20240624T081646Z
LAST-MODIFIED:20240624T081646Z
UID:10019731-1720893600-1720897200@www.dancesoul.com.tw
SUMMARY:Popping-紀威
DESCRIPTION:
URL:https://www.dancesoul.com.tw/schedule/popping-%e7%b4%80%e5%a8%81-42/2024-07-13/
CATEGORIES:Poppin,常態課_一般,課程
END:VEVENT
BEGIN:VEVENT
DTSTART;TZID=Asia/Shanghai:20240713T191000
DTEND;TZID=Asia/Shanghai:20240713T201000
DTSTAMP:20260423T070400
CREATED:20240624T081748Z
LAST-MODIFIED:20240624T081748Z
UID:10019735-1720897800-1720901400@www.dancesoul.com.tw
SUMMARY:Choreography(初)-無盡
DESCRIPTION:
URL:https://www.dancesoul.com.tw/schedule/choreography%e5%88%9d-%e7%84%a1%e7%9b%a1-2/2024-07-13/
CATEGORIES:Choreography 初級,常態課_初級,課程
END:VEVENT
BEGIN:VEVENT
DTSTART;TZID=Asia/Shanghai:20240713T202000
DTEND;TZID=Asia/Shanghai:20240713T212000
DTSTAMP:20260423T070400
CREATED:20240624T082259Z
LAST-MODIFIED:20240624T082259Z
UID:10019739-1720902000-1720905600@www.dancesoul.com.tw
SUMMARY:基礎入門-雞蛋
DESCRIPTION:
URL:https://www.dancesoul.com.tw/schedule/%e5%9f%ba%e7%a4%8e%e5%85%a5%e9%96%80-%e9%9b%9e%e8%9b%8b-29/2024-07-13/
CATEGORIES:基礎入門,常態課_初級,課程
END:VEVENT
BEGIN:VEVENT
DTSTART;TZID=Asia/Shanghai:20240714T132000
DTEND;TZID=Asia/Shanghai:20240714T142000
DTSTAMP:20260423T070400
CREATED:20240624T085443Z
LAST-MODIFIED:20240624T085443Z
UID:10019743-1720963200-1720966800@www.dancesoul.com.tw
SUMMARY:兒童街舞-羿芃
DESCRIPTION:
URL:https://www.dancesoul.com.tw/schedule/%e5%85%92%e7%ab%a5%e8%a1%97%e8%88%9e-%e7%be%bf%e8%8a%83-7/2024-07-14/
CATEGORIES:兒童街舞,兒童課,課程
END:VEVENT
BEGIN:VEVENT
DTSTART;TZID=Asia/Shanghai:20240714T143000
DTEND;TZID=Asia/Shanghai:20240714T153000
DTSTAMP:20260423T070400
CREATED:20240624T085558Z
LAST-MODIFIED:20240624T085558Z
UID:10019747-1720967400-1720971000@www.dancesoul.com.tw
SUMMARY:兒童MV-(BABYMONSTER - LIKE THAT)-羿芃
DESCRIPTION:
URL:https://www.dancesoul.com.tw/schedule/%e5%85%92%e7%ab%a5mv-babymonster-like-that-%e7%be%bf%e8%8a%83/2024-07-14/
CATEGORIES:兒童MV,兒童課,課程
END:VEVENT
BEGIN:VEVENT
DTSTART;TZID=Asia/Shanghai:20240714T154000
DTEND;TZID=Asia/Shanghai:20240714T164000
DTSTAMP:20260423T070400
CREATED:20240624T085756Z
LAST-MODIFIED:20240624T085756Z
UID:10019751-1720971600-1720975200@www.dancesoul.com.tw
SUMMARY:兒童 Street Jazz-傘傘
DESCRIPTION:
URL:https://www.dancesoul.com.tw/schedule/%e5%85%92%e7%ab%a5-street-jazz-%e5%82%98%e5%82%98/2024-07-14/
CATEGORIES:兒童 Street Jazz,兒童課,課程
END:VEVENT
BEGIN:VEVENT
DTSTART;TZID=Asia/Shanghai:20240714T165000
DTEND;TZID=Asia/Shanghai:20240714T175000
DTSTAMP:20260423T070400
CREATED:20240624T085901Z
LAST-MODIFIED:20240624T085901Z
UID:10019755-1720975800-1720979400@www.dancesoul.com.tw
SUMMARY:MV-(Aespa - Armageddon)-瑜庭
DESCRIPTION:
URL:https://www.dancesoul.com.tw/schedule/mv-aespa-armageddon-%e7%91%9c%e5%ba%ad/2024-07-14/
CATEGORIES:MV課,課程
END:VEVENT
BEGIN:VEVENT
DTSTART;TZID=Asia/Shanghai:20240714T180000
DTEND;TZID=Asia/Shanghai:20240714T190000
DTSTAMP:20260423T070400
CREATED:20240624T090029Z
LAST-MODIFIED:20240624T090029Z
UID:10019759-1720980000-1720983600@www.dancesoul.com.tw
SUMMARY:Afro Style-聖恩
DESCRIPTION:
URL:https://www.dancesoul.com.tw/schedule/afro-style-%e8%81%96%e6%81%a9-2/2024-07-14/
CATEGORIES:Afro Style,常態課_一般,課程
END:VEVENT
BEGIN:VEVENT
DTSTART;TZID=Asia/Shanghai:20240714T191000
DTEND;TZID=Asia/Shanghai:20240714T201000
DTSTAMP:20260423T070400
CREATED:20240624T090132Z
LAST-MODIFIED:20240624T090132Z
UID:10019763-1720984200-1720987800@www.dancesoul.com.tw
SUMMARY:Hip Hop(初)-承翰
DESCRIPTION:
URL:https://www.dancesoul.com.tw/schedule/hip-hop%e5%88%9d-%e6%89%bf%e7%bf%b0-5/2024-07-14/
CATEGORIES:Hip Hop 初級,常態課_初級,課程
END:VEVENT
BEGIN:VEVENT
DTSTART;TZID=Asia/Shanghai:20240715T150000
DTEND;TZID=Asia/Shanghai:20240715T160000
DTSTAMP:20260423T070400
CREATED:20240625T085801Z
LAST-MODIFIED:20240625T085801Z
UID:10019912-1721055600-1721059200@www.dancesoul.com.tw
SUMMARY:兒童MV-(IVE - Accendio)-昀珊
DESCRIPTION:
URL:https://www.dancesoul.com.tw/schedule/%e5%85%92%e7%ab%a5mv-ive-accendio-%e6%98%80%e7%8f%8a/2024-07-15/
CATEGORIES:兒童MV,兒童課,課程
END:VEVENT
BEGIN:VEVENT
DTSTART;TZID=Asia/Shanghai:20240715T161000
DTEND;TZID=Asia/Shanghai:20240715T171000
DTSTAMP:20260423T070400
CREATED:20240624T090420Z
LAST-MODIFIED:20240624T090420Z
UID:10019773-1721059800-1721063400@www.dancesoul.com.tw
SUMMARY:Street Jazz(初)-Kyle
DESCRIPTION:
URL:https://www.dancesoul.com.tw/schedule/street-jazz%e5%88%9d-kyle-14/2024-07-15/
CATEGORIES:STREET JAZZ 初級,常態課_初級,課程
END:VEVENT
BEGIN:VEVENT
DTSTART;TZID=Asia/Shanghai:20240715T172000
DTEND;TZID=Asia/Shanghai:20240715T182000
DTSTAMP:20260423T070400
CREATED:20240624T090618Z
LAST-MODIFIED:20240624T090618Z
UID:10019778-1721064000-1721067600@www.dancesoul.com.tw
SUMMARY:Choreography-俊宏
DESCRIPTION:
URL:https://www.dancesoul.com.tw/schedule/choreography-%e4%bf%8a%e5%ae%8f/2024-07-15/
CATEGORIES:Choreography,常態課_一般,課程
END:VEVENT
BEGIN:VEVENT
DTSTART;TZID=Asia/Shanghai:20240715T183000
DTEND;TZID=Asia/Shanghai:20240715T193000
DTSTAMP:20260423T070400
CREATED:20240624T090709Z
LAST-MODIFIED:20240624T090709Z
UID:10019783-1721068200-1721071800@www.dancesoul.com.tw
SUMMARY:Twerk(初)-碗公
DESCRIPTION:
URL:https://www.dancesoul.com.tw/schedule/twerk%e5%88%9d-%e7%a2%97%e5%85%ac-32/2024-07-15/
CATEGORIES:Twerk 初級,常態課_初級,課程
END:VEVENT
BEGIN:VEVENT
DTSTART;TZID=Asia/Shanghai:20240715T194000
DTEND;TZID=Asia/Shanghai:20240715T204000
DTSTAMP:20260423T070400
CREATED:20240624T090839Z
LAST-MODIFIED:20240624T090839Z
UID:10019788-1721072400-1721076000@www.dancesoul.com.tw
SUMMARY:Heels(初)-宋靜
DESCRIPTION:
URL:https://www.dancesoul.com.tw/schedule/heels%e5%88%9d-%e5%ae%8b%e9%9d%9c-30/2024-07-15/
CATEGORIES:Heels 初級,常態課_初級,課程
END:VEVENT
BEGIN:VEVENT
DTSTART;TZID=Asia/Shanghai:20240715T205000
DTEND;TZID=Asia/Shanghai:20240715T215000
DTSTAMP:20260423T070400
CREATED:20240624T090926Z
LAST-MODIFIED:20240624T090926Z
UID:10019793-1721076600-1721080200@www.dancesoul.com.tw
SUMMARY:Jazz Funk-魏小美
DESCRIPTION:
URL:https://www.dancesoul.com.tw/schedule/jazz-funk-%e9%ad%8f%e5%b0%8f%e7%be%8e-73/2024-07-15/
CATEGORIES:Jazz Funk,常態課_一般,課程
END:VEVENT
BEGIN:VEVENT
DTSTART;TZID=Asia/Shanghai:20240716T150000
DTEND;TZID=Asia/Shanghai:20240716T160000
DTSTAMP:20260423T070400
CREATED:20240625T090729Z
LAST-MODIFIED:20240625T090729Z
UID:10019926-1721142000-1721145600@www.dancesoul.com.tw
SUMMARY:兒童MV-(NAYEON - ABCD)-薇臻
DESCRIPTION:
URL:https://www.dancesoul.com.tw/schedule/%e5%85%92%e7%ab%a5mv-nayeon-abcd-%e8%96%87%e8%87%bb/2024-07-16/
CATEGORIES:兒童MV,兒童課,課程
END:VEVENT
BEGIN:VEVENT
DTSTART;TZID=Asia/Shanghai:20240716T161000
DTEND;TZID=Asia/Shanghai:20240716T171000
DTSTAMP:20260423T070400
CREATED:20240624T091557Z
LAST-MODIFIED:20240624T091557Z
UID:10019816-1721146200-1721149800@www.dancesoul.com.tw
SUMMARY:Waacking(初)-品后
DESCRIPTION:
URL:https://www.dancesoul.com.tw/schedule/waacking%e5%88%9d-%e5%93%81%e5%90%8e-5/2024-07-16/
CATEGORIES:Waacking 初級,常態課_初級,課程
END:VEVENT
BEGIN:VEVENT
DTSTART;TZID=Asia/Shanghai:20240716T172000
DTEND;TZID=Asia/Shanghai:20240716T182000
DTSTAMP:20260423T070400
CREATED:20240624T091655Z
LAST-MODIFIED:20240624T091751Z
UID:10019826-1721150400-1721154000@www.dancesoul.com.tw
SUMMARY:Hip Hop-子賢
DESCRIPTION:
URL:https://www.dancesoul.com.tw/schedule/hip-hop-%e5%ad%90%e8%b3%a2/2024-07-16/
CATEGORIES:Hip Hop,常態課_一般,課程
END:VEVENT
BEGIN:VEVENT
DTSTART;TZID=Asia/Shanghai:20240716T183000
DTEND;TZID=Asia/Shanghai:20240716T193000
DTSTAMP:20260423T070400
CREATED:20240624T092021Z
LAST-MODIFIED:20240624T092021Z
UID:10019831-1721154600-1721158200@www.dancesoul.com.tw
SUMMARY:Free Style(初)-俊宏
DESCRIPTION:
URL:https://www.dancesoul.com.tw/schedule/free-style%e5%88%9d-%e4%bf%8a%e5%ae%8f-22/2024-07-16/
CATEGORIES:Freestyle 初級,常態課_初級,課程
END:VEVENT
BEGIN:VEVENT
DTSTART;TZID=Asia/Shanghai:20240716T194000
DTEND;TZID=Asia/Shanghai:20240716T204000
DTSTAMP:20260423T070400
CREATED:20240624T092110Z
LAST-MODIFIED:20240624T092110Z
UID:10019836-1721158800-1721162400@www.dancesoul.com.tw
SUMMARY:Street Jazz-Denis
DESCRIPTION:
URL:https://www.dancesoul.com.tw/schedule/street-jazz-denis-46/2024-07-16/
CATEGORIES:STREET JAZZ,常態課_一般,課程
END:VEVENT
END:VCALENDAR