BEGIN:VCALENDAR
VERSION:2.0
PRODID:-//DANCE SOUL 舞魂街舞學校 - ECPv6.15.18//NONSGML v1.0//EN
CALSCALE:GREGORIAN
METHOD:PUBLISH
X-WR-CALNAME:DANCE SOUL 舞魂街舞學校
X-ORIGINAL-URL:https://www.dancesoul.com.tw
X-WR-CALDESC:Events for DANCE SOUL 舞魂街舞學校
REFRESH-INTERVAL;VALUE=DURATION:PT1H
X-Robots-Tag:noindex
X-PUBLISHED-TTL:PT1H
BEGIN:VTIMEZONE
TZID:Asia/Shanghai
BEGIN:STANDARD
TZOFFSETFROM:+0800
TZOFFSETTO:+0800
TZNAME:CST
DTSTART:20230101T000000
END:STANDARD
END:VTIMEZONE
BEGIN:VEVENT
DTSTART;TZID=Asia/Shanghai:20240723T172000
DTEND;TZID=Asia/Shanghai:20240723T182000
DTSTAMP:20260423T064323
CREATED:20240624T091655Z
LAST-MODIFIED:20240624T091751Z
UID:10019827-1721755200-1721758800@www.dancesoul.com.tw
SUMMARY:Hip Hop-子賢
DESCRIPTION:
URL:https://www.dancesoul.com.tw/schedule/hip-hop-%e5%ad%90%e8%b3%a2/2024-07-23/
CATEGORIES:Hip Hop,常態課_一般,課程
END:VEVENT
BEGIN:VEVENT
DTSTART;TZID=Asia/Shanghai:20240723T183000
DTEND;TZID=Asia/Shanghai:20240723T193000
DTSTAMP:20260423T064323
CREATED:20240624T092021Z
LAST-MODIFIED:20240624T092021Z
UID:10019832-1721759400-1721763000@www.dancesoul.com.tw
SUMMARY:Free Style(初)-俊宏
DESCRIPTION:
URL:https://www.dancesoul.com.tw/schedule/free-style%e5%88%9d-%e4%bf%8a%e5%ae%8f-22/2024-07-23/
CATEGORIES:Freestyle 初級,常態課_初級,課程
END:VEVENT
BEGIN:VEVENT
DTSTART;TZID=Asia/Shanghai:20240723T194000
DTEND;TZID=Asia/Shanghai:20240723T204000
DTSTAMP:20260423T064323
CREATED:20240624T092110Z
LAST-MODIFIED:20240624T092110Z
UID:10019837-1721763600-1721767200@www.dancesoul.com.tw
SUMMARY:Street Jazz-Denis
DESCRIPTION:
URL:https://www.dancesoul.com.tw/schedule/street-jazz-denis-46/2024-07-23/
CATEGORIES:STREET JAZZ,常態課_一般,課程
END:VEVENT
BEGIN:VEVENT
DTSTART;TZID=Asia/Shanghai:20240723T205000
DTEND;TZID=Asia/Shanghai:20240723T215000
DTSTAMP:20260423T064323
CREATED:20240624T092244Z
LAST-MODIFIED:20240624T092244Z
UID:10019842-1721767800-1721771400@www.dancesoul.com.tw
SUMMARY:Choreography-少麟
DESCRIPTION:
URL:https://www.dancesoul.com.tw/schedule/choreography-%e5%b0%91%e9%ba%9f-10/2024-07-23/
CATEGORIES:Choreography,常態課_一般,課程
END:VEVENT
BEGIN:VEVENT
DTSTART;TZID=Asia/Shanghai:20240724T150000
DTEND;TZID=Asia/Shanghai:20240724T160000
DTSTAMP:20260423T064323
CREATED:20240625T090011Z
LAST-MODIFIED:20240625T090011Z
UID:10019917-1721833200-1721836800@www.dancesoul.com.tw
SUMMARY:兒童MV-(ILLIT - Magnetic)-昀珊
DESCRIPTION:
URL:https://www.dancesoul.com.tw/schedule/%e5%85%92%e7%ab%a5mv-illit-magnetic-%e6%98%80%e7%8f%8a/2024-07-24/
CATEGORIES:兒童MV,兒童課,課程
END:VEVENT
BEGIN:VEVENT
DTSTART;TZID=Asia/Shanghai:20240724T161000
DTEND;TZID=Asia/Shanghai:20240724T171000
DTSTAMP:20260423T064323
CREATED:20240624T092336Z
LAST-MODIFIED:20240624T092336Z
UID:10019847-1721837400-1721841000@www.dancesoul.com.tw
SUMMARY:基礎入門-無盡
DESCRIPTION:
URL:https://www.dancesoul.com.tw/schedule/%e5%9f%ba%e7%a4%8e%e5%85%a5%e9%96%80-%e7%84%a1%e7%9b%a1-5/2024-07-24/
CATEGORIES:基礎入門,常態課_初級,課程
END:VEVENT
BEGIN:VEVENT
DTSTART;TZID=Asia/Shanghai:20240724T172000
DTEND;TZID=Asia/Shanghai:20240724T182000
DTSTAMP:20260423T064323
CREATED:20240624T092529Z
LAST-MODIFIED:20240624T092529Z
UID:10019852-1721841600-1721845200@www.dancesoul.com.tw
SUMMARY:Choreography-七七
DESCRIPTION:
URL:https://www.dancesoul.com.tw/schedule/choreography-%e4%b8%83%e4%b8%83/2024-07-24/
CATEGORIES:Choreography,常態課_一般,課程
END:VEVENT
BEGIN:VEVENT
DTSTART;TZID=Asia/Shanghai:20240724T183000
DTEND;TZID=Asia/Shanghai:20240724T193000
DTSTAMP:20260423T064323
CREATED:20240624T092623Z
LAST-MODIFIED:20240624T092623Z
UID:10019857-1721845800-1721849400@www.dancesoul.com.tw
SUMMARY:Street Jazz(初)-Kyle
DESCRIPTION:
URL:https://www.dancesoul.com.tw/schedule/street-jazz%e5%88%9d-kyle-15/2024-07-24/
CATEGORIES:STREET JAZZ 初級,常態課_初級,課程
END:VEVENT
BEGIN:VEVENT
DTSTART;TZID=Asia/Shanghai:20240724T194000
DTEND;TZID=Asia/Shanghai:20240724T204000
DTSTAMP:20260423T064323
CREATED:20240624T092800Z
LAST-MODIFIED:20240624T092800Z
UID:10019862-1721850000-1721853600@www.dancesoul.com.tw
SUMMARY:Street Jazz-Larry
DESCRIPTION:
URL:https://www.dancesoul.com.tw/schedule/street-jazz-larry-17/2024-07-24/
CATEGORIES:STREET JAZZ,常態課_一般,課程
END:VEVENT
BEGIN:VEVENT
DTSTART;TZID=Asia/Shanghai:20240724T205000
DTEND;TZID=Asia/Shanghai:20240724T215000
DTSTAMP:20260423T064323
CREATED:20240624T092858Z
LAST-MODIFIED:20240624T092858Z
UID:10019867-1721854200-1721857800@www.dancesoul.com.tw
SUMMARY:Free Style-承達
DESCRIPTION:
URL:https://www.dancesoul.com.tw/schedule/free-style-%e6%89%bf%e9%81%94-40/2024-07-24/
CATEGORIES:Freestyle,常態課_一般,課程
END:VEVENT
BEGIN:VEVENT
DTSTART;TZID=Asia/Shanghai:20240725T150000
DTEND;TZID=Asia/Shanghai:20240725T160000
DTSTAMP:20260423T064323
CREATED:20240625T091051Z
LAST-MODIFIED:20240625T091051Z
UID:10019932-1721919600-1721923200@www.dancesoul.com.tw
SUMMARY:兒童MV-(SUNMI - Balloon in Love)-薇臻
DESCRIPTION:
URL:https://www.dancesoul.com.tw/schedule/%e5%85%92%e7%ab%a5mv-sunmi-balloon-in-love-%e8%96%87%e8%87%bb/2024-07-25/
CATEGORIES:兒童MV,兒童課,課程
END:VEVENT
BEGIN:VEVENT
DTSTART;TZID=Asia/Shanghai:20240725T161000
DTEND;TZID=Asia/Shanghai:20240725T171000
DTSTAMP:20260423T064323
CREATED:20240624T093104Z
LAST-MODIFIED:20240624T093104Z
UID:10019872-1721923800-1721927400@www.dancesoul.com.tw
SUMMARY:基礎入門-承翰
DESCRIPTION:
URL:https://www.dancesoul.com.tw/schedule/%e5%9f%ba%e7%a4%8e%e5%85%a5%e9%96%80-%e6%89%bf%e7%bf%b0/2024-07-25/
CATEGORIES:基礎入門,常態課_初級,課程
END:VEVENT
BEGIN:VEVENT
DTSTART;TZID=Asia/Shanghai:20240725T172000
DTEND;TZID=Asia/Shanghai:20240725T182000
DTSTAMP:20260423T064323
CREATED:20240624T093157Z
LAST-MODIFIED:20240624T093157Z
UID:10019876-1721928000-1721931600@www.dancesoul.com.tw
SUMMARY:Lyrical Jazz-瑜庭
DESCRIPTION:
URL:https://www.dancesoul.com.tw/schedule/lyrical-jazz-%e7%91%9c%e5%ba%ad/2024-07-25/
CATEGORIES:Lyrical Jazz,常態課_一般,課程
END:VEVENT
BEGIN:VEVENT
DTSTART;TZID=Asia/Shanghai:20240725T183000
DTEND;TZID=Asia/Shanghai:20240725T193000
DTSTAMP:20260423T064323
CREATED:20240624T093341Z
LAST-MODIFIED:20240624T093341Z
UID:10019881-1721932200-1721935800@www.dancesoul.com.tw
SUMMARY:Choreography-芭比
DESCRIPTION:
URL:https://www.dancesoul.com.tw/schedule/choreography-%e8%8a%ad%e6%af%94-23/2024-07-25/
CATEGORIES:Choreography,常態課_一般,課程
END:VEVENT
BEGIN:VEVENT
DTSTART;TZID=Asia/Shanghai:20240725T194000
DTEND;TZID=Asia/Shanghai:20240725T204000
DTSTAMP:20260423T064323
CREATED:20240624T093435Z
LAST-MODIFIED:20240624T093435Z
UID:10019885-1721936400-1721940000@www.dancesoul.com.tw
SUMMARY:Hip Hop-林彤
DESCRIPTION:
URL:https://www.dancesoul.com.tw/schedule/hip-hop-%e6%9e%97%e5%bd%a4-19/2024-07-25/
CATEGORIES:Hip Hop,常態課_一般,課程
END:VEVENT
BEGIN:VEVENT
DTSTART;TZID=Asia/Shanghai:20240725T205000
DTEND;TZID=Asia/Shanghai:20240725T215000
DTSTAMP:20260423T064323
CREATED:20240624T093616Z
LAST-MODIFIED:20240624T093616Z
UID:10019889-1721940600-1721944200@www.dancesoul.com.tw
SUMMARY:Afro Style-巴豪
DESCRIPTION:
URL:https://www.dancesoul.com.tw/schedule/afro-style-%e5%b7%b4%e8%b1%aa-2/2024-07-25/
CATEGORIES:Afro Style,常態課_一般,課程
END:VEVENT
BEGIN:VEVENT
DTSTART;TZID=Asia/Shanghai:20240726T150000
DTEND;TZID=Asia/Shanghai:20240726T160000
DTSTAMP:20260423T064323
CREATED:20240625T090147Z
LAST-MODIFIED:20240625T090147Z
UID:10019921-1722006000-1722009600@www.dancesoul.com.tw
SUMMARY:兒童MV-(NAYEON - ABCD)-昀珊
DESCRIPTION:
URL:https://www.dancesoul.com.tw/schedule/%e5%85%92%e7%ab%a5mv-nayeon-abcd-%e6%98%80%e7%8f%8a/2024-07-26/
CATEGORIES:兒童MV,兒童課,課程
END:VEVENT
BEGIN:VEVENT
DTSTART;TZID=Asia/Shanghai:20240726T161000
DTEND;TZID=Asia/Shanghai:20240726T171000
DTSTAMP:20260423T064323
CREATED:20240624T093755Z
LAST-MODIFIED:20240624T093755Z
UID:10019893-1722010200-1722013800@www.dancesoul.com.tw
SUMMARY:Jazz Funk(初)-Larry
DESCRIPTION:
URL:https://www.dancesoul.com.tw/schedule/jazz-funk%e5%88%9d-larry-3/2024-07-26/
CATEGORIES:Jazz Funk 初級,常態課_初級,課程
END:VEVENT
BEGIN:VEVENT
DTSTART;TZID=Asia/Shanghai:20240726T172000
DTEND;TZID=Asia/Shanghai:20240726T182000
DTSTAMP:20260423T064323
CREATED:20240624T094023Z
LAST-MODIFIED:20240624T094023Z
UID:10019897-1722014400-1722018000@www.dancesoul.com.tw
SUMMARY:Choreography-達達
DESCRIPTION:
URL:https://www.dancesoul.com.tw/schedule/choreography-%e9%81%94%e9%81%94/2024-07-26/
CATEGORIES:Choreography,常態課_一般,課程
END:VEVENT
BEGIN:VEVENT
DTSTART;TZID=Asia/Shanghai:20240726T183000
DTEND;TZID=Asia/Shanghai:20240726T193000
DTSTAMP:20260423T064323
CREATED:20240624T094129Z
LAST-MODIFIED:20240624T094129Z
UID:10019901-1722018600-1722022200@www.dancesoul.com.tw
SUMMARY:Street Jazz(初)-Cen妹
DESCRIPTION:
URL:https://www.dancesoul.com.tw/schedule/street-jazz%e5%88%9d-cen%e5%a6%b9-33/2024-07-26/
CATEGORIES:STREET JAZZ 初級,常態課_初級,課程
END:VEVENT
BEGIN:VEVENT
DTSTART;TZID=Asia/Shanghai:20240726T194000
DTEND;TZID=Asia/Shanghai:20240726T204000
DTSTAMP:20260423T064323
CREATED:20240624T094259Z
LAST-MODIFIED:20240624T094259Z
UID:10019905-1722022800-1722026400@www.dancesoul.com.tw
SUMMARY:Hip Hop(初)-佐佐
DESCRIPTION:
URL:https://www.dancesoul.com.tw/schedule/hip-hop%e5%88%9d-%e4%bd%90%e4%bd%90-12/2024-07-26/
CATEGORIES:Hip Hop 初級,常態課_初級,課程
END:VEVENT
BEGIN:VEVENT
DTSTART;TZID=Asia/Shanghai:20240726T205000
DTEND;TZID=Asia/Shanghai:20240726T215000
DTSTAMP:20260423T064323
CREATED:20240624T094352Z
LAST-MODIFIED:20240624T094352Z
UID:10019909-1722027000-1722030600@www.dancesoul.com.tw
SUMMARY:Jazz Funk-鈴鐺
DESCRIPTION:
URL:https://www.dancesoul.com.tw/schedule/jazz-funk-%e9%88%b4%e9%90%ba-20/2024-07-26/
CATEGORIES:Jazz Funk,常態課_一般,課程
END:VEVENT
BEGIN:VEVENT
DTSTART;TZID=Asia/Shanghai:20240727T132000
DTEND;TZID=Asia/Shanghai:20240727T142000
DTSTAMP:20260423T064323
CREATED:20240624T073413Z
LAST-MODIFIED:20240624T073413Z
UID:10019717-1722086400-1722090000@www.dancesoul.com.tw
SUMMARY:兒童街舞-薇臻
DESCRIPTION:
URL:https://www.dancesoul.com.tw/schedule/%e5%85%92%e7%ab%a5%e8%a1%97%e8%88%9e-%e8%96%87%e8%87%bb-8/2024-07-27/
CATEGORIES:兒童街舞,兒童課,課程
END:VEVENT
BEGIN:VEVENT
DTSTART;TZID=Asia/Shanghai:20240727T143000
DTEND;TZID=Asia/Shanghai:20240727T153000
DTSTAMP:20260423T064323
CREATED:20240624T075531Z
LAST-MODIFIED:20240624T075531Z
UID:10019721-1722090600-1722094200@www.dancesoul.com.tw
SUMMARY:兒童MV-(Aespa - Armageddon)-薇臻
DESCRIPTION:
URL:https://www.dancesoul.com.tw/schedule/%e5%85%92%e7%ab%a5mv-aespa-armageddon-%e8%96%87%e8%87%bb/2024-07-27/
CATEGORIES:兒童MV,兒童課,課程
END:VEVENT
BEGIN:VEVENT
DTSTART;TZID=Asia/Shanghai:20240727T154000
DTEND;TZID=Asia/Shanghai:20240727T164000
DTSTAMP:20260423T064323
CREATED:20240624T081217Z
LAST-MODIFIED:20240624T081217Z
UID:10019725-1722094800-1722098400@www.dancesoul.com.tw
SUMMARY:兒童基礎街舞-傘傘
DESCRIPTION:
URL:https://www.dancesoul.com.tw/schedule/%e5%85%92%e7%ab%a5%e5%9f%ba%e7%a4%8e%e8%a1%97%e8%88%9e-%e5%82%98%e5%82%98/2024-07-27/
CATEGORIES:兒童基礎街舞,兒童課,課程
END:VEVENT
BEGIN:VEVENT
DTSTART;TZID=Asia/Shanghai:20240727T165000
DTEND;TZID=Asia/Shanghai:20240727T175000
DTSTAMP:20260423T064323
CREATED:20240624T081416Z
LAST-MODIFIED:20240624T081416Z
UID:10019729-1722099000-1722102600@www.dancesoul.com.tw
SUMMARY:MV-(NAYEON - ABCD)-怡妏
DESCRIPTION:
URL:https://www.dancesoul.com.tw/schedule/mv-nayeon-abcd-%e6%80%a1%e5%a6%8f/2024-07-27/
CATEGORIES:MV課,課程
END:VEVENT
BEGIN:VEVENT
DTSTART;TZID=Asia/Shanghai:20240727T180000
DTEND;TZID=Asia/Shanghai:20240727T190000
DTSTAMP:20260423T064323
CREATED:20240624T081646Z
LAST-MODIFIED:20240624T081646Z
UID:10019733-1722103200-1722106800@www.dancesoul.com.tw
SUMMARY:Popping-紀威
DESCRIPTION:
URL:https://www.dancesoul.com.tw/schedule/popping-%e7%b4%80%e5%a8%81-42/2024-07-27/
CATEGORIES:Poppin,常態課_一般,課程
END:VEVENT
BEGIN:VEVENT
DTSTART;TZID=Asia/Shanghai:20240727T191000
DTEND;TZID=Asia/Shanghai:20240727T201000
DTSTAMP:20260423T064323
CREATED:20240624T081748Z
LAST-MODIFIED:20240624T081748Z
UID:10019737-1722107400-1722111000@www.dancesoul.com.tw
SUMMARY:Choreography(初)-無盡
DESCRIPTION:
URL:https://www.dancesoul.com.tw/schedule/choreography%e5%88%9d-%e7%84%a1%e7%9b%a1-2/2024-07-27/
CATEGORIES:Choreography 初級,常態課_初級,課程
END:VEVENT
BEGIN:VEVENT
DTSTART;TZID=Asia/Shanghai:20240727T202000
DTEND;TZID=Asia/Shanghai:20240727T212000
DTSTAMP:20260423T064323
CREATED:20240624T082259Z
LAST-MODIFIED:20240624T082259Z
UID:10019741-1722111600-1722115200@www.dancesoul.com.tw
SUMMARY:基礎入門-雞蛋
DESCRIPTION:
URL:https://www.dancesoul.com.tw/schedule/%e5%9f%ba%e7%a4%8e%e5%85%a5%e9%96%80-%e9%9b%9e%e8%9b%8b-29/2024-07-27/
CATEGORIES:基礎入門,常態課_初級,課程
END:VEVENT
BEGIN:VEVENT
DTSTART;TZID=Asia/Shanghai:20240728T132000
DTEND;TZID=Asia/Shanghai:20240728T142000
DTSTAMP:20260423T064323
CREATED:20240624T085443Z
LAST-MODIFIED:20240624T085443Z
UID:10019745-1722172800-1722176400@www.dancesoul.com.tw
SUMMARY:兒童街舞-羿芃
DESCRIPTION:
URL:https://www.dancesoul.com.tw/schedule/%e5%85%92%e7%ab%a5%e8%a1%97%e8%88%9e-%e7%be%bf%e8%8a%83-7/2024-07-28/
CATEGORIES:兒童街舞,兒童課,課程
END:VEVENT
END:VCALENDAR