BEGIN:VCALENDAR
VERSION:2.0
PRODID:-//DANCE SOUL 舞魂街舞學校 - ECPv6.15.18//NONSGML v1.0//EN
CALSCALE:GREGORIAN
METHOD:PUBLISH
X-ORIGINAL-URL:https://www.dancesoul.com.tw
X-WR-CALDESC:Events for DANCE SOUL 舞魂街舞學校
REFRESH-INTERVAL;VALUE=DURATION:PT1H
X-Robots-Tag:noindex
X-PUBLISHED-TTL:PT1H
BEGIN:VTIMEZONE
TZID:Asia/Shanghai
BEGIN:STANDARD
TZOFFSETFROM:+0800
TZOFFSETTO:+0800
TZNAME:CST
DTSTART:20240101T000000
END:STANDARD
END:VTIMEZONE
BEGIN:VEVENT
DTSTART;TZID=Asia/Shanghai:20250604T192500
DTEND;TZID=Asia/Shanghai:20250604T202500
DTSTAMP:20260421T043822
CREATED:20250417T094436Z
LAST-MODIFIED:20250725T075734Z
UID:10021693-1749065100-1749068700@www.dancesoul.com.tw
SUMMARY:Street Jazz-Larry
DESCRIPTION:
URL:https://www.dancesoul.com.tw/schedule/street-jazz-larry-28/2025-06-04/
CATEGORIES:STREET JAZZ,常態課_一般,課程
END:VEVENT
BEGIN:VEVENT
DTSTART;TZID=Asia/Shanghai:20250604T203000
DTEND;TZID=Asia/Shanghai:20250604T213000
DTSTAMP:20260421T043822
CREATED:20250417T094025Z
LAST-MODIFIED:20250515T044303Z
UID:10021697-1749069000-1749072600@www.dancesoul.com.tw
SUMMARY:Street Jazz(初)-Kyle
DESCRIPTION:
URL:https://www.dancesoul.com.tw/schedule/street-jazz%e5%88%9d-kyle-26/2025-06-04/
CATEGORIES:STREET JAZZ 初級,常態課_初級,課程
END:VEVENT
BEGIN:VEVENT
DTSTART;TZID=Asia/Shanghai:20250604T213500
DTEND;TZID=Asia/Shanghai:20250604T223500
DTSTAMP:20260421T043822
CREATED:20250417T094806Z
LAST-MODIFIED:20250515T044442Z
UID:10021701-1749072900-1749076500@www.dancesoul.com.tw
SUMMARY:Free Style-承達
DESCRIPTION:
URL:https://www.dancesoul.com.tw/schedule/free-style-%e6%89%bf%e9%81%94-50/2025-06-04/
CATEGORIES:Freestyle,常態課_一般,課程
END:VEVENT
BEGIN:VEVENT
DTSTART;TZID=Asia/Shanghai:20250605T182000
DTEND;TZID=Asia/Shanghai:20250605T192000
DTSTAMP:20260421T043822
CREATED:20250417T095015Z
LAST-MODIFIED:20250515T044543Z
UID:10021705-1749147600-1749151200@www.dancesoul.com.tw
SUMMARY:Jazz Funk-瑜庭
DESCRIPTION:
URL:https://www.dancesoul.com.tw/schedule/jazz-funk-%e7%91%9c%e5%ba%ad-6/2025-06-05/
CATEGORIES:Jazz Funk,常態課_一般,課程
END:VEVENT
BEGIN:VEVENT
DTSTART;TZID=Asia/Shanghai:20250605T192500
DTEND;TZID=Asia/Shanghai:20250605T202500
DTSTAMP:20260421T043822
CREATED:20250417T095206Z
LAST-MODIFIED:20250515T044717Z
UID:10021709-1749151500-1749155100@www.dancesoul.com.tw
SUMMARY:Hip Hop(初)-佐佐
DESCRIPTION:
URL:https://www.dancesoul.com.tw/schedule/hip-hop%e5%88%9d-%e4%bd%90%e4%bd%90-23/2025-06-05/
CATEGORIES:Hip Hop 初級,常態課_初級,課程
END:VEVENT
BEGIN:VEVENT
DTSTART;TZID=Asia/Shanghai:20250605T203000
DTEND;TZID=Asia/Shanghai:20250605T213000
DTSTAMP:20260421T043822
CREATED:20250417T095336Z
LAST-MODIFIED:20250515T044810Z
UID:10021713-1749155400-1749159000@www.dancesoul.com.tw
SUMMARY:Hip Hop-林彤
DESCRIPTION:
URL:https://www.dancesoul.com.tw/schedule/hip-hop-%e6%9e%97%e5%bd%a4-29/2025-06-05/
CATEGORIES:Hip Hop,常態課_一般,課程
END:VEVENT
BEGIN:VEVENT
DTSTART;TZID=Asia/Shanghai:20250605T213500
DTEND;TZID=Asia/Shanghai:20250605T223500
DTSTAMP:20260421T043822
CREATED:20250417T095519Z
LAST-MODIFIED:20250515T044905Z
UID:10021717-1749159300-1749162900@www.dancesoul.com.tw
SUMMARY:Choreography-巴豪
DESCRIPTION:
URL:https://www.dancesoul.com.tw/schedule/choreography-%e5%b7%b4%e8%b1%aa-5/2025-06-05/
CATEGORIES:Choreography,常態課_一般,課程
END:VEVENT
BEGIN:VEVENT
DTSTART;TZID=Asia/Shanghai:20250606T182000
DTEND;TZID=Asia/Shanghai:20250606T192000
DTSTAMP:20260421T043822
CREATED:20250417T095647Z
LAST-MODIFIED:20250515T045043Z
UID:10021509-1749234000-1749237600@www.dancesoul.com.tw
SUMMARY:Street Jazz(初)-Cen妹
DESCRIPTION:
URL:https://www.dancesoul.com.tw/schedule/street-jazz%e5%88%9d-cen%e5%a6%b9-43/2025-06-06/
CATEGORIES:STREET JAZZ 初級,常態課_初級,課程
END:VEVENT
BEGIN:VEVENT
DTSTART;TZID=Asia/Shanghai:20250606T192500
DTEND;TZID=Asia/Shanghai:20250606T202500
DTSTAMP:20260421T043822
CREATED:20250417T095812Z
LAST-MODIFIED:20250515T045216Z
UID:10021721-1749237900-1749241500@www.dancesoul.com.tw
SUMMARY:Street Jazz-邱邱
DESCRIPTION:
URL:https://www.dancesoul.com.tw/schedule/street-jazz-%e9%82%b1%e9%82%b1-3/2025-06-06/
CATEGORIES:STREET JAZZ,常態課_一般,課程
END:VEVENT
BEGIN:VEVENT
DTSTART;TZID=Asia/Shanghai:20250606T203000
DTEND;TZID=Asia/Shanghai:20250606T213000
DTSTAMP:20260421T043822
CREATED:20250417T095943Z
LAST-MODIFIED:20250515T045301Z
UID:10021725-1749241800-1749245400@www.dancesoul.com.tw
SUMMARY:Jazz Funk-鈴鐺
DESCRIPTION:
URL:https://www.dancesoul.com.tw/schedule/jazz-funk-%e9%88%b4%e9%90%ba-29/2025-06-06/
CATEGORIES:Jazz Funk,常態課_一般,課程
END:VEVENT
BEGIN:VEVENT
DTSTART;TZID=Asia/Shanghai:20250607T133000
DTEND;TZID=Asia/Shanghai:20250607T143000
DTSTAMP:20260421T043822
CREATED:20250515T045605Z
LAST-MODIFIED:20250515T045605Z
UID:10021729-1749303000-1749306600@www.dancesoul.com.tw
SUMMARY:兒童街舞-薇臻
DESCRIPTION:
URL:https://www.dancesoul.com.tw/schedule/%e5%85%92%e7%ab%a5%e8%a1%97%e8%88%9e-%e8%96%87%e8%87%bb-19/2025-06-07/
CATEGORIES:兒童街舞
END:VEVENT
BEGIN:VEVENT
DTSTART;TZID=Asia/Shanghai:20250607T143000
DTEND;TZID=Asia/Shanghai:20250607T153000
DTSTAMP:20260421T043822
CREATED:20250515T045725Z
LAST-MODIFIED:20250515T045725Z
UID:10021733-1749306600-1749310200@www.dancesoul.com.tw
SUMMARY:兒童MV(MEOVV - Hands up)-薇臻
DESCRIPTION:
URL:https://www.dancesoul.com.tw/schedule/%e5%85%92%e7%ab%a5mvmeovv-hands-up-%e8%96%87%e8%87%bb/2025-06-07/
CATEGORIES:兒童MV
END:VEVENT
BEGIN:VEVENT
DTSTART;TZID=Asia/Shanghai:20250607T154000
DTEND;TZID=Asia/Shanghai:20250607T164000
DTSTAMP:20260421T043822
CREATED:20250417T100532Z
LAST-MODIFIED:20250515T045826Z
UID:10021737-1749310800-1749314400@www.dancesoul.com.tw
SUMMARY:兒童Krump-Coffee
DESCRIPTION:
URL:https://www.dancesoul.com.tw/schedule/%e5%85%92%e7%ab%a5krump-coffee-5/2025-06-07/
CATEGORIES:兒童Krump,兒童課,常態課_一般,課程
END:VEVENT
BEGIN:VEVENT
DTSTART;TZID=Asia/Shanghai:20250607T165000
DTEND;TZID=Asia/Shanghai:20250607T175000
DTSTAMP:20260421T043822
CREATED:20250515T050454Z
LAST-MODIFIED:20250623T104653Z
UID:10021753-1749315000-1749318600@www.dancesoul.com.tw
SUMMARY:MV-凝琦
DESCRIPTION:
URL:https://www.dancesoul.com.tw/schedule/mv-%e5%87%9d%e7%90%a6/2025-06-07/
CATEGORIES:MV課
END:VEVENT
BEGIN:VEVENT
DTSTART;TZID=Asia/Shanghai:20250607T182000
DTEND;TZID=Asia/Shanghai:20250607T192000
DTSTAMP:20260421T043822
CREATED:20250417T100804Z
LAST-MODIFIED:20250515T050016Z
UID:10021741-1749320400-1749324000@www.dancesoul.com.tw
SUMMARY:Popping-紀威
DESCRIPTION:
URL:https://www.dancesoul.com.tw/schedule/popping-%e7%b4%80%e5%a8%81-52/2025-06-07/
CATEGORIES:Poppin,常態課_一般,課程
END:VEVENT
BEGIN:VEVENT
DTSTART;TZID=Asia/Shanghai:20250607T192500
DTEND;TZID=Asia/Shanghai:20250607T202500
DTSTAMP:20260421T043822
CREATED:20250417T101730Z
LAST-MODIFIED:20250515T050159Z
UID:10021745-1749324300-1749327900@www.dancesoul.com.tw
SUMMARY:Choreography(初)-無盡
DESCRIPTION:
URL:https://www.dancesoul.com.tw/schedule/choreography%e5%88%9d-%e7%84%a1%e7%9b%a1-12/2025-06-07/
CATEGORIES:Choreography 初級,常態課_初級,課程
END:VEVENT
BEGIN:VEVENT
DTSTART;TZID=Asia/Shanghai:20250607T203000
DTEND;TZID=Asia/Shanghai:20250607T213000
DTSTAMP:20260421T043822
CREATED:20250417T102000Z
LAST-MODIFIED:20250515T050254Z
UID:10021749-1749328200-1749331800@www.dancesoul.com.tw
SUMMARY:基礎入門-雞蛋
DESCRIPTION:
URL:https://www.dancesoul.com.tw/schedule/%e5%9f%ba%e7%a4%8e%e5%85%a5%e9%96%80-%e9%9b%9e%e8%9b%8b-39/2025-06-07/
CATEGORIES:基礎入門,常態課_初級,課程
END:VEVENT
BEGIN:VEVENT
DTSTART;TZID=Asia/Shanghai:20250608T132000
DTEND;TZID=Asia/Shanghai:20250608T142000
DTSTAMP:20260421T043822
CREATED:20250515T041317Z
LAST-MODIFIED:20250515T041317Z
UID:10021631-1749388800-1749392400@www.dancesoul.com.tw
SUMMARY:兒童街舞-羿芃
DESCRIPTION:
URL:https://www.dancesoul.com.tw/schedule/%e5%85%92%e7%ab%a5%e8%a1%97%e8%88%9e-%e7%be%bf%e8%8a%83-18/2025-06-08/
CATEGORIES:兒童街舞
END:VEVENT
BEGIN:VEVENT
DTSTART;TZID=Asia/Shanghai:20250608T143000
DTEND;TZID=Asia/Shanghai:20250608T153000
DTSTAMP:20260421T043822
CREATED:20250515T041633Z
LAST-MODIFIED:20250515T041633Z
UID:10021636-1749393000-1749396600@www.dancesoul.com.tw
SUMMARY:兒童MV-羿芃
DESCRIPTION:
URL:https://www.dancesoul.com.tw/schedule/%e5%85%92%e7%ab%a5mv-%e7%be%bf%e8%8a%83/2025-06-08/
CATEGORIES:兒童MV
END:VEVENT
BEGIN:VEVENT
DTSTART;TZID=Asia/Shanghai:20250608T154000
DTEND;TZID=Asia/Shanghai:20250608T164000
DTSTAMP:20260421T043822
CREATED:20250515T042016Z
LAST-MODIFIED:20250515T042016Z
UID:10021641-1749397200-1749400800@www.dancesoul.com.tw
SUMMARY:兒童Street Jazz-傘傘
DESCRIPTION:
URL:https://www.dancesoul.com.tw/schedule/%e5%85%92%e7%ab%a5street-jazz-%e5%82%98%e5%82%98-2/2025-06-08/
CATEGORIES:兒童 Street Jazz
END:VEVENT
BEGIN:VEVENT
DTSTART;TZID=Asia/Shanghai:20250608T165000
DTEND;TZID=Asia/Shanghai:20250608T175000
DTSTAMP:20260421T043822
CREATED:20250515T042232Z
LAST-MODIFIED:20250515T042232Z
UID:10021646-1749401400-1749405000@www.dancesoul.com.tw
SUMMARY:MV(MEOVV - Hands up)-瑜庭
DESCRIPTION:
URL:https://www.dancesoul.com.tw/schedule/mvmeovv-hands-up-%e7%91%9c%e5%ba%ad/2025-06-08/
CATEGORIES:MV課
END:VEVENT
BEGIN:VEVENT
DTSTART;TZID=Asia/Shanghai:20250608T182000
DTEND;TZID=Asia/Shanghai:20250608T192000
DTSTAMP:20260421T043822
CREATED:20250515T042413Z
LAST-MODIFIED:20250515T042413Z
UID:10021651-1749406800-1749410400@www.dancesoul.com.tw
SUMMARY:Jazz Funk-姿昀
DESCRIPTION:
URL:https://www.dancesoul.com.tw/schedule/jazz-funk-%e5%a7%bf%e6%98%80-12/2025-06-08/
CATEGORIES:Jazz Funk
END:VEVENT
BEGIN:VEVENT
DTSTART;TZID=Asia/Shanghai:20250608T192500
DTEND;TZID=Asia/Shanghai:20250608T202500
DTSTAMP:20260421T043822
CREATED:20250515T042639Z
LAST-MODIFIED:20250515T042639Z
UID:10021656-1749410700-1749414300@www.dancesoul.com.tw
SUMMARY:Hip Hop(初)-Rod
DESCRIPTION:
URL:https://www.dancesoul.com.tw/schedule/hip-hop%e5%88%9d-rod-2/2025-06-08/
CATEGORIES:Hip Hop
END:VEVENT
BEGIN:VEVENT
DTSTART;TZID=Asia/Shanghai:20250609T182000
DTEND;TZID=Asia/Shanghai:20250609T192000
DTSTAMP:20260421T043822
CREATED:20250417T091105Z
LAST-MODIFIED:20250515T043131Z
UID:10021662-1749493200-1749496800@www.dancesoul.com.tw
SUMMARY:Twerk(初)-碗公
DESCRIPTION:
URL:https://www.dancesoul.com.tw/schedule/twerk%e5%88%9d-%e7%a2%97%e5%85%ac-42/2025-06-09/
CATEGORIES:Twerk 初級,常態課_初級,課程
END:VEVENT
BEGIN:VEVENT
DTSTART;TZID=Asia/Shanghai:20250609T192500
DTEND;TZID=Asia/Shanghai:20250609T202500
DTSTAMP:20260421T043822
CREATED:20250417T091529Z
LAST-MODIFIED:20250515T043326Z
UID:10021668-1749497100-1749500700@www.dancesoul.com.tw
SUMMARY:Heels(初)-宋靜
DESCRIPTION:
URL:https://www.dancesoul.com.tw/schedule/heels%e5%88%9d-%e5%ae%8b%e9%9d%9c-40/2025-06-09/
CATEGORIES:Heels 初級,常態課_初級,課程
END:VEVENT
BEGIN:VEVENT
DTSTART;TZID=Asia/Shanghai:20250609T203000
DTEND;TZID=Asia/Shanghai:20250609T213000
DTSTAMP:20260421T043822
CREATED:20250417T091745Z
LAST-MODIFIED:20250515T043433Z
UID:10021673-1749501000-1749504600@www.dancesoul.com.tw
SUMMARY:Jazz Funk-魏小美
DESCRIPTION:
URL:https://www.dancesoul.com.tw/schedule/jazz-funk-%e9%ad%8f%e5%b0%8f%e7%be%8e-83/2025-06-09/
CATEGORIES:Jazz Funk,常態課_一般,課程
END:VEVENT
BEGIN:VEVENT
DTSTART;TZID=Asia/Shanghai:20250610T182000
DTEND;TZID=Asia/Shanghai:20250610T192000
DTSTAMP:20260421T043822
CREATED:20250515T043745Z
LAST-MODIFIED:20250515T061614Z
UID:10021678-1749579600-1749583200@www.dancesoul.com.tw
SUMMARY:MV(當日Dance Soul IG 限動公布歌曲)-薇臻
DESCRIPTION:
URL:https://www.dancesoul.com.tw/schedule/mvmeovv-hands-up-%e8%96%87%e8%87%bb/2025-06-10/
CATEGORIES:MV課
END:VEVENT
BEGIN:VEVENT
DTSTART;TZID=Asia/Shanghai:20250610T192500
DTEND;TZID=Asia/Shanghai:20250610T202500
DTSTAMP:20260421T043822
CREATED:20250417T093453Z
LAST-MODIFIED:20250515T043908Z
UID:10021682-1749583500-1749587100@www.dancesoul.com.tw
SUMMARY:Street Jazz-Denis
DESCRIPTION:
URL:https://www.dancesoul.com.tw/schedule/street-jazz-denis-56/2025-06-10/
CATEGORIES:STREET JAZZ,常態課_一般,課程
END:VEVENT
BEGIN:VEVENT
DTSTART;TZID=Asia/Shanghai:20250610T203000
DTEND;TZID=Asia/Shanghai:20250610T213000
DTSTAMP:20260421T043822
CREATED:20250417T093643Z
LAST-MODIFIED:20250515T044021Z
UID:10021686-1749587400-1749591000@www.dancesoul.com.tw
SUMMARY:Free Style-俊宏
DESCRIPTION:
URL:https://www.dancesoul.com.tw/schedule/free-style-%e4%bf%8a%e5%ae%8f-27/2025-06-10/
CATEGORIES:Freestyle,常態課_一般,課程
END:VEVENT
BEGIN:VEVENT
DTSTART;TZID=Asia/Shanghai:20250611T182000
DTEND;TZID=Asia/Shanghai:20250611T192000
DTSTAMP:20260421T043822
CREATED:20250417T094623Z
LAST-MODIFIED:20250725T075554Z
UID:10021690-1749666000-1749669600@www.dancesoul.com.tw
SUMMARY:Krump-Coffee
DESCRIPTION:
URL:https://www.dancesoul.com.tw/schedule/krump-coffee-5/2025-06-11/
CATEGORIES:Krump,常態課_一般,課程
END:VEVENT
END:VCALENDAR