BEGIN:VCALENDAR
VERSION:2.0
PRODID:-//DANCE SOUL 舞魂街舞學校 - ECPv6.15.18//NONSGML v1.0//EN
CALSCALE:GREGORIAN
METHOD:PUBLISH
X-ORIGINAL-URL:https://www.dancesoul.com.tw
X-WR-CALDESC:Events for DANCE SOUL 舞魂街舞學校
REFRESH-INTERVAL;VALUE=DURATION:PT1H
X-Robots-Tag:noindex
X-PUBLISHED-TTL:PT1H
BEGIN:VTIMEZONE
TZID:Asia/Shanghai
BEGIN:STANDARD
TZOFFSETFROM:+0800
TZOFFSETTO:+0800
TZNAME:CST
DTSTART:20240101T000000
END:STANDARD
END:VTIMEZONE
BEGIN:VEVENT
DTSTART;TZID=Asia/Shanghai:20251213T132000
DTEND;TZID=Asia/Shanghai:20251213T142000
DTSTAMP:20260421T115424
CREATED:20251201T070320Z
LAST-MODIFIED:20260315T072345Z
UID:10027275-1765632000-1765635600@www.dancesoul.com.tw
SUMMARY:兒童MV(初)(i-dle - 'Mona(Feat.skaiwater)')-薇臻
DESCRIPTION:
URL:https://www.dancesoul.com.tw/schedule/%e5%85%92%e7%ab%a5%e8%a1%97%e8%88%9e-%e8%96%87%e8%87%bb-21-2-2-2/2025-12-13/
CATEGORIES:兒童街舞,兒童課
END:VEVENT
BEGIN:VEVENT
DTSTART;TZID=Asia/Shanghai:20251213T143000
DTEND;TZID=Asia/Shanghai:20251213T153000
DTSTAMP:20260421T115424
CREATED:20251202T055414Z
LAST-MODIFIED:20260315T072223Z
UID:10027536-1765636200-1765639800@www.dancesoul.com.tw
SUMMARY:兒童MV(IVE - 'BANG BANG')-薇臻
DESCRIPTION:
URL:https://www.dancesoul.com.tw/schedule/%e5%85%92%e7%ab%a5mvbabymonster-hot-sauce-%e8%96%87%e8%87%bb-2/2025-12-13/
CATEGORIES:MV課,兒童MV,課程
END:VEVENT
BEGIN:VEVENT
DTSTART;TZID=Asia/Shanghai:20251213T164000
DTEND;TZID=Asia/Shanghai:20251213T174000
DTSTAMP:20260421T115424
CREATED:20260315T072002Z
LAST-MODIFIED:20260315T072518Z
UID:10031333-1765644000-1765647600@www.dancesoul.com.tw
SUMMARY:MV(IVE - ‘BANG BANG’)-薇臻
DESCRIPTION:
URL:https://www.dancesoul.com.tw/schedule/mvive-xoxz-%e5%87%9d%e7%90%a6-2-2/2025-12-13/
CATEGORIES:MV課,課程
END:VEVENT
BEGIN:VEVENT
DTSTART;TZID=Asia/Shanghai:20251213T182000
DTEND;TZID=Asia/Shanghai:20251213T192000
DTSTAMP:20260421T115424
CREATED:20250901T055441Z
LAST-MODIFIED:20250901T055457Z
UID:10028059-1765650000-1765653600@www.dancesoul.com.tw
SUMMARY:Popping-紀威
DESCRIPTION:
URL:https://www.dancesoul.com.tw/schedule/popping-%e7%b4%80%e5%a8%81-54/2025-12-13/
CATEGORIES:Poppin,常態課_一般,課程
END:VEVENT
BEGIN:VEVENT
DTSTART;TZID=Asia/Shanghai:20251214T132000
DTEND;TZID=Asia/Shanghai:20251214T142000
DTSTAMP:20260421T115424
CREATED:20250901T055750Z
LAST-MODIFIED:20250901T055750Z
UID:10028842-1765718400-1765722000@www.dancesoul.com.tw
SUMMARY:兒童街舞-羿芃
DESCRIPTION:
URL:https://www.dancesoul.com.tw/schedule/%e5%85%92%e7%ab%a5%e8%a1%97%e8%88%9e-%e7%be%bf%e8%8a%83-20/2025-12-14/
CATEGORIES:兒童街舞,課程
END:VEVENT
BEGIN:VEVENT
DTSTART;TZID=Asia/Shanghai:20251214T143000
DTEND;TZID=Asia/Shanghai:20251214T153000
DTSTAMP:20260421T115424
CREATED:20260315T071830Z
LAST-MODIFIED:20260315T071830Z
UID:10031305-1765722600-1765726200@www.dancesoul.com.tw
SUMMARY:兒童MV(ILLIT-opps!)-羿芃
DESCRIPTION:
URL:https://www.dancesoul.com.tw/schedule/%e5%85%92%e7%ab%a5mvizna-sass-%e7%be%bf%e8%8a%83-2-2/2025-12-14/
CATEGORIES:兒童MV,兒童課
END:VEVENT
BEGIN:VEVENT
DTSTART;TZID=Asia/Shanghai:20251214T154000
DTEND;TZID=Asia/Shanghai:20251214T164000
DTSTAMP:20260421T115424
CREATED:20250901T060229Z
LAST-MODIFIED:20250901T060229Z
UID:10029364-1765726800-1765730400@www.dancesoul.com.tw
SUMMARY:兒童Street Jazz-傘傘
DESCRIPTION:
URL:https://www.dancesoul.com.tw/schedule/%e5%85%92%e7%ab%a5street-jazz-%e5%82%98%e5%82%98-4/2025-12-14/
CATEGORIES:兒童街舞,兒童課
END:VEVENT
BEGIN:VEVENT
DTSTART;TZID=Asia/Shanghai:20251214T165000
DTEND;TZID=Asia/Shanghai:20251214T175000
DTSTAMP:20260421T115424
CREATED:20251201T095640Z
LAST-MODIFIED:20260315T071631Z
UID:10029625-1765731000-1765734600@www.dancesoul.com.tw
SUMMARY:MV(Apink - 'Love Me More')-Jenny
DESCRIPTION:
URL:https://www.dancesoul.com.tw/schedule/mvsomi-closer-%e7%91%9c%e5%ba%ad-2/2025-12-14/
CATEGORIES:MV課,課程
END:VEVENT
BEGIN:VEVENT
DTSTART;TZID=Asia/Shanghai:20251214T192500
DTEND;TZID=Asia/Shanghai:20251214T202500
DTSTAMP:20260421T115424
CREATED:20250901T060526Z
LAST-MODIFIED:20250901T060526Z
UID:10030147-1765740300-1765743900@www.dancesoul.com.tw
SUMMARY:Hip Hop-承翰
DESCRIPTION:
URL:https://www.dancesoul.com.tw/schedule/hip-hop-%e6%89%bf%e7%bf%b0-2/2025-12-14/
CATEGORIES:Hip Hop,常態課_一般,課程
END:VEVENT
BEGIN:VEVENT
DTSTART;TZID=Asia/Shanghai:20251216T182000
DTEND;TZID=Asia/Shanghai:20251216T192000
DTSTAMP:20260421T115424
CREATED:20250828T095545Z
LAST-MODIFIED:20250828T095545Z
UID:10023628-1765909200-1765912800@www.dancesoul.com.tw
SUMMARY:MV-薇臻
DESCRIPTION:
URL:https://www.dancesoul.com.tw/schedule/mv-%e8%96%87%e8%87%bb-4/2025-12-16/
END:VEVENT
BEGIN:VEVENT
DTSTART;TZID=Asia/Shanghai:20251216T202000
DTEND;TZID=Asia/Shanghai:20251216T212000
DTSTAMP:20260421T115424
CREATED:20250828T100203Z
LAST-MODIFIED:20250828T100203Z
UID:10023890-1765916400-1765920000@www.dancesoul.com.tw
SUMMARY:Free Style-俊宏
DESCRIPTION:
URL:https://www.dancesoul.com.tw/schedule/free-style-%e4%bf%8a%e5%ae%8f-29/2025-12-16/
CATEGORIES:Freestyle,常態課_一般,課程
END:VEVENT
BEGIN:VEVENT
DTSTART;TZID=Asia/Shanghai:20251217T192500
DTEND;TZID=Asia/Shanghai:20251217T202500
DTSTAMP:20260421T115424
CREATED:20250828T102504Z
LAST-MODIFIED:20250828T102504Z
UID:10024673-1765999500-1766003100@www.dancesoul.com.tw
SUMMARY:Street Jazz-Larry
DESCRIPTION:
URL:https://www.dancesoul.com.tw/schedule/street-jazz-larry-30/2025-12-17/
CATEGORIES:STREET JAZZ,常態課_一般,課程
END:VEVENT
BEGIN:VEVENT
DTSTART;TZID=Asia/Shanghai:20251217T203000
DTEND;TZID=Asia/Shanghai:20251217T213000
DTSTAMP:20260421T115424
CREATED:20250828T103540Z
LAST-MODIFIED:20250828T103540Z
UID:10024934-1766003400-1766007000@www.dancesoul.com.tw
SUMMARY:Street Jazz-Kyle
DESCRIPTION:
URL:https://www.dancesoul.com.tw/schedule/street-jazz-kyle-4/2025-12-17/
CATEGORIES:STREET JAZZ,常態課_一般,課程
END:VEVENT
BEGIN:VEVENT
DTSTART;TZID=Asia/Shanghai:20251218T182000
DTEND;TZID=Asia/Shanghai:20251218T192000
DTSTAMP:20260421T115424
CREATED:20251202T055643Z
LAST-MODIFIED:20251202T055645Z
UID:10025456-1766082000-1766085600@www.dancesoul.com.tw
SUMMARY:Street Jazz-羊羊
DESCRIPTION:
URL:https://www.dancesoul.com.tw/schedule/hip-hop-%e4%bd%90%e4%bd%90-2-2/2025-12-18/
CATEGORIES:Hip Hop,常態課_一般,課程
END:VEVENT
BEGIN:VEVENT
DTSTART;TZID=Asia/Shanghai:20251218T213500
DTEND;TZID=Asia/Shanghai:20251218T223500
DTSTAMP:20260421T115424
CREATED:20250828T104929Z
LAST-MODIFIED:20250828T104929Z
UID:10026236-1766093700-1766097300@www.dancesoul.com.tw
SUMMARY:Choreography-巴豪
DESCRIPTION:
URL:https://www.dancesoul.com.tw/schedule/choreography-%e5%b7%b4%e8%b1%aa-7/2025-12-18/
CATEGORIES:Choreography,常態課_一般,課程
END:VEVENT
BEGIN:VEVENT
DTSTART;TZID=Asia/Shanghai:20251220T132000
DTEND;TZID=Asia/Shanghai:20251220T142000
DTSTAMP:20260421T115424
CREATED:20251201T070320Z
LAST-MODIFIED:20260315T072345Z
UID:10027276-1766236800-1766240400@www.dancesoul.com.tw
SUMMARY:兒童MV(初)(i-dle - 'Mona(Feat.skaiwater)')-薇臻
DESCRIPTION:
URL:https://www.dancesoul.com.tw/schedule/%e5%85%92%e7%ab%a5%e8%a1%97%e8%88%9e-%e8%96%87%e8%87%bb-21-2-2-2/2025-12-20/
CATEGORIES:兒童街舞,兒童課
END:VEVENT
BEGIN:VEVENT
DTSTART;TZID=Asia/Shanghai:20251220T143000
DTEND;TZID=Asia/Shanghai:20251220T153000
DTSTAMP:20260421T115424
CREATED:20251202T055414Z
LAST-MODIFIED:20260315T072223Z
UID:10027537-1766241000-1766244600@www.dancesoul.com.tw
SUMMARY:兒童MV(IVE - 'BANG BANG')-薇臻
DESCRIPTION:
URL:https://www.dancesoul.com.tw/schedule/%e5%85%92%e7%ab%a5mvbabymonster-hot-sauce-%e8%96%87%e8%87%bb-2/2025-12-20/
CATEGORIES:MV課,兒童MV,課程
END:VEVENT
BEGIN:VEVENT
DTSTART;TZID=Asia/Shanghai:20251220T164000
DTEND;TZID=Asia/Shanghai:20251220T174000
DTSTAMP:20260421T115424
CREATED:20260315T072002Z
LAST-MODIFIED:20260315T072518Z
UID:10031334-1766248800-1766252400@www.dancesoul.com.tw
SUMMARY:MV(IVE - ‘BANG BANG’)-薇臻
DESCRIPTION:
URL:https://www.dancesoul.com.tw/schedule/mvive-xoxz-%e5%87%9d%e7%90%a6-2-2/2025-12-20/
CATEGORIES:MV課,課程
END:VEVENT
BEGIN:VEVENT
DTSTART;TZID=Asia/Shanghai:20251220T182000
DTEND;TZID=Asia/Shanghai:20251220T192000
DTSTAMP:20260421T115424
CREATED:20250901T055441Z
LAST-MODIFIED:20250901T055457Z
UID:10028060-1766254800-1766258400@www.dancesoul.com.tw
SUMMARY:Popping-紀威
DESCRIPTION:
URL:https://www.dancesoul.com.tw/schedule/popping-%e7%b4%80%e5%a8%81-54/2025-12-20/
CATEGORIES:Poppin,常態課_一般,課程
END:VEVENT
BEGIN:VEVENT
DTSTART;TZID=Asia/Shanghai:20251221T132000
DTEND;TZID=Asia/Shanghai:20251221T142000
DTSTAMP:20260421T115424
CREATED:20250901T055750Z
LAST-MODIFIED:20250901T055750Z
UID:10028843-1766323200-1766326800@www.dancesoul.com.tw
SUMMARY:兒童街舞-羿芃
DESCRIPTION:
URL:https://www.dancesoul.com.tw/schedule/%e5%85%92%e7%ab%a5%e8%a1%97%e8%88%9e-%e7%be%bf%e8%8a%83-20/2025-12-21/
CATEGORIES:兒童街舞,課程
END:VEVENT
BEGIN:VEVENT
DTSTART;TZID=Asia/Shanghai:20251221T143000
DTEND;TZID=Asia/Shanghai:20251221T153000
DTSTAMP:20260421T115424
CREATED:20260315T071830Z
LAST-MODIFIED:20260315T071830Z
UID:10031306-1766327400-1766331000@www.dancesoul.com.tw
SUMMARY:兒童MV(ILLIT-opps!)-羿芃
DESCRIPTION:
URL:https://www.dancesoul.com.tw/schedule/%e5%85%92%e7%ab%a5mvizna-sass-%e7%be%bf%e8%8a%83-2-2/2025-12-21/
CATEGORIES:兒童MV,兒童課
END:VEVENT
BEGIN:VEVENT
DTSTART;TZID=Asia/Shanghai:20251221T154000
DTEND;TZID=Asia/Shanghai:20251221T164000
DTSTAMP:20260421T115424
CREATED:20250901T060229Z
LAST-MODIFIED:20250901T060229Z
UID:10029365-1766331600-1766335200@www.dancesoul.com.tw
SUMMARY:兒童Street Jazz-傘傘
DESCRIPTION:
URL:https://www.dancesoul.com.tw/schedule/%e5%85%92%e7%ab%a5street-jazz-%e5%82%98%e5%82%98-4/2025-12-21/
CATEGORIES:兒童街舞,兒童課
END:VEVENT
BEGIN:VEVENT
DTSTART;TZID=Asia/Shanghai:20251221T165000
DTEND;TZID=Asia/Shanghai:20251221T175000
DTSTAMP:20260421T115424
CREATED:20251201T095640Z
LAST-MODIFIED:20260315T071631Z
UID:10029626-1766335800-1766339400@www.dancesoul.com.tw
SUMMARY:MV(Apink - 'Love Me More')-Jenny
DESCRIPTION:
URL:https://www.dancesoul.com.tw/schedule/mvsomi-closer-%e7%91%9c%e5%ba%ad-2/2025-12-21/
CATEGORIES:MV課,課程
END:VEVENT
BEGIN:VEVENT
DTSTART;TZID=Asia/Shanghai:20251221T192500
DTEND;TZID=Asia/Shanghai:20251221T202500
DTSTAMP:20260421T115424
CREATED:20250901T060526Z
LAST-MODIFIED:20250901T060526Z
UID:10030148-1766345100-1766348700@www.dancesoul.com.tw
SUMMARY:Hip Hop-承翰
DESCRIPTION:
URL:https://www.dancesoul.com.tw/schedule/hip-hop-%e6%89%bf%e7%bf%b0-2/2025-12-21/
CATEGORIES:Hip Hop,常態課_一般,課程
END:VEVENT
BEGIN:VEVENT
DTSTART;TZID=Asia/Shanghai:20251223T182000
DTEND;TZID=Asia/Shanghai:20251223T192000
DTSTAMP:20260421T115424
CREATED:20250828T095545Z
LAST-MODIFIED:20250828T095545Z
UID:10023629-1766514000-1766517600@www.dancesoul.com.tw
SUMMARY:MV-薇臻
DESCRIPTION:
URL:https://www.dancesoul.com.tw/schedule/mv-%e8%96%87%e8%87%bb-4/2025-12-23/
END:VEVENT
BEGIN:VEVENT
DTSTART;TZID=Asia/Shanghai:20251223T202000
DTEND;TZID=Asia/Shanghai:20251223T212000
DTSTAMP:20260421T115424
CREATED:20250828T100203Z
LAST-MODIFIED:20250828T100203Z
UID:10023891-1766521200-1766524800@www.dancesoul.com.tw
SUMMARY:Free Style-俊宏
DESCRIPTION:
URL:https://www.dancesoul.com.tw/schedule/free-style-%e4%bf%8a%e5%ae%8f-29/2025-12-23/
CATEGORIES:Freestyle,常態課_一般,課程
END:VEVENT
BEGIN:VEVENT
DTSTART;TZID=Asia/Shanghai:20251224T192500
DTEND;TZID=Asia/Shanghai:20251224T202500
DTSTAMP:20260421T115424
CREATED:20250828T102504Z
LAST-MODIFIED:20250828T102504Z
UID:10024674-1766604300-1766607900@www.dancesoul.com.tw
SUMMARY:Street Jazz-Larry
DESCRIPTION:
URL:https://www.dancesoul.com.tw/schedule/street-jazz-larry-30/2025-12-24/
CATEGORIES:STREET JAZZ,常態課_一般,課程
END:VEVENT
BEGIN:VEVENT
DTSTART;TZID=Asia/Shanghai:20251224T203000
DTEND;TZID=Asia/Shanghai:20251224T213000
DTSTAMP:20260421T115424
CREATED:20250828T103540Z
LAST-MODIFIED:20250828T103540Z
UID:10024935-1766608200-1766611800@www.dancesoul.com.tw
SUMMARY:Street Jazz-Kyle
DESCRIPTION:
URL:https://www.dancesoul.com.tw/schedule/street-jazz-kyle-4/2025-12-24/
CATEGORIES:STREET JAZZ,常態課_一般,課程
END:VEVENT
BEGIN:VEVENT
DTSTART;TZID=Asia/Shanghai:20251225T182000
DTEND;TZID=Asia/Shanghai:20251225T192000
DTSTAMP:20260421T115424
CREATED:20251202T055643Z
LAST-MODIFIED:20251202T055645Z
UID:10025457-1766686800-1766690400@www.dancesoul.com.tw
SUMMARY:Street Jazz-羊羊
DESCRIPTION:
URL:https://www.dancesoul.com.tw/schedule/hip-hop-%e4%bd%90%e4%bd%90-2-2/2025-12-25/
CATEGORIES:Hip Hop,常態課_一般,課程
END:VEVENT
BEGIN:VEVENT
DTSTART;TZID=Asia/Shanghai:20251225T213500
DTEND;TZID=Asia/Shanghai:20251225T223500
DTSTAMP:20260421T115424
CREATED:20250828T104929Z
LAST-MODIFIED:20250828T104929Z
UID:10026237-1766698500-1766702100@www.dancesoul.com.tw
SUMMARY:Choreography-巴豪
DESCRIPTION:
URL:https://www.dancesoul.com.tw/schedule/choreography-%e5%b7%b4%e8%b1%aa-7/2025-12-25/
CATEGORIES:Choreography,常態課_一般,課程
END:VEVENT
END:VCALENDAR