BEGIN:VCALENDAR
VERSION:2.0
PRODID:-//DANCE SOUL 舞魂街舞學校 - ECPv6.15.18//NONSGML v1.0//EN
CALSCALE:GREGORIAN
METHOD:PUBLISH
X-ORIGINAL-URL:https://www.dancesoul.com.tw
X-WR-CALDESC:Events for DANCE SOUL 舞魂街舞學校
REFRESH-INTERVAL;VALUE=DURATION:PT1H
X-Robots-Tag:noindex
X-PUBLISHED-TTL:PT1H
BEGIN:VTIMEZONE
TZID:Asia/Shanghai
BEGIN:STANDARD
TZOFFSETFROM:+0800
TZOFFSETTO:+0800
TZNAME:CST
DTSTART:20250101T000000
END:STANDARD
END:VTIMEZONE
BEGIN:VEVENT
DTSTART;TZID=Asia/Shanghai:20260803T203000
DTEND;TZID=Asia/Shanghai:20260803T213000
DTSTAMP:20260421T060627
CREATED:20260327T084046Z
LAST-MODIFIED:20260327T084828Z
UID:10035052-1785789000-1785792600@www.dancesoul.com.tw
SUMMARY:Heels-宋靜
DESCRIPTION:
URL:https://www.dancesoul.com.tw/schedule/heels-%e5%ae%8b%e9%9d%9c-3-2/2026-08-03/
END:VEVENT
BEGIN:VEVENT
DTSTART;TZID=Asia/Shanghai:20260803T213500
DTEND;TZID=Asia/Shanghai:20260803T223500
DTSTAMP:20260421T060627
CREATED:20260327T082216Z
LAST-MODIFIED:20260327T082217Z
UID:10032413-1785792900-1785796500@www.dancesoul.com.tw
SUMMARY:Jazz Funk-姿昀
DESCRIPTION:
URL:https://www.dancesoul.com.tw/schedule/jazz-funk-%e5%a7%bf%e6%98%80-15-2/2026-08-03/
CATEGORIES:Jazz Funk,課程
END:VEVENT
BEGIN:VEVENT
DTSTART;TZID=Asia/Shanghai:20260804T182000
DTEND;TZID=Asia/Shanghai:20260804T192000
DTSTAMP:20260421T060627
CREATED:20250828T095545Z
LAST-MODIFIED:20250828T095545Z
UID:10023661-1785867600-1785871200@www.dancesoul.com.tw
SUMMARY:MV-薇臻
DESCRIPTION:
URL:https://www.dancesoul.com.tw/schedule/mv-%e8%96%87%e8%87%bb-4/2026-08-04/
END:VEVENT
BEGIN:VEVENT
DTSTART;TZID=Asia/Shanghai:20260804T192500
DTEND;TZID=Asia/Shanghai:20260804T202500
DTSTAMP:20260421T060627
CREATED:20260327T083744Z
LAST-MODIFIED:20260327T083744Z
UID:10034261-1785871500-1785875100@www.dancesoul.com.tw
SUMMARY:Choreography-羅毅
DESCRIPTION:
URL:https://www.dancesoul.com.tw/schedule/choreography-%e7%be%85%e6%af%85-2-2/2026-08-04/
CATEGORIES:Choreography,常態課_一般,課程
END:VEVENT
BEGIN:VEVENT
DTSTART;TZID=Asia/Shanghai:20260804T202000
DTEND;TZID=Asia/Shanghai:20260804T212000
DTSTAMP:20260421T060627
CREATED:20250828T100203Z
LAST-MODIFIED:20250828T100203Z
UID:10023923-1785874800-1785878400@www.dancesoul.com.tw
SUMMARY:Free Style-俊宏
DESCRIPTION:
URL:https://www.dancesoul.com.tw/schedule/free-style-%e4%bf%8a%e5%ae%8f-29/2026-08-04/
CATEGORIES:Freestyle,常態課_一般,課程
END:VEVENT
BEGIN:VEVENT
DTSTART;TZID=Asia/Shanghai:20260804T213500
DTEND;TZID=Asia/Shanghai:20260804T223500
DTSTAMP:20260421T060627
CREATED:20260327T081822Z
LAST-MODIFIED:20260327T081932Z
UID:10032129-1785879300-1785882900@www.dancesoul.com.tw
SUMMARY:Hip Hop-承翰
DESCRIPTION:
URL:https://www.dancesoul.com.tw/schedule/hip-hop-%e6%89%bf%e7%bf%b0-2-3/2026-08-04/
CATEGORIES:Hip Hop,常態課_一般,課程
END:VEVENT
BEGIN:VEVENT
DTSTART;TZID=Asia/Shanghai:20260805T182000
DTEND;TZID=Asia/Shanghai:20260805T192000
DTSTAMP:20260421T060627
CREATED:20260327T082544Z
LAST-MODIFIED:20260327T082544Z
UID:10032942-1785954000-1785957600@www.dancesoul.com.tw
SUMMARY:Choreography(初)-無盡
DESCRIPTION:
URL:https://www.dancesoul.com.tw/schedule/choreography%e5%88%9d-%e7%84%a1%e7%9b%a1-14-2/2026-08-05/
CATEGORIES:Choreography 初級,常態課_初級,課程
END:VEVENT
BEGIN:VEVENT
DTSTART;TZID=Asia/Shanghai:20260805T192500
DTEND;TZID=Asia/Shanghai:20260805T202500
DTSTAMP:20260421T060627
CREATED:20250828T102504Z
LAST-MODIFIED:20250828T102504Z
UID:10024706-1785957900-1785961500@www.dancesoul.com.tw
SUMMARY:Street Jazz-Larry
DESCRIPTION:
URL:https://www.dancesoul.com.tw/schedule/street-jazz-larry-30/2026-08-05/
CATEGORIES:STREET JAZZ,常態課_一般,課程
END:VEVENT
BEGIN:VEVENT
DTSTART;TZID=Asia/Shanghai:20260805T203000
DTEND;TZID=Asia/Shanghai:20260805T213000
DTSTAMP:20260421T060627
CREATED:20250828T103540Z
LAST-MODIFIED:20250828T103540Z
UID:10024967-1785961800-1785965400@www.dancesoul.com.tw
SUMMARY:Street Jazz-Kyle
DESCRIPTION:
URL:https://www.dancesoul.com.tw/schedule/street-jazz-kyle-4/2026-08-05/
CATEGORIES:STREET JAZZ,常態課_一般,課程
END:VEVENT
BEGIN:VEVENT
DTSTART;TZID=Asia/Shanghai:20260805T213500
DTEND;TZID=Asia/Shanghai:20260805T223500
DTSTAMP:20260421T060627
CREATED:20260327T085649Z
LAST-MODIFIED:20260327T085650Z
UID:10036639-1785965700-1785969300@www.dancesoul.com.tw
SUMMARY:MV-緗緗
DESCRIPTION:
URL:https://www.dancesoul.com.tw/schedule/mv-%e7%b7%97%e7%b7%97-2-2/2026-08-05/
END:VEVENT
BEGIN:VEVENT
DTSTART;TZID=Asia/Shanghai:20260806T182000
DTEND;TZID=Asia/Shanghai:20260806T192000
DTSTAMP:20260421T060627
CREATED:20251202T055643Z
LAST-MODIFIED:20251202T055645Z
UID:10025489-1786040400-1786044000@www.dancesoul.com.tw
SUMMARY:Street Jazz-羊羊
DESCRIPTION:
URL:https://www.dancesoul.com.tw/schedule/hip-hop-%e4%bd%90%e4%bd%90-2-2/2026-08-06/
CATEGORIES:Hip Hop,常態課_一般,課程
END:VEVENT
BEGIN:VEVENT
DTSTART;TZID=Asia/Shanghai:20260806T192500
DTEND;TZID=Asia/Shanghai:20260806T202500
DTSTAMP:20260421T060627
CREATED:20260327T082918Z
LAST-MODIFIED:20260327T084510Z
UID:10034788-1786044300-1786047900@www.dancesoul.com.tw
SUMMARY:Hip Hop(初)-林彤
DESCRIPTION:
URL:https://www.dancesoul.com.tw/schedule/hip-hop%e5%88%9d-%e6%9e%97%e5%bd%a4-3-2/2026-08-06/
CATEGORIES:Hip Hop 初級,常態課_初級,課程
END:VEVENT
BEGIN:VEVENT
DTSTART;TZID=Asia/Shanghai:20260806T203000
DTEND;TZID=Asia/Shanghai:20260806T213000
DTSTAMP:20260421T060627
CREATED:20260327T085246Z
LAST-MODIFIED:20260327T085313Z
UID:10036111-1786048200-1786051800@www.dancesoul.com.tw
SUMMARY:Choreography-HU RUEI胡睿
DESCRIPTION:
URL:https://www.dancesoul.com.tw/schedule/choreography-hu-ruei%e8%83%a1%e7%9d%bf/2026-08-06/
END:VEVENT
BEGIN:VEVENT
DTSTART;TZID=Asia/Shanghai:20260806T213500
DTEND;TZID=Asia/Shanghai:20260806T223500
DTSTAMP:20260421T060627
CREATED:20250828T104929Z
LAST-MODIFIED:20250828T104929Z
UID:10026269-1786052100-1786055700@www.dancesoul.com.tw
SUMMARY:Choreography-巴豪
DESCRIPTION:
URL:https://www.dancesoul.com.tw/schedule/choreography-%e5%b7%b4%e8%b1%aa-7/2026-08-06/
CATEGORIES:Choreography,常態課_一般,課程
END:VEVENT
BEGIN:VEVENT
DTSTART;TZID=Asia/Shanghai:20260807T182000
DTEND;TZID=Asia/Shanghai:20260807T192000
DTSTAMP:20260421T060627
CREATED:20260327T083919Z
LAST-MODIFIED:20260327T083920Z
UID:10034525-1786126800-1786130400@www.dancesoul.com.tw
SUMMARY:Twerk（初）-碗公
DESCRIPTION:
URL:https://www.dancesoul.com.tw/schedule/twerk%ef%bc%88%e5%88%9d%ef%bc%89-%e7%a2%97%e5%85%ac-2-2/2026-08-07/
END:VEVENT
BEGIN:VEVENT
DTSTART;TZID=Asia/Shanghai:20260807T192500
DTEND;TZID=Asia/Shanghai:20260807T202500
DTSTAMP:20260421T060627
CREATED:20260327T090205Z
LAST-MODIFIED:20260327T090205Z
UID:10037433-1786130700-1786134300@www.dancesoul.com.tw
SUMMARY:Street Jazz-CenMei
DESCRIPTION:
URL:https://www.dancesoul.com.tw/schedule/street-jazz-cenmei/2026-08-07/
END:VEVENT
BEGIN:VEVENT
DTSTART;TZID=Asia/Shanghai:20260807T203000
DTEND;TZID=Asia/Shanghai:20260807T213000
DTSTAMP:20260421T060627
CREATED:20260327T090256Z
LAST-MODIFIED:20260327T090256Z
UID:10037697-1786134600-1786138200@www.dancesoul.com.tw
SUMMARY:Jazz Funk-Dang 鈴鐺
DESCRIPTION:
URL:https://www.dancesoul.com.tw/schedule/jazz-funk-dang-%e9%88%b4%e9%90%ba/2026-08-07/
END:VEVENT
BEGIN:VEVENT
DTSTART;TZID=Asia/Shanghai:20260807T213500
DTEND;TZID=Asia/Shanghai:20260807T223500
DTSTAMP:20260421T060627
CREATED:20260327T085804Z
LAST-MODIFIED:20260327T085804Z
UID:10036904-1786138500-1786142100@www.dancesoul.com.tw
SUMMARY:Street Jazz-Roy燦伊
DESCRIPTION:
URL:https://www.dancesoul.com.tw/schedule/street-jazz-roy%e7%87%a6%e4%bc%8a/2026-08-07/
END:VEVENT
BEGIN:VEVENT
DTSTART;TZID=Asia/Shanghai:20260808T132000
DTEND;TZID=Asia/Shanghai:20260808T142000
DTSTAMP:20260421T060627
CREATED:20251201T070320Z
LAST-MODIFIED:20260315T072345Z
UID:10027309-1786195200-1786198800@www.dancesoul.com.tw
SUMMARY:兒童MV(初)(i-dle - 'Mona(Feat.skaiwater)')-薇臻
DESCRIPTION:
URL:https://www.dancesoul.com.tw/schedule/%e5%85%92%e7%ab%a5%e8%a1%97%e8%88%9e-%e8%96%87%e8%87%bb-21-2-2-2/2026-08-08/
CATEGORIES:兒童街舞,兒童課
END:VEVENT
BEGIN:VEVENT
DTSTART;TZID=Asia/Shanghai:20260808T143000
DTEND;TZID=Asia/Shanghai:20260808T153000
DTSTAMP:20260421T060627
CREATED:20251202T055414Z
LAST-MODIFIED:20260315T072223Z
UID:10027570-1786199400-1786203000@www.dancesoul.com.tw
SUMMARY:兒童MV(IVE - 'BANG BANG')-薇臻
DESCRIPTION:
URL:https://www.dancesoul.com.tw/schedule/%e5%85%92%e7%ab%a5mvbabymonster-hot-sauce-%e8%96%87%e8%87%bb-2/2026-08-08/
CATEGORIES:MV課,兒童MV,課程
END:VEVENT
BEGIN:VEVENT
DTSTART;TZID=Asia/Shanghai:20260808T154000
DTEND;TZID=Asia/Shanghai:20260808T164000
DTSTAMP:20260421T060627
CREATED:20250901T055134Z
LAST-MODIFIED:20260327T083158Z
UID:10033472-1786203600-1786207200@www.dancesoul.com.tw
SUMMARY:兒童Popping-勁宏
DESCRIPTION:
URL:https://www.dancesoul.com.tw/schedule/%e5%85%92%e7%ab%a5popping-%e5%8b%81%e5%ae%8f-2/2026-08-08/
CATEGORIES:兒童街舞,課程
END:VEVENT
BEGIN:VEVENT
DTSTART;TZID=Asia/Shanghai:20260808T164000
DTEND;TZID=Asia/Shanghai:20260808T174000
DTSTAMP:20260421T060627
CREATED:20260315T072002Z
LAST-MODIFIED:20260315T072518Z
UID:10027832-1786207200-1786210800@www.dancesoul.com.tw
SUMMARY:MV(IVE - ‘BANG BANG’)-薇臻
DESCRIPTION:
URL:https://www.dancesoul.com.tw/schedule/mvive-xoxz-%e5%87%9d%e7%90%a6-2-2/2026-08-08/
CATEGORIES:MV課,課程
END:VEVENT
BEGIN:VEVENT
DTSTART;TZID=Asia/Shanghai:20260808T182000
DTEND;TZID=Asia/Shanghai:20260808T192000
DTSTAMP:20260421T060627
CREATED:20250901T055441Z
LAST-MODIFIED:20250901T055457Z
UID:10028093-1786213200-1786216800@www.dancesoul.com.tw
SUMMARY:Popping-紀威
DESCRIPTION:
URL:https://www.dancesoul.com.tw/schedule/popping-%e7%b4%80%e5%a8%81-54/2026-08-08/
CATEGORIES:Poppin,常態課_一般,課程
END:VEVENT
BEGIN:VEVENT
DTSTART;TZID=Asia/Shanghai:20260808T192500
DTEND;TZID=Asia/Shanghai:20260808T202500
DTSTAMP:20260421T060627
CREATED:20260327T082346Z
LAST-MODIFIED:20260327T082346Z
UID:10032677-1786217100-1786220700@www.dancesoul.com.tw
SUMMARY:HIP HOP-GAGA
DESCRIPTION:
URL:https://www.dancesoul.com.tw/schedule/%e5%9f%ba%e7%a4%8e%e5%85%a5%e9%96%80-%e9%9b%9e%e8%9b%8b-41-2/2026-08-08/
CATEGORIES:基礎入門,常態課_初級,課程
END:VEVENT
BEGIN:VEVENT
DTSTART;TZID=Asia/Shanghai:20260809T132000
DTEND;TZID=Asia/Shanghai:20260809T142000
DTSTAMP:20260421T060627
CREATED:20250901T055750Z
LAST-MODIFIED:20250901T055750Z
UID:10028876-1786281600-1786285200@www.dancesoul.com.tw
SUMMARY:兒童街舞-羿芃
DESCRIPTION:
URL:https://www.dancesoul.com.tw/schedule/%e5%85%92%e7%ab%a5%e8%a1%97%e8%88%9e-%e7%be%bf%e8%8a%83-20/2026-08-09/
CATEGORIES:兒童街舞,課程
END:VEVENT
BEGIN:VEVENT
DTSTART;TZID=Asia/Shanghai:20260809T143000
DTEND;TZID=Asia/Shanghai:20260809T153000
DTSTAMP:20260421T060627
CREATED:20260315T071830Z
LAST-MODIFIED:20260315T071830Z
UID:10029137-1786285800-1786289400@www.dancesoul.com.tw
SUMMARY:兒童MV(ILLIT-opps!)-羿芃
DESCRIPTION:
URL:https://www.dancesoul.com.tw/schedule/%e5%85%92%e7%ab%a5mvizna-sass-%e7%be%bf%e8%8a%83-2-2/2026-08-09/
CATEGORIES:兒童MV,兒童課
END:VEVENT
BEGIN:VEVENT
DTSTART;TZID=Asia/Shanghai:20260809T154000
DTEND;TZID=Asia/Shanghai:20260809T164000
DTSTAMP:20260421T060627
CREATED:20250901T060229Z
LAST-MODIFIED:20250901T060229Z
UID:10029398-1786290000-1786293600@www.dancesoul.com.tw
SUMMARY:兒童Street Jazz-傘傘
DESCRIPTION:
URL:https://www.dancesoul.com.tw/schedule/%e5%85%92%e7%ab%a5street-jazz-%e5%82%98%e5%82%98-4/2026-08-09/
CATEGORIES:兒童街舞,兒童課
END:VEVENT
BEGIN:VEVENT
DTSTART;TZID=Asia/Shanghai:20260809T165000
DTEND;TZID=Asia/Shanghai:20260809T175000
DTSTAMP:20260421T060627
CREATED:20251201T095640Z
LAST-MODIFIED:20260315T071631Z
UID:10029659-1786294200-1786297800@www.dancesoul.com.tw
SUMMARY:MV(Apink - 'Love Me More')-Jenny
DESCRIPTION:
URL:https://www.dancesoul.com.tw/schedule/mvsomi-closer-%e7%91%9c%e5%ba%ad-2/2026-08-09/
CATEGORIES:MV課,課程
END:VEVENT
BEGIN:VEVENT
DTSTART;TZID=Asia/Shanghai:20260809T182000
DTEND;TZID=Asia/Shanghai:20260809T192000
DTSTAMP:20260421T060627
CREATED:20260327T085927Z
LAST-MODIFIED:20260327T085927Z
UID:10037169-1786299600-1786303200@www.dancesoul.com.tw
SUMMARY:Jazz Funk-Zulin小霖
DESCRIPTION:
URL:https://www.dancesoul.com.tw/schedule/jazz-funk-zulin%e5%b0%8f%e9%9c%96/2026-08-09/
END:VEVENT
BEGIN:VEVENT
DTSTART;TZID=Asia/Shanghai:20260809T192500
DTEND;TZID=Asia/Shanghai:20260809T202500
DTSTAMP:20260421T060627
CREATED:20260327T081608Z
LAST-MODIFIED:20260327T081608Z
UID:10030181-1786303500-1786307100@www.dancesoul.com.tw
SUMMARY:Hip Hop-ROD
DESCRIPTION:
URL:https://www.dancesoul.com.tw/schedule/hip-hop-%e6%89%bf%e7%bf%b0-2-2/2026-08-09/
CATEGORIES:Hip Hop,常態課_一般,課程
END:VEVENT
END:VCALENDAR