BEGIN:VCALENDAR
VERSION:2.0
PRODID:-//DANCE SOUL 舞魂街舞學校 - ECPv6.15.18//NONSGML v1.0//EN
CALSCALE:GREGORIAN
METHOD:PUBLISH
X-WR-CALNAME:DANCE SOUL 舞魂街舞學校
X-ORIGINAL-URL:https://www.dancesoul.com.tw
X-WR-CALDESC:Events for DANCE SOUL 舞魂街舞學校
REFRESH-INTERVAL;VALUE=DURATION:PT1H
X-Robots-Tag:noindex
X-PUBLISHED-TTL:PT1H
BEGIN:VTIMEZONE
TZID:Asia/Shanghai
BEGIN:STANDARD
TZOFFSETFROM:+0800
TZOFFSETTO:+0800
TZNAME:CST
DTSTART:20250101T000000
END:STANDARD
END:VTIMEZONE
BEGIN:VEVENT
DTSTART;TZID=Asia/Shanghai:20260421T192500
DTEND;TZID=Asia/Shanghai:20260421T202500
DTSTAMP:20260420T174956
CREATED:20260327T083744Z
LAST-MODIFIED:20260327T083744Z
UID:10034246-1776799500-1776803100@www.dancesoul.com.tw
SUMMARY:Choreography-羅毅
DESCRIPTION:
URL:https://www.dancesoul.com.tw/schedule/choreography-%e7%be%85%e6%af%85-2-2/2026-04-21/
CATEGORIES:Choreography,常態課_一般,課程
END:VEVENT
BEGIN:VEVENT
DTSTART;TZID=Asia/Shanghai:20260428T192500
DTEND;TZID=Asia/Shanghai:20260428T202500
DTSTAMP:20260420T174956
CREATED:20260327T083744Z
LAST-MODIFIED:20260327T083744Z
UID:10034247-1777404300-1777407900@www.dancesoul.com.tw
SUMMARY:Choreography-羅毅
DESCRIPTION:
URL:https://www.dancesoul.com.tw/schedule/choreography-%e7%be%85%e6%af%85-2-2/2026-04-28/
CATEGORIES:Choreography,常態課_一般,課程
END:VEVENT
BEGIN:VEVENT
DTSTART;TZID=Asia/Shanghai:20260505T192500
DTEND;TZID=Asia/Shanghai:20260505T202500
DTSTAMP:20260420T174956
CREATED:20260327T083744Z
LAST-MODIFIED:20260327T083744Z
UID:10034248-1778009100-1778012700@www.dancesoul.com.tw
SUMMARY:Choreography-羅毅
DESCRIPTION:
URL:https://www.dancesoul.com.tw/schedule/choreography-%e7%be%85%e6%af%85-2-2/2026-05-05/
CATEGORIES:Choreography,常態課_一般,課程
END:VEVENT
BEGIN:VEVENT
DTSTART;TZID=Asia/Shanghai:20260512T192500
DTEND;TZID=Asia/Shanghai:20260512T202500
DTSTAMP:20260420T174956
CREATED:20260327T083744Z
LAST-MODIFIED:20260327T083744Z
UID:10034249-1778613900-1778617500@www.dancesoul.com.tw
SUMMARY:Choreography-羅毅
DESCRIPTION:
URL:https://www.dancesoul.com.tw/schedule/choreography-%e7%be%85%e6%af%85-2-2/2026-05-12/
CATEGORIES:Choreography,常態課_一般,課程
END:VEVENT
BEGIN:VEVENT
DTSTART;TZID=Asia/Shanghai:20260519T192500
DTEND;TZID=Asia/Shanghai:20260519T202500
DTSTAMP:20260420T174956
CREATED:20260327T083744Z
LAST-MODIFIED:20260327T083744Z
UID:10034250-1779218700-1779222300@www.dancesoul.com.tw
SUMMARY:Choreography-羅毅
DESCRIPTION:
URL:https://www.dancesoul.com.tw/schedule/choreography-%e7%be%85%e6%af%85-2-2/2026-05-19/
CATEGORIES:Choreography,常態課_一般,課程
END:VEVENT
BEGIN:VEVENT
DTSTART;TZID=Asia/Shanghai:20260526T192500
DTEND;TZID=Asia/Shanghai:20260526T202500
DTSTAMP:20260420T174956
CREATED:20260327T083744Z
LAST-MODIFIED:20260327T083744Z
UID:10034251-1779823500-1779827100@www.dancesoul.com.tw
SUMMARY:Choreography-羅毅
DESCRIPTION:
URL:https://www.dancesoul.com.tw/schedule/choreography-%e7%be%85%e6%af%85-2-2/2026-05-26/
CATEGORIES:Choreography,常態課_一般,課程
END:VEVENT
BEGIN:VEVENT
DTSTART;TZID=Asia/Shanghai:20260602T192500
DTEND;TZID=Asia/Shanghai:20260602T202500
DTSTAMP:20260420T174956
CREATED:20260327T083744Z
LAST-MODIFIED:20260327T083744Z
UID:10034252-1780428300-1780431900@www.dancesoul.com.tw
SUMMARY:Choreography-羅毅
DESCRIPTION:
URL:https://www.dancesoul.com.tw/schedule/choreography-%e7%be%85%e6%af%85-2-2/2026-06-02/
CATEGORIES:Choreography,常態課_一般,課程
END:VEVENT
BEGIN:VEVENT
DTSTART;TZID=Asia/Shanghai:20260609T192500
DTEND;TZID=Asia/Shanghai:20260609T202500
DTSTAMP:20260420T174956
CREATED:20260327T083744Z
LAST-MODIFIED:20260327T083744Z
UID:10034253-1781033100-1781036700@www.dancesoul.com.tw
SUMMARY:Choreography-羅毅
DESCRIPTION:
URL:https://www.dancesoul.com.tw/schedule/choreography-%e7%be%85%e6%af%85-2-2/2026-06-09/
CATEGORIES:Choreography,常態課_一般,課程
END:VEVENT
BEGIN:VEVENT
DTSTART;TZID=Asia/Shanghai:20260616T192500
DTEND;TZID=Asia/Shanghai:20260616T202500
DTSTAMP:20260420T174956
CREATED:20260327T083744Z
LAST-MODIFIED:20260327T083744Z
UID:10034254-1781637900-1781641500@www.dancesoul.com.tw
SUMMARY:Choreography-羅毅
DESCRIPTION:
URL:https://www.dancesoul.com.tw/schedule/choreography-%e7%be%85%e6%af%85-2-2/2026-06-16/
CATEGORIES:Choreography,常態課_一般,課程
END:VEVENT
BEGIN:VEVENT
DTSTART;TZID=Asia/Shanghai:20260623T192500
DTEND;TZID=Asia/Shanghai:20260623T202500
DTSTAMP:20260420T174956
CREATED:20260327T083744Z
LAST-MODIFIED:20260327T083744Z
UID:10034255-1782242700-1782246300@www.dancesoul.com.tw
SUMMARY:Choreography-羅毅
DESCRIPTION:
URL:https://www.dancesoul.com.tw/schedule/choreography-%e7%be%85%e6%af%85-2-2/2026-06-23/
CATEGORIES:Choreography,常態課_一般,課程
END:VEVENT
BEGIN:VEVENT
DTSTART;TZID=Asia/Shanghai:20260630T192500
DTEND;TZID=Asia/Shanghai:20260630T202500
DTSTAMP:20260420T174956
CREATED:20260327T083744Z
LAST-MODIFIED:20260327T083744Z
UID:10034256-1782847500-1782851100@www.dancesoul.com.tw
SUMMARY:Choreography-羅毅
DESCRIPTION:
URL:https://www.dancesoul.com.tw/schedule/choreography-%e7%be%85%e6%af%85-2-2/2026-06-30/
CATEGORIES:Choreography,常態課_一般,課程
END:VEVENT
BEGIN:VEVENT
DTSTART;TZID=Asia/Shanghai:20260707T192500
DTEND;TZID=Asia/Shanghai:20260707T202500
DTSTAMP:20260420T174956
CREATED:20260327T083744Z
LAST-MODIFIED:20260327T083744Z
UID:10034257-1783452300-1783455900@www.dancesoul.com.tw
SUMMARY:Choreography-羅毅
DESCRIPTION:
URL:https://www.dancesoul.com.tw/schedule/choreography-%e7%be%85%e6%af%85-2-2/2026-07-07/
CATEGORIES:Choreography,常態課_一般,課程
END:VEVENT
BEGIN:VEVENT
DTSTART;TZID=Asia/Shanghai:20260714T192500
DTEND;TZID=Asia/Shanghai:20260714T202500
DTSTAMP:20260420T174956
CREATED:20260327T083744Z
LAST-MODIFIED:20260327T083744Z
UID:10034258-1784057100-1784060700@www.dancesoul.com.tw
SUMMARY:Choreography-羅毅
DESCRIPTION:
URL:https://www.dancesoul.com.tw/schedule/choreography-%e7%be%85%e6%af%85-2-2/2026-07-14/
CATEGORIES:Choreography,常態課_一般,課程
END:VEVENT
BEGIN:VEVENT
DTSTART;TZID=Asia/Shanghai:20260721T192500
DTEND;TZID=Asia/Shanghai:20260721T202500
DTSTAMP:20260420T174956
CREATED:20260327T083744Z
LAST-MODIFIED:20260327T083744Z
UID:10034259-1784661900-1784665500@www.dancesoul.com.tw
SUMMARY:Choreography-羅毅
DESCRIPTION:
URL:https://www.dancesoul.com.tw/schedule/choreography-%e7%be%85%e6%af%85-2-2/2026-07-21/
CATEGORIES:Choreography,常態課_一般,課程
END:VEVENT
BEGIN:VEVENT
DTSTART;TZID=Asia/Shanghai:20260728T192500
DTEND;TZID=Asia/Shanghai:20260728T202500
DTSTAMP:20260420T174956
CREATED:20260327T083744Z
LAST-MODIFIED:20260327T083744Z
UID:10034260-1785266700-1785270300@www.dancesoul.com.tw
SUMMARY:Choreography-羅毅
DESCRIPTION:
URL:https://www.dancesoul.com.tw/schedule/choreography-%e7%be%85%e6%af%85-2-2/2026-07-28/
CATEGORIES:Choreography,常態課_一般,課程
END:VEVENT
BEGIN:VEVENT
DTSTART;TZID=Asia/Shanghai:20260804T192500
DTEND;TZID=Asia/Shanghai:20260804T202500
DTSTAMP:20260420T174956
CREATED:20260327T083744Z
LAST-MODIFIED:20260327T083744Z
UID:10034261-1785871500-1785875100@www.dancesoul.com.tw
SUMMARY:Choreography-羅毅
DESCRIPTION:
URL:https://www.dancesoul.com.tw/schedule/choreography-%e7%be%85%e6%af%85-2-2/2026-08-04/
CATEGORIES:Choreography,常態課_一般,課程
END:VEVENT
BEGIN:VEVENT
DTSTART;TZID=Asia/Shanghai:20260811T192500
DTEND;TZID=Asia/Shanghai:20260811T202500
DTSTAMP:20260420T174956
CREATED:20260327T083744Z
LAST-MODIFIED:20260327T083744Z
UID:10034262-1786476300-1786479900@www.dancesoul.com.tw
SUMMARY:Choreography-羅毅
DESCRIPTION:
URL:https://www.dancesoul.com.tw/schedule/choreography-%e7%be%85%e6%af%85-2-2/2026-08-11/
CATEGORIES:Choreography,常態課_一般,課程
END:VEVENT
BEGIN:VEVENT
DTSTART;TZID=Asia/Shanghai:20260818T192500
DTEND;TZID=Asia/Shanghai:20260818T202500
DTSTAMP:20260420T174956
CREATED:20260327T083744Z
LAST-MODIFIED:20260327T083744Z
UID:10034263-1787081100-1787084700@www.dancesoul.com.tw
SUMMARY:Choreography-羅毅
DESCRIPTION:
URL:https://www.dancesoul.com.tw/schedule/choreography-%e7%be%85%e6%af%85-2-2/2026-08-18/
CATEGORIES:Choreography,常態課_一般,課程
END:VEVENT
BEGIN:VEVENT
DTSTART;TZID=Asia/Shanghai:20260825T192500
DTEND;TZID=Asia/Shanghai:20260825T202500
DTSTAMP:20260420T174956
CREATED:20260327T083744Z
LAST-MODIFIED:20260327T083744Z
UID:10034264-1787685900-1787689500@www.dancesoul.com.tw
SUMMARY:Choreography-羅毅
DESCRIPTION:
URL:https://www.dancesoul.com.tw/schedule/choreography-%e7%be%85%e6%af%85-2-2/2026-08-25/
CATEGORIES:Choreography,常態課_一般,課程
END:VEVENT
BEGIN:VEVENT
DTSTART;TZID=Asia/Shanghai:20260901T192500
DTEND;TZID=Asia/Shanghai:20260901T202500
DTSTAMP:20260420T174956
CREATED:20260327T083744Z
LAST-MODIFIED:20260327T083744Z
UID:10034265-1788290700-1788294300@www.dancesoul.com.tw
SUMMARY:Choreography-羅毅
DESCRIPTION:
URL:https://www.dancesoul.com.tw/schedule/choreography-%e7%be%85%e6%af%85-2-2/2026-09-01/
CATEGORIES:Choreography,常態課_一般,課程
END:VEVENT
BEGIN:VEVENT
DTSTART;TZID=Asia/Shanghai:20260908T192500
DTEND;TZID=Asia/Shanghai:20260908T202500
DTSTAMP:20260420T174956
CREATED:20260327T083744Z
LAST-MODIFIED:20260327T083744Z
UID:10034266-1788895500-1788899100@www.dancesoul.com.tw
SUMMARY:Choreography-羅毅
DESCRIPTION:
URL:https://www.dancesoul.com.tw/schedule/choreography-%e7%be%85%e6%af%85-2-2/2026-09-08/
CATEGORIES:Choreography,常態課_一般,課程
END:VEVENT
BEGIN:VEVENT
DTSTART;TZID=Asia/Shanghai:20260915T192500
DTEND;TZID=Asia/Shanghai:20260915T202500
DTSTAMP:20260420T174956
CREATED:20260327T083744Z
LAST-MODIFIED:20260327T083744Z
UID:10034267-1789500300-1789503900@www.dancesoul.com.tw
SUMMARY:Choreography-羅毅
DESCRIPTION:
URL:https://www.dancesoul.com.tw/schedule/choreography-%e7%be%85%e6%af%85-2-2/2026-09-15/
CATEGORIES:Choreography,常態課_一般,課程
END:VEVENT
BEGIN:VEVENT
DTSTART;TZID=Asia/Shanghai:20260922T192500
DTEND;TZID=Asia/Shanghai:20260922T202500
DTSTAMP:20260420T174956
CREATED:20260327T083744Z
LAST-MODIFIED:20260327T083744Z
UID:10034268-1790105100-1790108700@www.dancesoul.com.tw
SUMMARY:Choreography-羅毅
DESCRIPTION:
URL:https://www.dancesoul.com.tw/schedule/choreography-%e7%be%85%e6%af%85-2-2/2026-09-22/
CATEGORIES:Choreography,常態課_一般,課程
END:VEVENT
BEGIN:VEVENT
DTSTART;TZID=Asia/Shanghai:20260929T192500
DTEND;TZID=Asia/Shanghai:20260929T202500
DTSTAMP:20260420T174956
CREATED:20260327T083744Z
LAST-MODIFIED:20260327T083744Z
UID:10034269-1790709900-1790713500@www.dancesoul.com.tw
SUMMARY:Choreography-羅毅
DESCRIPTION:
URL:https://www.dancesoul.com.tw/schedule/choreography-%e7%be%85%e6%af%85-2-2/2026-09-29/
CATEGORIES:Choreography,常態課_一般,課程
END:VEVENT
BEGIN:VEVENT
DTSTART;TZID=Asia/Shanghai:20261006T192500
DTEND;TZID=Asia/Shanghai:20261006T202500
DTSTAMP:20260420T174956
CREATED:20260327T083744Z
LAST-MODIFIED:20260327T083744Z
UID:10034270-1791314700-1791318300@www.dancesoul.com.tw
SUMMARY:Choreography-羅毅
DESCRIPTION:
URL:https://www.dancesoul.com.tw/schedule/choreography-%e7%be%85%e6%af%85-2-2/2026-10-06/
CATEGORIES:Choreography,常態課_一般,課程
END:VEVENT
BEGIN:VEVENT
DTSTART;TZID=Asia/Shanghai:20261013T192500
DTEND;TZID=Asia/Shanghai:20261013T202500
DTSTAMP:20260420T174956
CREATED:20260327T083744Z
LAST-MODIFIED:20260327T083744Z
UID:10034271-1791919500-1791923100@www.dancesoul.com.tw
SUMMARY:Choreography-羅毅
DESCRIPTION:
URL:https://www.dancesoul.com.tw/schedule/choreography-%e7%be%85%e6%af%85-2-2/2026-10-13/
CATEGORIES:Choreography,常態課_一般,課程
END:VEVENT
BEGIN:VEVENT
DTSTART;TZID=Asia/Shanghai:20261020T192500
DTEND;TZID=Asia/Shanghai:20261020T202500
DTSTAMP:20260420T174956
CREATED:20260327T083744Z
LAST-MODIFIED:20260327T083744Z
UID:10034272-1792524300-1792527900@www.dancesoul.com.tw
SUMMARY:Choreography-羅毅
DESCRIPTION:
URL:https://www.dancesoul.com.tw/schedule/choreography-%e7%be%85%e6%af%85-2-2/2026-10-20/
CATEGORIES:Choreography,常態課_一般,課程
END:VEVENT
BEGIN:VEVENT
DTSTART;TZID=Asia/Shanghai:20261027T192500
DTEND;TZID=Asia/Shanghai:20261027T202500
DTSTAMP:20260420T174956
CREATED:20260327T083744Z
LAST-MODIFIED:20260327T083744Z
UID:10034273-1793129100-1793132700@www.dancesoul.com.tw
SUMMARY:Choreography-羅毅
DESCRIPTION:
URL:https://www.dancesoul.com.tw/schedule/choreography-%e7%be%85%e6%af%85-2-2/2026-10-27/
CATEGORIES:Choreography,常態課_一般,課程
END:VEVENT
BEGIN:VEVENT
DTSTART;TZID=Asia/Shanghai:20261103T192500
DTEND;TZID=Asia/Shanghai:20261103T202500
DTSTAMP:20260420T174956
CREATED:20260327T083744Z
LAST-MODIFIED:20260327T083744Z
UID:10034274-1793733900-1793737500@www.dancesoul.com.tw
SUMMARY:Choreography-羅毅
DESCRIPTION:
URL:https://www.dancesoul.com.tw/schedule/choreography-%e7%be%85%e6%af%85-2-2/2026-11-03/
CATEGORIES:Choreography,常態課_一般,課程
END:VEVENT
BEGIN:VEVENT
DTSTART;TZID=Asia/Shanghai:20261110T192500
DTEND;TZID=Asia/Shanghai:20261110T202500
DTSTAMP:20260420T174956
CREATED:20260327T083744Z
LAST-MODIFIED:20260327T083744Z
UID:10034275-1794338700-1794342300@www.dancesoul.com.tw
SUMMARY:Choreography-羅毅
DESCRIPTION:
URL:https://www.dancesoul.com.tw/schedule/choreography-%e7%be%85%e6%af%85-2-2/2026-11-10/
CATEGORIES:Choreography,常態課_一般,課程
END:VEVENT
END:VCALENDAR