BEGIN:VCALENDAR
VERSION:2.0
PRODID:-//DANCE SOUL 舞魂街舞學校 - ECPv6.15.18//NONSGML v1.0//EN
CALSCALE:GREGORIAN
METHOD:PUBLISH
X-WR-CALNAME:DANCE SOUL 舞魂街舞學校
X-ORIGINAL-URL:https://www.dancesoul.com.tw
X-WR-CALDESC:Events for DANCE SOUL 舞魂街舞學校
REFRESH-INTERVAL;VALUE=DURATION:PT1H
X-Robots-Tag:noindex
X-PUBLISHED-TTL:PT1H
BEGIN:VTIMEZONE
TZID:Asia/Shanghai
BEGIN:STANDARD
TZOFFSETFROM:+0800
TZOFFSETTO:+0800
TZNAME:CST
DTSTART:20250101T000000
END:STANDARD
END:VTIMEZONE
BEGIN:VEVENT
DTSTART;TZID=Asia/Shanghai:20260425T164000
DTEND;TZID=Asia/Shanghai:20260425T174000
DTSTAMP:20260420T202005
CREATED:20260315T072002Z
LAST-MODIFIED:20260315T072518Z
UID:10027817-1777135200-1777138800@www.dancesoul.com.tw
SUMMARY:MV(IVE - ‘BANG BANG’)-薇臻
DESCRIPTION:
URL:https://www.dancesoul.com.tw/schedule/mvive-xoxz-%e5%87%9d%e7%90%a6-2-2/2026-04-25/
CATEGORIES:MV課,課程
END:VEVENT
BEGIN:VEVENT
DTSTART;TZID=Asia/Shanghai:20260502T164000
DTEND;TZID=Asia/Shanghai:20260502T174000
DTSTAMP:20260420T202005
CREATED:20260315T072002Z
LAST-MODIFIED:20260315T072518Z
UID:10027818-1777740000-1777743600@www.dancesoul.com.tw
SUMMARY:MV(IVE - ‘BANG BANG’)-薇臻
DESCRIPTION:
URL:https://www.dancesoul.com.tw/schedule/mvive-xoxz-%e5%87%9d%e7%90%a6-2-2/2026-05-02/
CATEGORIES:MV課,課程
END:VEVENT
BEGIN:VEVENT
DTSTART;TZID=Asia/Shanghai:20260509T164000
DTEND;TZID=Asia/Shanghai:20260509T174000
DTSTAMP:20260420T202005
CREATED:20260315T072002Z
LAST-MODIFIED:20260315T072518Z
UID:10027819-1778344800-1778348400@www.dancesoul.com.tw
SUMMARY:MV(IVE - ‘BANG BANG’)-薇臻
DESCRIPTION:
URL:https://www.dancesoul.com.tw/schedule/mvive-xoxz-%e5%87%9d%e7%90%a6-2-2/2026-05-09/
CATEGORIES:MV課,課程
END:VEVENT
BEGIN:VEVENT
DTSTART;TZID=Asia/Shanghai:20260516T164000
DTEND;TZID=Asia/Shanghai:20260516T174000
DTSTAMP:20260420T202005
CREATED:20260315T072002Z
LAST-MODIFIED:20260315T072518Z
UID:10027820-1778949600-1778953200@www.dancesoul.com.tw
SUMMARY:MV(IVE - ‘BANG BANG’)-薇臻
DESCRIPTION:
URL:https://www.dancesoul.com.tw/schedule/mvive-xoxz-%e5%87%9d%e7%90%a6-2-2/2026-05-16/
CATEGORIES:MV課,課程
END:VEVENT
BEGIN:VEVENT
DTSTART;TZID=Asia/Shanghai:20260523T164000
DTEND;TZID=Asia/Shanghai:20260523T174000
DTSTAMP:20260420T202005
CREATED:20260315T072002Z
LAST-MODIFIED:20260315T072518Z
UID:10027821-1779554400-1779558000@www.dancesoul.com.tw
SUMMARY:MV(IVE - ‘BANG BANG’)-薇臻
DESCRIPTION:
URL:https://www.dancesoul.com.tw/schedule/mvive-xoxz-%e5%87%9d%e7%90%a6-2-2/2026-05-23/
CATEGORIES:MV課,課程
END:VEVENT
BEGIN:VEVENT
DTSTART;TZID=Asia/Shanghai:20260530T164000
DTEND;TZID=Asia/Shanghai:20260530T174000
DTSTAMP:20260420T202005
CREATED:20260315T072002Z
LAST-MODIFIED:20260315T072518Z
UID:10027822-1780159200-1780162800@www.dancesoul.com.tw
SUMMARY:MV(IVE - ‘BANG BANG’)-薇臻
DESCRIPTION:
URL:https://www.dancesoul.com.tw/schedule/mvive-xoxz-%e5%87%9d%e7%90%a6-2-2/2026-05-30/
CATEGORIES:MV課,課程
END:VEVENT
BEGIN:VEVENT
DTSTART;TZID=Asia/Shanghai:20260606T164000
DTEND;TZID=Asia/Shanghai:20260606T174000
DTSTAMP:20260420T202005
CREATED:20260315T072002Z
LAST-MODIFIED:20260315T072518Z
UID:10027823-1780764000-1780767600@www.dancesoul.com.tw
SUMMARY:MV(IVE - ‘BANG BANG’)-薇臻
DESCRIPTION:
URL:https://www.dancesoul.com.tw/schedule/mvive-xoxz-%e5%87%9d%e7%90%a6-2-2/2026-06-06/
CATEGORIES:MV課,課程
END:VEVENT
BEGIN:VEVENT
DTSTART;TZID=Asia/Shanghai:20260613T164000
DTEND;TZID=Asia/Shanghai:20260613T174000
DTSTAMP:20260420T202005
CREATED:20260315T072002Z
LAST-MODIFIED:20260315T072518Z
UID:10027824-1781368800-1781372400@www.dancesoul.com.tw
SUMMARY:MV(IVE - ‘BANG BANG’)-薇臻
DESCRIPTION:
URL:https://www.dancesoul.com.tw/schedule/mvive-xoxz-%e5%87%9d%e7%90%a6-2-2/2026-06-13/
CATEGORIES:MV課,課程
END:VEVENT
BEGIN:VEVENT
DTSTART;TZID=Asia/Shanghai:20260620T164000
DTEND;TZID=Asia/Shanghai:20260620T174000
DTSTAMP:20260420T202006
CREATED:20260315T072002Z
LAST-MODIFIED:20260315T072518Z
UID:10027825-1781973600-1781977200@www.dancesoul.com.tw
SUMMARY:MV(IVE - ‘BANG BANG’)-薇臻
DESCRIPTION:
URL:https://www.dancesoul.com.tw/schedule/mvive-xoxz-%e5%87%9d%e7%90%a6-2-2/2026-06-20/
CATEGORIES:MV課,課程
END:VEVENT
BEGIN:VEVENT
DTSTART;TZID=Asia/Shanghai:20260627T164000
DTEND;TZID=Asia/Shanghai:20260627T174000
DTSTAMP:20260420T202006
CREATED:20260315T072002Z
LAST-MODIFIED:20260315T072518Z
UID:10027826-1782578400-1782582000@www.dancesoul.com.tw
SUMMARY:MV(IVE - ‘BANG BANG’)-薇臻
DESCRIPTION:
URL:https://www.dancesoul.com.tw/schedule/mvive-xoxz-%e5%87%9d%e7%90%a6-2-2/2026-06-27/
CATEGORIES:MV課,課程
END:VEVENT
BEGIN:VEVENT
DTSTART;TZID=Asia/Shanghai:20260704T164000
DTEND;TZID=Asia/Shanghai:20260704T174000
DTSTAMP:20260420T202006
CREATED:20260315T072002Z
LAST-MODIFIED:20260315T072518Z
UID:10027827-1783183200-1783186800@www.dancesoul.com.tw
SUMMARY:MV(IVE - ‘BANG BANG’)-薇臻
DESCRIPTION:
URL:https://www.dancesoul.com.tw/schedule/mvive-xoxz-%e5%87%9d%e7%90%a6-2-2/2026-07-04/
CATEGORIES:MV課,課程
END:VEVENT
BEGIN:VEVENT
DTSTART;TZID=Asia/Shanghai:20260711T164000
DTEND;TZID=Asia/Shanghai:20260711T174000
DTSTAMP:20260420T202006
CREATED:20260315T072002Z
LAST-MODIFIED:20260315T072518Z
UID:10027828-1783788000-1783791600@www.dancesoul.com.tw
SUMMARY:MV(IVE - ‘BANG BANG’)-薇臻
DESCRIPTION:
URL:https://www.dancesoul.com.tw/schedule/mvive-xoxz-%e5%87%9d%e7%90%a6-2-2/2026-07-11/
CATEGORIES:MV課,課程
END:VEVENT
BEGIN:VEVENT
DTSTART;TZID=Asia/Shanghai:20260718T164000
DTEND;TZID=Asia/Shanghai:20260718T174000
DTSTAMP:20260420T202006
CREATED:20260315T072002Z
LAST-MODIFIED:20260315T072518Z
UID:10027829-1784392800-1784396400@www.dancesoul.com.tw
SUMMARY:MV(IVE - ‘BANG BANG’)-薇臻
DESCRIPTION:
URL:https://www.dancesoul.com.tw/schedule/mvive-xoxz-%e5%87%9d%e7%90%a6-2-2/2026-07-18/
CATEGORIES:MV課,課程
END:VEVENT
BEGIN:VEVENT
DTSTART;TZID=Asia/Shanghai:20260725T164000
DTEND;TZID=Asia/Shanghai:20260725T174000
DTSTAMP:20260420T202006
CREATED:20260315T072002Z
LAST-MODIFIED:20260315T072518Z
UID:10027830-1784997600-1785001200@www.dancesoul.com.tw
SUMMARY:MV(IVE - ‘BANG BANG’)-薇臻
DESCRIPTION:
URL:https://www.dancesoul.com.tw/schedule/mvive-xoxz-%e5%87%9d%e7%90%a6-2-2/2026-07-25/
CATEGORIES:MV課,課程
END:VEVENT
BEGIN:VEVENT
DTSTART;TZID=Asia/Shanghai:20260801T164000
DTEND;TZID=Asia/Shanghai:20260801T174000
DTSTAMP:20260420T202006
CREATED:20260315T072002Z
LAST-MODIFIED:20260315T072518Z
UID:10027831-1785602400-1785606000@www.dancesoul.com.tw
SUMMARY:MV(IVE - ‘BANG BANG’)-薇臻
DESCRIPTION:
URL:https://www.dancesoul.com.tw/schedule/mvive-xoxz-%e5%87%9d%e7%90%a6-2-2/2026-08-01/
CATEGORIES:MV課,課程
END:VEVENT
BEGIN:VEVENT
DTSTART;TZID=Asia/Shanghai:20260808T164000
DTEND;TZID=Asia/Shanghai:20260808T174000
DTSTAMP:20260420T202006
CREATED:20260315T072002Z
LAST-MODIFIED:20260315T072518Z
UID:10027832-1786207200-1786210800@www.dancesoul.com.tw
SUMMARY:MV(IVE - ‘BANG BANG’)-薇臻
DESCRIPTION:
URL:https://www.dancesoul.com.tw/schedule/mvive-xoxz-%e5%87%9d%e7%90%a6-2-2/2026-08-08/
CATEGORIES:MV課,課程
END:VEVENT
BEGIN:VEVENT
DTSTART;TZID=Asia/Shanghai:20260815T164000
DTEND;TZID=Asia/Shanghai:20260815T174000
DTSTAMP:20260420T202006
CREATED:20260315T072002Z
LAST-MODIFIED:20260315T072518Z
UID:10027833-1786812000-1786815600@www.dancesoul.com.tw
SUMMARY:MV(IVE - ‘BANG BANG’)-薇臻
DESCRIPTION:
URL:https://www.dancesoul.com.tw/schedule/mvive-xoxz-%e5%87%9d%e7%90%a6-2-2/2026-08-15/
CATEGORIES:MV課,課程
END:VEVENT
BEGIN:VEVENT
DTSTART;TZID=Asia/Shanghai:20260822T164000
DTEND;TZID=Asia/Shanghai:20260822T174000
DTSTAMP:20260420T202006
CREATED:20260315T072002Z
LAST-MODIFIED:20260315T072518Z
UID:10027834-1787416800-1787420400@www.dancesoul.com.tw
SUMMARY:MV(IVE - ‘BANG BANG’)-薇臻
DESCRIPTION:
URL:https://www.dancesoul.com.tw/schedule/mvive-xoxz-%e5%87%9d%e7%90%a6-2-2/2026-08-22/
CATEGORIES:MV課,課程
END:VEVENT
BEGIN:VEVENT
DTSTART;TZID=Asia/Shanghai:20260829T164000
DTEND;TZID=Asia/Shanghai:20260829T174000
DTSTAMP:20260420T202006
CREATED:20260315T072002Z
LAST-MODIFIED:20260315T072518Z
UID:10027835-1788021600-1788025200@www.dancesoul.com.tw
SUMMARY:MV(IVE - ‘BANG BANG’)-薇臻
DESCRIPTION:
URL:https://www.dancesoul.com.tw/schedule/mvive-xoxz-%e5%87%9d%e7%90%a6-2-2/2026-08-29/
CATEGORIES:MV課,課程
END:VEVENT
BEGIN:VEVENT
DTSTART;TZID=Asia/Shanghai:20260905T164000
DTEND;TZID=Asia/Shanghai:20260905T174000
DTSTAMP:20260420T202006
CREATED:20260315T072002Z
LAST-MODIFIED:20260315T072518Z
UID:10027836-1788626400-1788630000@www.dancesoul.com.tw
SUMMARY:MV(IVE - ‘BANG BANG’)-薇臻
DESCRIPTION:
URL:https://www.dancesoul.com.tw/schedule/mvive-xoxz-%e5%87%9d%e7%90%a6-2-2/2026-09-05/
CATEGORIES:MV課,課程
END:VEVENT
BEGIN:VEVENT
DTSTART;TZID=Asia/Shanghai:20260912T164000
DTEND;TZID=Asia/Shanghai:20260912T174000
DTSTAMP:20260420T202006
CREATED:20260315T072002Z
LAST-MODIFIED:20260315T072518Z
UID:10027837-1789231200-1789234800@www.dancesoul.com.tw
SUMMARY:MV(IVE - ‘BANG BANG’)-薇臻
DESCRIPTION:
URL:https://www.dancesoul.com.tw/schedule/mvive-xoxz-%e5%87%9d%e7%90%a6-2-2/2026-09-12/
CATEGORIES:MV課,課程
END:VEVENT
BEGIN:VEVENT
DTSTART;TZID=Asia/Shanghai:20260919T164000
DTEND;TZID=Asia/Shanghai:20260919T174000
DTSTAMP:20260420T202006
CREATED:20260315T072002Z
LAST-MODIFIED:20260315T072518Z
UID:10027838-1789836000-1789839600@www.dancesoul.com.tw
SUMMARY:MV(IVE - ‘BANG BANG’)-薇臻
DESCRIPTION:
URL:https://www.dancesoul.com.tw/schedule/mvive-xoxz-%e5%87%9d%e7%90%a6-2-2/2026-09-19/
CATEGORIES:MV課,課程
END:VEVENT
BEGIN:VEVENT
DTSTART;TZID=Asia/Shanghai:20260926T164000
DTEND;TZID=Asia/Shanghai:20260926T174000
DTSTAMP:20260420T202006
CREATED:20260315T072002Z
LAST-MODIFIED:20260315T072518Z
UID:10027839-1790440800-1790444400@www.dancesoul.com.tw
SUMMARY:MV(IVE - ‘BANG BANG’)-薇臻
DESCRIPTION:
URL:https://www.dancesoul.com.tw/schedule/mvive-xoxz-%e5%87%9d%e7%90%a6-2-2/2026-09-26/
CATEGORIES:MV課,課程
END:VEVENT
BEGIN:VEVENT
DTSTART;TZID=Asia/Shanghai:20261003T164000
DTEND;TZID=Asia/Shanghai:20261003T174000
DTSTAMP:20260420T202006
CREATED:20260315T072002Z
LAST-MODIFIED:20260315T072518Z
UID:10027840-1791045600-1791049200@www.dancesoul.com.tw
SUMMARY:MV(IVE - ‘BANG BANG’)-薇臻
DESCRIPTION:
URL:https://www.dancesoul.com.tw/schedule/mvive-xoxz-%e5%87%9d%e7%90%a6-2-2/2026-10-03/
CATEGORIES:MV課,課程
END:VEVENT
BEGIN:VEVENT
DTSTART;TZID=Asia/Shanghai:20261010T164000
DTEND;TZID=Asia/Shanghai:20261010T174000
DTSTAMP:20260420T202006
CREATED:20260315T072002Z
LAST-MODIFIED:20260315T072518Z
UID:10027841-1791650400-1791654000@www.dancesoul.com.tw
SUMMARY:MV(IVE - ‘BANG BANG’)-薇臻
DESCRIPTION:
URL:https://www.dancesoul.com.tw/schedule/mvive-xoxz-%e5%87%9d%e7%90%a6-2-2/2026-10-10/
CATEGORIES:MV課,課程
END:VEVENT
BEGIN:VEVENT
DTSTART;TZID=Asia/Shanghai:20261017T164000
DTEND;TZID=Asia/Shanghai:20261017T174000
DTSTAMP:20260420T202006
CREATED:20260315T072002Z
LAST-MODIFIED:20260315T072518Z
UID:10027842-1792255200-1792258800@www.dancesoul.com.tw
SUMMARY:MV(IVE - ‘BANG BANG’)-薇臻
DESCRIPTION:
URL:https://www.dancesoul.com.tw/schedule/mvive-xoxz-%e5%87%9d%e7%90%a6-2-2/2026-10-17/
CATEGORIES:MV課,課程
END:VEVENT
BEGIN:VEVENT
DTSTART;TZID=Asia/Shanghai:20261024T164000
DTEND;TZID=Asia/Shanghai:20261024T174000
DTSTAMP:20260420T202006
CREATED:20260315T072002Z
LAST-MODIFIED:20260315T072518Z
UID:10027843-1792860000-1792863600@www.dancesoul.com.tw
SUMMARY:MV(IVE - ‘BANG BANG’)-薇臻
DESCRIPTION:
URL:https://www.dancesoul.com.tw/schedule/mvive-xoxz-%e5%87%9d%e7%90%a6-2-2/2026-10-24/
CATEGORIES:MV課,課程
END:VEVENT
BEGIN:VEVENT
DTSTART;TZID=Asia/Shanghai:20261031T164000
DTEND;TZID=Asia/Shanghai:20261031T174000
DTSTAMP:20260420T202006
CREATED:20260315T072002Z
LAST-MODIFIED:20260315T072518Z
UID:10027844-1793464800-1793468400@www.dancesoul.com.tw
SUMMARY:MV(IVE - ‘BANG BANG’)-薇臻
DESCRIPTION:
URL:https://www.dancesoul.com.tw/schedule/mvive-xoxz-%e5%87%9d%e7%90%a6-2-2/2026-10-31/
CATEGORIES:MV課,課程
END:VEVENT
BEGIN:VEVENT
DTSTART;TZID=Asia/Shanghai:20261107T164000
DTEND;TZID=Asia/Shanghai:20261107T174000
DTSTAMP:20260420T202006
CREATED:20260315T072002Z
LAST-MODIFIED:20260315T072518Z
UID:10027845-1794069600-1794073200@www.dancesoul.com.tw
SUMMARY:MV(IVE - ‘BANG BANG’)-薇臻
DESCRIPTION:
URL:https://www.dancesoul.com.tw/schedule/mvive-xoxz-%e5%87%9d%e7%90%a6-2-2/2026-11-07/
CATEGORIES:MV課,課程
END:VEVENT
BEGIN:VEVENT
DTSTART;TZID=Asia/Shanghai:20261114T164000
DTEND;TZID=Asia/Shanghai:20261114T174000
DTSTAMP:20260420T202006
CREATED:20260315T072002Z
LAST-MODIFIED:20260315T072518Z
UID:10027846-1794674400-1794678000@www.dancesoul.com.tw
SUMMARY:MV(IVE - ‘BANG BANG’)-薇臻
DESCRIPTION:
URL:https://www.dancesoul.com.tw/schedule/mvive-xoxz-%e5%87%9d%e7%90%a6-2-2/2026-11-14/
CATEGORIES:MV課,課程
END:VEVENT
END:VCALENDAR