BEGIN:VCALENDAR
VERSION:2.0
PRODID:-//DANCE SOUL 舞魂街舞學校 - ECPv6.15.18//NONSGML v1.0//EN
CALSCALE:GREGORIAN
METHOD:PUBLISH
X-WR-CALNAME:DANCE SOUL 舞魂街舞學校
X-ORIGINAL-URL:https://www.dancesoul.com.tw
X-WR-CALDESC:Events for DANCE SOUL 舞魂街舞學校
REFRESH-INTERVAL;VALUE=DURATION:PT1H
X-Robots-Tag:noindex
X-PUBLISHED-TTL:PT1H
BEGIN:VTIMEZONE
TZID:Asia/Shanghai
BEGIN:STANDARD
TZOFFSETFROM:+0800
TZOFFSETTO:+0800
TZNAME:CST
DTSTART:20250101T000000
END:STANDARD
END:VTIMEZONE
BEGIN:VEVENT
DTSTART;TZID=Asia/Shanghai:20260426T154000
DTEND;TZID=Asia/Shanghai:20260426T164000
DTSTAMP:20260421T185406
CREATED:20250901T060229Z
LAST-MODIFIED:20250901T060229Z
UID:10029383-1777218000-1777221600@www.dancesoul.com.tw
SUMMARY:兒童Street Jazz-傘傘
DESCRIPTION:
URL:https://www.dancesoul.com.tw/schedule/%e5%85%92%e7%ab%a5street-jazz-%e5%82%98%e5%82%98-4/2026-04-26/
CATEGORIES:兒童街舞,兒童課
END:VEVENT
BEGIN:VEVENT
DTSTART;TZID=Asia/Shanghai:20260503T154000
DTEND;TZID=Asia/Shanghai:20260503T164000
DTSTAMP:20260421T185406
CREATED:20250901T060229Z
LAST-MODIFIED:20250901T060229Z
UID:10029384-1777822800-1777826400@www.dancesoul.com.tw
SUMMARY:兒童Street Jazz-傘傘
DESCRIPTION:
URL:https://www.dancesoul.com.tw/schedule/%e5%85%92%e7%ab%a5street-jazz-%e5%82%98%e5%82%98-4/2026-05-03/
CATEGORIES:兒童街舞,兒童課
END:VEVENT
BEGIN:VEVENT
DTSTART;TZID=Asia/Shanghai:20260510T154000
DTEND;TZID=Asia/Shanghai:20260510T164000
DTSTAMP:20260421T185406
CREATED:20250901T060229Z
LAST-MODIFIED:20250901T060229Z
UID:10029385-1778427600-1778431200@www.dancesoul.com.tw
SUMMARY:兒童Street Jazz-傘傘
DESCRIPTION:
URL:https://www.dancesoul.com.tw/schedule/%e5%85%92%e7%ab%a5street-jazz-%e5%82%98%e5%82%98-4/2026-05-10/
CATEGORIES:兒童街舞,兒童課
END:VEVENT
BEGIN:VEVENT
DTSTART;TZID=Asia/Shanghai:20260517T154000
DTEND;TZID=Asia/Shanghai:20260517T164000
DTSTAMP:20260421T185406
CREATED:20250901T060229Z
LAST-MODIFIED:20250901T060229Z
UID:10029386-1779032400-1779036000@www.dancesoul.com.tw
SUMMARY:兒童Street Jazz-傘傘
DESCRIPTION:
URL:https://www.dancesoul.com.tw/schedule/%e5%85%92%e7%ab%a5street-jazz-%e5%82%98%e5%82%98-4/2026-05-17/
CATEGORIES:兒童街舞,兒童課
END:VEVENT
BEGIN:VEVENT
DTSTART;TZID=Asia/Shanghai:20260524T154000
DTEND;TZID=Asia/Shanghai:20260524T164000
DTSTAMP:20260421T185406
CREATED:20250901T060229Z
LAST-MODIFIED:20250901T060229Z
UID:10029387-1779637200-1779640800@www.dancesoul.com.tw
SUMMARY:兒童Street Jazz-傘傘
DESCRIPTION:
URL:https://www.dancesoul.com.tw/schedule/%e5%85%92%e7%ab%a5street-jazz-%e5%82%98%e5%82%98-4/2026-05-24/
CATEGORIES:兒童街舞,兒童課
END:VEVENT
BEGIN:VEVENT
DTSTART;TZID=Asia/Shanghai:20260531T154000
DTEND;TZID=Asia/Shanghai:20260531T164000
DTSTAMP:20260421T185406
CREATED:20250901T060229Z
LAST-MODIFIED:20250901T060229Z
UID:10029388-1780242000-1780245600@www.dancesoul.com.tw
SUMMARY:兒童Street Jazz-傘傘
DESCRIPTION:
URL:https://www.dancesoul.com.tw/schedule/%e5%85%92%e7%ab%a5street-jazz-%e5%82%98%e5%82%98-4/2026-05-31/
CATEGORIES:兒童街舞,兒童課
END:VEVENT
BEGIN:VEVENT
DTSTART;TZID=Asia/Shanghai:20260607T154000
DTEND;TZID=Asia/Shanghai:20260607T164000
DTSTAMP:20260421T185406
CREATED:20250901T060229Z
LAST-MODIFIED:20250901T060229Z
UID:10029389-1780846800-1780850400@www.dancesoul.com.tw
SUMMARY:兒童Street Jazz-傘傘
DESCRIPTION:
URL:https://www.dancesoul.com.tw/schedule/%e5%85%92%e7%ab%a5street-jazz-%e5%82%98%e5%82%98-4/2026-06-07/
CATEGORIES:兒童街舞,兒童課
END:VEVENT
BEGIN:VEVENT
DTSTART;TZID=Asia/Shanghai:20260614T154000
DTEND;TZID=Asia/Shanghai:20260614T164000
DTSTAMP:20260421T185406
CREATED:20250901T060229Z
LAST-MODIFIED:20250901T060229Z
UID:10029390-1781451600-1781455200@www.dancesoul.com.tw
SUMMARY:兒童Street Jazz-傘傘
DESCRIPTION:
URL:https://www.dancesoul.com.tw/schedule/%e5%85%92%e7%ab%a5street-jazz-%e5%82%98%e5%82%98-4/2026-06-14/
CATEGORIES:兒童街舞,兒童課
END:VEVENT
BEGIN:VEVENT
DTSTART;TZID=Asia/Shanghai:20260621T154000
DTEND;TZID=Asia/Shanghai:20260621T164000
DTSTAMP:20260421T185406
CREATED:20250901T060229Z
LAST-MODIFIED:20250901T060229Z
UID:10029391-1782056400-1782060000@www.dancesoul.com.tw
SUMMARY:兒童Street Jazz-傘傘
DESCRIPTION:
URL:https://www.dancesoul.com.tw/schedule/%e5%85%92%e7%ab%a5street-jazz-%e5%82%98%e5%82%98-4/2026-06-21/
CATEGORIES:兒童街舞,兒童課
END:VEVENT
BEGIN:VEVENT
DTSTART;TZID=Asia/Shanghai:20260628T154000
DTEND;TZID=Asia/Shanghai:20260628T164000
DTSTAMP:20260421T185406
CREATED:20250901T060229Z
LAST-MODIFIED:20250901T060229Z
UID:10029392-1782661200-1782664800@www.dancesoul.com.tw
SUMMARY:兒童Street Jazz-傘傘
DESCRIPTION:
URL:https://www.dancesoul.com.tw/schedule/%e5%85%92%e7%ab%a5street-jazz-%e5%82%98%e5%82%98-4/2026-06-28/
CATEGORIES:兒童街舞,兒童課
END:VEVENT
BEGIN:VEVENT
DTSTART;TZID=Asia/Shanghai:20260705T154000
DTEND;TZID=Asia/Shanghai:20260705T164000
DTSTAMP:20260421T185406
CREATED:20250901T060229Z
LAST-MODIFIED:20250901T060229Z
UID:10029393-1783266000-1783269600@www.dancesoul.com.tw
SUMMARY:兒童Street Jazz-傘傘
DESCRIPTION:
URL:https://www.dancesoul.com.tw/schedule/%e5%85%92%e7%ab%a5street-jazz-%e5%82%98%e5%82%98-4/2026-07-05/
CATEGORIES:兒童街舞,兒童課
END:VEVENT
BEGIN:VEVENT
DTSTART;TZID=Asia/Shanghai:20260712T154000
DTEND;TZID=Asia/Shanghai:20260712T164000
DTSTAMP:20260421T185406
CREATED:20250901T060229Z
LAST-MODIFIED:20250901T060229Z
UID:10029394-1783870800-1783874400@www.dancesoul.com.tw
SUMMARY:兒童Street Jazz-傘傘
DESCRIPTION:
URL:https://www.dancesoul.com.tw/schedule/%e5%85%92%e7%ab%a5street-jazz-%e5%82%98%e5%82%98-4/2026-07-12/
CATEGORIES:兒童街舞,兒童課
END:VEVENT
BEGIN:VEVENT
DTSTART;TZID=Asia/Shanghai:20260719T154000
DTEND;TZID=Asia/Shanghai:20260719T164000
DTSTAMP:20260421T185406
CREATED:20250901T060229Z
LAST-MODIFIED:20250901T060229Z
UID:10029395-1784475600-1784479200@www.dancesoul.com.tw
SUMMARY:兒童Street Jazz-傘傘
DESCRIPTION:
URL:https://www.dancesoul.com.tw/schedule/%e5%85%92%e7%ab%a5street-jazz-%e5%82%98%e5%82%98-4/2026-07-19/
CATEGORIES:兒童街舞,兒童課
END:VEVENT
BEGIN:VEVENT
DTSTART;TZID=Asia/Shanghai:20260726T154000
DTEND;TZID=Asia/Shanghai:20260726T164000
DTSTAMP:20260421T185406
CREATED:20250901T060229Z
LAST-MODIFIED:20250901T060229Z
UID:10029396-1785080400-1785084000@www.dancesoul.com.tw
SUMMARY:兒童Street Jazz-傘傘
DESCRIPTION:
URL:https://www.dancesoul.com.tw/schedule/%e5%85%92%e7%ab%a5street-jazz-%e5%82%98%e5%82%98-4/2026-07-26/
CATEGORIES:兒童街舞,兒童課
END:VEVENT
BEGIN:VEVENT
DTSTART;TZID=Asia/Shanghai:20260802T154000
DTEND;TZID=Asia/Shanghai:20260802T164000
DTSTAMP:20260421T185406
CREATED:20250901T060229Z
LAST-MODIFIED:20250901T060229Z
UID:10029397-1785685200-1785688800@www.dancesoul.com.tw
SUMMARY:兒童Street Jazz-傘傘
DESCRIPTION:
URL:https://www.dancesoul.com.tw/schedule/%e5%85%92%e7%ab%a5street-jazz-%e5%82%98%e5%82%98-4/2026-08-02/
CATEGORIES:兒童街舞,兒童課
END:VEVENT
BEGIN:VEVENT
DTSTART;TZID=Asia/Shanghai:20260809T154000
DTEND;TZID=Asia/Shanghai:20260809T164000
DTSTAMP:20260421T185406
CREATED:20250901T060229Z
LAST-MODIFIED:20250901T060229Z
UID:10029398-1786290000-1786293600@www.dancesoul.com.tw
SUMMARY:兒童Street Jazz-傘傘
DESCRIPTION:
URL:https://www.dancesoul.com.tw/schedule/%e5%85%92%e7%ab%a5street-jazz-%e5%82%98%e5%82%98-4/2026-08-09/
CATEGORIES:兒童街舞,兒童課
END:VEVENT
BEGIN:VEVENT
DTSTART;TZID=Asia/Shanghai:20260816T154000
DTEND;TZID=Asia/Shanghai:20260816T164000
DTSTAMP:20260421T185406
CREATED:20250901T060229Z
LAST-MODIFIED:20250901T060229Z
UID:10029399-1786894800-1786898400@www.dancesoul.com.tw
SUMMARY:兒童Street Jazz-傘傘
DESCRIPTION:
URL:https://www.dancesoul.com.tw/schedule/%e5%85%92%e7%ab%a5street-jazz-%e5%82%98%e5%82%98-4/2026-08-16/
CATEGORIES:兒童街舞,兒童課
END:VEVENT
BEGIN:VEVENT
DTSTART;TZID=Asia/Shanghai:20260823T154000
DTEND;TZID=Asia/Shanghai:20260823T164000
DTSTAMP:20260421T185406
CREATED:20250901T060229Z
LAST-MODIFIED:20250901T060229Z
UID:10029400-1787499600-1787503200@www.dancesoul.com.tw
SUMMARY:兒童Street Jazz-傘傘
DESCRIPTION:
URL:https://www.dancesoul.com.tw/schedule/%e5%85%92%e7%ab%a5street-jazz-%e5%82%98%e5%82%98-4/2026-08-23/
CATEGORIES:兒童街舞,兒童課
END:VEVENT
BEGIN:VEVENT
DTSTART;TZID=Asia/Shanghai:20260830T154000
DTEND;TZID=Asia/Shanghai:20260830T164000
DTSTAMP:20260421T185406
CREATED:20250901T060229Z
LAST-MODIFIED:20250901T060229Z
UID:10029401-1788104400-1788108000@www.dancesoul.com.tw
SUMMARY:兒童Street Jazz-傘傘
DESCRIPTION:
URL:https://www.dancesoul.com.tw/schedule/%e5%85%92%e7%ab%a5street-jazz-%e5%82%98%e5%82%98-4/2026-08-30/
CATEGORIES:兒童街舞,兒童課
END:VEVENT
BEGIN:VEVENT
DTSTART;TZID=Asia/Shanghai:20260906T154000
DTEND;TZID=Asia/Shanghai:20260906T164000
DTSTAMP:20260421T185406
CREATED:20250901T060229Z
LAST-MODIFIED:20250901T060229Z
UID:10029402-1788709200-1788712800@www.dancesoul.com.tw
SUMMARY:兒童Street Jazz-傘傘
DESCRIPTION:
URL:https://www.dancesoul.com.tw/schedule/%e5%85%92%e7%ab%a5street-jazz-%e5%82%98%e5%82%98-4/2026-09-06/
CATEGORIES:兒童街舞,兒童課
END:VEVENT
BEGIN:VEVENT
DTSTART;TZID=Asia/Shanghai:20260913T154000
DTEND;TZID=Asia/Shanghai:20260913T164000
DTSTAMP:20260421T185406
CREATED:20250901T060229Z
LAST-MODIFIED:20250901T060229Z
UID:10029403-1789314000-1789317600@www.dancesoul.com.tw
SUMMARY:兒童Street Jazz-傘傘
DESCRIPTION:
URL:https://www.dancesoul.com.tw/schedule/%e5%85%92%e7%ab%a5street-jazz-%e5%82%98%e5%82%98-4/2026-09-13/
CATEGORIES:兒童街舞,兒童課
END:VEVENT
BEGIN:VEVENT
DTSTART;TZID=Asia/Shanghai:20260920T154000
DTEND;TZID=Asia/Shanghai:20260920T164000
DTSTAMP:20260421T185406
CREATED:20250901T060229Z
LAST-MODIFIED:20250901T060229Z
UID:10029404-1789918800-1789922400@www.dancesoul.com.tw
SUMMARY:兒童Street Jazz-傘傘
DESCRIPTION:
URL:https://www.dancesoul.com.tw/schedule/%e5%85%92%e7%ab%a5street-jazz-%e5%82%98%e5%82%98-4/2026-09-20/
CATEGORIES:兒童街舞,兒童課
END:VEVENT
BEGIN:VEVENT
DTSTART;TZID=Asia/Shanghai:20260927T154000
DTEND;TZID=Asia/Shanghai:20260927T164000
DTSTAMP:20260421T185406
CREATED:20250901T060229Z
LAST-MODIFIED:20250901T060229Z
UID:10029405-1790523600-1790527200@www.dancesoul.com.tw
SUMMARY:兒童Street Jazz-傘傘
DESCRIPTION:
URL:https://www.dancesoul.com.tw/schedule/%e5%85%92%e7%ab%a5street-jazz-%e5%82%98%e5%82%98-4/2026-09-27/
CATEGORIES:兒童街舞,兒童課
END:VEVENT
BEGIN:VEVENT
DTSTART;TZID=Asia/Shanghai:20261004T154000
DTEND;TZID=Asia/Shanghai:20261004T164000
DTSTAMP:20260421T185406
CREATED:20250901T060229Z
LAST-MODIFIED:20250901T060229Z
UID:10029406-1791128400-1791132000@www.dancesoul.com.tw
SUMMARY:兒童Street Jazz-傘傘
DESCRIPTION:
URL:https://www.dancesoul.com.tw/schedule/%e5%85%92%e7%ab%a5street-jazz-%e5%82%98%e5%82%98-4/2026-10-04/
CATEGORIES:兒童街舞,兒童課
END:VEVENT
BEGIN:VEVENT
DTSTART;TZID=Asia/Shanghai:20261011T154000
DTEND;TZID=Asia/Shanghai:20261011T164000
DTSTAMP:20260421T185406
CREATED:20250901T060229Z
LAST-MODIFIED:20250901T060229Z
UID:10029407-1791733200-1791736800@www.dancesoul.com.tw
SUMMARY:兒童Street Jazz-傘傘
DESCRIPTION:
URL:https://www.dancesoul.com.tw/schedule/%e5%85%92%e7%ab%a5street-jazz-%e5%82%98%e5%82%98-4/2026-10-11/
CATEGORIES:兒童街舞,兒童課
END:VEVENT
BEGIN:VEVENT
DTSTART;TZID=Asia/Shanghai:20261018T154000
DTEND;TZID=Asia/Shanghai:20261018T164000
DTSTAMP:20260421T185406
CREATED:20250901T060229Z
LAST-MODIFIED:20250901T060229Z
UID:10029408-1792338000-1792341600@www.dancesoul.com.tw
SUMMARY:兒童Street Jazz-傘傘
DESCRIPTION:
URL:https://www.dancesoul.com.tw/schedule/%e5%85%92%e7%ab%a5street-jazz-%e5%82%98%e5%82%98-4/2026-10-18/
CATEGORIES:兒童街舞,兒童課
END:VEVENT
BEGIN:VEVENT
DTSTART;TZID=Asia/Shanghai:20261025T154000
DTEND;TZID=Asia/Shanghai:20261025T164000
DTSTAMP:20260421T185406
CREATED:20250901T060229Z
LAST-MODIFIED:20250901T060229Z
UID:10029409-1792942800-1792946400@www.dancesoul.com.tw
SUMMARY:兒童Street Jazz-傘傘
DESCRIPTION:
URL:https://www.dancesoul.com.tw/schedule/%e5%85%92%e7%ab%a5street-jazz-%e5%82%98%e5%82%98-4/2026-10-25/
CATEGORIES:兒童街舞,兒童課
END:VEVENT
BEGIN:VEVENT
DTSTART;TZID=Asia/Shanghai:20261101T154000
DTEND;TZID=Asia/Shanghai:20261101T164000
DTSTAMP:20260421T185406
CREATED:20250901T060229Z
LAST-MODIFIED:20250901T060229Z
UID:10029410-1793547600-1793551200@www.dancesoul.com.tw
SUMMARY:兒童Street Jazz-傘傘
DESCRIPTION:
URL:https://www.dancesoul.com.tw/schedule/%e5%85%92%e7%ab%a5street-jazz-%e5%82%98%e5%82%98-4/2026-11-01/
CATEGORIES:兒童街舞,兒童課
END:VEVENT
BEGIN:VEVENT
DTSTART;TZID=Asia/Shanghai:20261108T154000
DTEND;TZID=Asia/Shanghai:20261108T164000
DTSTAMP:20260421T185406
CREATED:20250901T060229Z
LAST-MODIFIED:20250901T060229Z
UID:10029411-1794152400-1794156000@www.dancesoul.com.tw
SUMMARY:兒童Street Jazz-傘傘
DESCRIPTION:
URL:https://www.dancesoul.com.tw/schedule/%e5%85%92%e7%ab%a5street-jazz-%e5%82%98%e5%82%98-4/2026-11-08/
CATEGORIES:兒童街舞,兒童課
END:VEVENT
BEGIN:VEVENT
DTSTART;TZID=Asia/Shanghai:20261115T154000
DTEND;TZID=Asia/Shanghai:20261115T164000
DTSTAMP:20260421T185406
CREATED:20250901T060229Z
LAST-MODIFIED:20250901T060229Z
UID:10029412-1794757200-1794760800@www.dancesoul.com.tw
SUMMARY:兒童Street Jazz-傘傘
DESCRIPTION:
URL:https://www.dancesoul.com.tw/schedule/%e5%85%92%e7%ab%a5street-jazz-%e5%82%98%e5%82%98-4/2026-11-15/
CATEGORIES:兒童街舞,兒童課
END:VEVENT
END:VCALENDAR