BEGIN:VCALENDAR
VERSION:2.0
PRODID:-//DANCE SOUL 舞魂街舞學校 - ECPv6.15.18//NONSGML v1.0//EN
CALSCALE:GREGORIAN
METHOD:PUBLISH
X-WR-CALNAME:DANCE SOUL 舞魂街舞學校
X-ORIGINAL-URL:https://www.dancesoul.com.tw
X-WR-CALDESC:Events for DANCE SOUL 舞魂街舞學校
REFRESH-INTERVAL;VALUE=DURATION:PT1H
X-Robots-Tag:noindex
X-PUBLISHED-TTL:PT1H
BEGIN:VTIMEZONE
TZID:Asia/Shanghai
BEGIN:STANDARD
TZOFFSETFROM:+0800
TZOFFSETTO:+0800
TZNAME:CST
DTSTART:20250101T000000
END:STANDARD
END:VTIMEZONE
BEGIN:VEVENT
DTSTART;TZID=Asia/Shanghai:20260426T165000
DTEND;TZID=Asia/Shanghai:20260426T175000
DTSTAMP:20260421T222548
CREATED:20251201T095640Z
LAST-MODIFIED:20260315T071631Z
UID:10029644-1777222200-1777225800@www.dancesoul.com.tw
SUMMARY:MV(Apink - 'Love Me More')-Jenny
DESCRIPTION:
URL:https://www.dancesoul.com.tw/schedule/mvsomi-closer-%e7%91%9c%e5%ba%ad-2/2026-04-26/
CATEGORIES:MV課,課程
END:VEVENT
BEGIN:VEVENT
DTSTART;TZID=Asia/Shanghai:20260503T165000
DTEND;TZID=Asia/Shanghai:20260503T175000
DTSTAMP:20260421T222548
CREATED:20251201T095640Z
LAST-MODIFIED:20260315T071631Z
UID:10029645-1777827000-1777830600@www.dancesoul.com.tw
SUMMARY:MV(Apink - 'Love Me More')-Jenny
DESCRIPTION:
URL:https://www.dancesoul.com.tw/schedule/mvsomi-closer-%e7%91%9c%e5%ba%ad-2/2026-05-03/
CATEGORIES:MV課,課程
END:VEVENT
BEGIN:VEVENT
DTSTART;TZID=Asia/Shanghai:20260510T165000
DTEND;TZID=Asia/Shanghai:20260510T175000
DTSTAMP:20260421T222548
CREATED:20251201T095640Z
LAST-MODIFIED:20260315T071631Z
UID:10029646-1778431800-1778435400@www.dancesoul.com.tw
SUMMARY:MV(Apink - 'Love Me More')-Jenny
DESCRIPTION:
URL:https://www.dancesoul.com.tw/schedule/mvsomi-closer-%e7%91%9c%e5%ba%ad-2/2026-05-10/
CATEGORIES:MV課,課程
END:VEVENT
BEGIN:VEVENT
DTSTART;TZID=Asia/Shanghai:20260517T165000
DTEND;TZID=Asia/Shanghai:20260517T175000
DTSTAMP:20260421T222548
CREATED:20251201T095640Z
LAST-MODIFIED:20260315T071631Z
UID:10029647-1779036600-1779040200@www.dancesoul.com.tw
SUMMARY:MV(Apink - 'Love Me More')-Jenny
DESCRIPTION:
URL:https://www.dancesoul.com.tw/schedule/mvsomi-closer-%e7%91%9c%e5%ba%ad-2/2026-05-17/
CATEGORIES:MV課,課程
END:VEVENT
BEGIN:VEVENT
DTSTART;TZID=Asia/Shanghai:20260524T165000
DTEND;TZID=Asia/Shanghai:20260524T175000
DTSTAMP:20260421T222548
CREATED:20251201T095640Z
LAST-MODIFIED:20260315T071631Z
UID:10029648-1779641400-1779645000@www.dancesoul.com.tw
SUMMARY:MV(Apink - 'Love Me More')-Jenny
DESCRIPTION:
URL:https://www.dancesoul.com.tw/schedule/mvsomi-closer-%e7%91%9c%e5%ba%ad-2/2026-05-24/
CATEGORIES:MV課,課程
END:VEVENT
BEGIN:VEVENT
DTSTART;TZID=Asia/Shanghai:20260531T165000
DTEND;TZID=Asia/Shanghai:20260531T175000
DTSTAMP:20260421T222548
CREATED:20251201T095640Z
LAST-MODIFIED:20260315T071631Z
UID:10029649-1780246200-1780249800@www.dancesoul.com.tw
SUMMARY:MV(Apink - 'Love Me More')-Jenny
DESCRIPTION:
URL:https://www.dancesoul.com.tw/schedule/mvsomi-closer-%e7%91%9c%e5%ba%ad-2/2026-05-31/
CATEGORIES:MV課,課程
END:VEVENT
BEGIN:VEVENT
DTSTART;TZID=Asia/Shanghai:20260607T165000
DTEND;TZID=Asia/Shanghai:20260607T175000
DTSTAMP:20260421T222548
CREATED:20251201T095640Z
LAST-MODIFIED:20260315T071631Z
UID:10029650-1780851000-1780854600@www.dancesoul.com.tw
SUMMARY:MV(Apink - 'Love Me More')-Jenny
DESCRIPTION:
URL:https://www.dancesoul.com.tw/schedule/mvsomi-closer-%e7%91%9c%e5%ba%ad-2/2026-06-07/
CATEGORIES:MV課,課程
END:VEVENT
BEGIN:VEVENT
DTSTART;TZID=Asia/Shanghai:20260614T165000
DTEND;TZID=Asia/Shanghai:20260614T175000
DTSTAMP:20260421T222548
CREATED:20251201T095640Z
LAST-MODIFIED:20260315T071631Z
UID:10029651-1781455800-1781459400@www.dancesoul.com.tw
SUMMARY:MV(Apink - 'Love Me More')-Jenny
DESCRIPTION:
URL:https://www.dancesoul.com.tw/schedule/mvsomi-closer-%e7%91%9c%e5%ba%ad-2/2026-06-14/
CATEGORIES:MV課,課程
END:VEVENT
BEGIN:VEVENT
DTSTART;TZID=Asia/Shanghai:20260621T165000
DTEND;TZID=Asia/Shanghai:20260621T175000
DTSTAMP:20260421T222548
CREATED:20251201T095640Z
LAST-MODIFIED:20260315T071631Z
UID:10029652-1782060600-1782064200@www.dancesoul.com.tw
SUMMARY:MV(Apink - 'Love Me More')-Jenny
DESCRIPTION:
URL:https://www.dancesoul.com.tw/schedule/mvsomi-closer-%e7%91%9c%e5%ba%ad-2/2026-06-21/
CATEGORIES:MV課,課程
END:VEVENT
BEGIN:VEVENT
DTSTART;TZID=Asia/Shanghai:20260628T165000
DTEND;TZID=Asia/Shanghai:20260628T175000
DTSTAMP:20260421T222548
CREATED:20251201T095640Z
LAST-MODIFIED:20260315T071631Z
UID:10029653-1782665400-1782669000@www.dancesoul.com.tw
SUMMARY:MV(Apink - 'Love Me More')-Jenny
DESCRIPTION:
URL:https://www.dancesoul.com.tw/schedule/mvsomi-closer-%e7%91%9c%e5%ba%ad-2/2026-06-28/
CATEGORIES:MV課,課程
END:VEVENT
BEGIN:VEVENT
DTSTART;TZID=Asia/Shanghai:20260705T165000
DTEND;TZID=Asia/Shanghai:20260705T175000
DTSTAMP:20260421T222548
CREATED:20251201T095640Z
LAST-MODIFIED:20260315T071631Z
UID:10029654-1783270200-1783273800@www.dancesoul.com.tw
SUMMARY:MV(Apink - 'Love Me More')-Jenny
DESCRIPTION:
URL:https://www.dancesoul.com.tw/schedule/mvsomi-closer-%e7%91%9c%e5%ba%ad-2/2026-07-05/
CATEGORIES:MV課,課程
END:VEVENT
BEGIN:VEVENT
DTSTART;TZID=Asia/Shanghai:20260712T165000
DTEND;TZID=Asia/Shanghai:20260712T175000
DTSTAMP:20260421T222548
CREATED:20251201T095640Z
LAST-MODIFIED:20260315T071631Z
UID:10029655-1783875000-1783878600@www.dancesoul.com.tw
SUMMARY:MV(Apink - 'Love Me More')-Jenny
DESCRIPTION:
URL:https://www.dancesoul.com.tw/schedule/mvsomi-closer-%e7%91%9c%e5%ba%ad-2/2026-07-12/
CATEGORIES:MV課,課程
END:VEVENT
BEGIN:VEVENT
DTSTART;TZID=Asia/Shanghai:20260719T165000
DTEND;TZID=Asia/Shanghai:20260719T175000
DTSTAMP:20260421T222548
CREATED:20251201T095640Z
LAST-MODIFIED:20260315T071631Z
UID:10029656-1784479800-1784483400@www.dancesoul.com.tw
SUMMARY:MV(Apink - 'Love Me More')-Jenny
DESCRIPTION:
URL:https://www.dancesoul.com.tw/schedule/mvsomi-closer-%e7%91%9c%e5%ba%ad-2/2026-07-19/
CATEGORIES:MV課,課程
END:VEVENT
BEGIN:VEVENT
DTSTART;TZID=Asia/Shanghai:20260726T165000
DTEND;TZID=Asia/Shanghai:20260726T175000
DTSTAMP:20260421T222548
CREATED:20251201T095640Z
LAST-MODIFIED:20260315T071631Z
UID:10029657-1785084600-1785088200@www.dancesoul.com.tw
SUMMARY:MV(Apink - 'Love Me More')-Jenny
DESCRIPTION:
URL:https://www.dancesoul.com.tw/schedule/mvsomi-closer-%e7%91%9c%e5%ba%ad-2/2026-07-26/
CATEGORIES:MV課,課程
END:VEVENT
BEGIN:VEVENT
DTSTART;TZID=Asia/Shanghai:20260802T165000
DTEND;TZID=Asia/Shanghai:20260802T175000
DTSTAMP:20260421T222548
CREATED:20251201T095640Z
LAST-MODIFIED:20260315T071631Z
UID:10029658-1785689400-1785693000@www.dancesoul.com.tw
SUMMARY:MV(Apink - 'Love Me More')-Jenny
DESCRIPTION:
URL:https://www.dancesoul.com.tw/schedule/mvsomi-closer-%e7%91%9c%e5%ba%ad-2/2026-08-02/
CATEGORIES:MV課,課程
END:VEVENT
BEGIN:VEVENT
DTSTART;TZID=Asia/Shanghai:20260809T165000
DTEND;TZID=Asia/Shanghai:20260809T175000
DTSTAMP:20260421T222548
CREATED:20251201T095640Z
LAST-MODIFIED:20260315T071631Z
UID:10029659-1786294200-1786297800@www.dancesoul.com.tw
SUMMARY:MV(Apink - 'Love Me More')-Jenny
DESCRIPTION:
URL:https://www.dancesoul.com.tw/schedule/mvsomi-closer-%e7%91%9c%e5%ba%ad-2/2026-08-09/
CATEGORIES:MV課,課程
END:VEVENT
BEGIN:VEVENT
DTSTART;TZID=Asia/Shanghai:20260816T165000
DTEND;TZID=Asia/Shanghai:20260816T175000
DTSTAMP:20260421T222548
CREATED:20251201T095640Z
LAST-MODIFIED:20260315T071631Z
UID:10029660-1786899000-1786902600@www.dancesoul.com.tw
SUMMARY:MV(Apink - 'Love Me More')-Jenny
DESCRIPTION:
URL:https://www.dancesoul.com.tw/schedule/mvsomi-closer-%e7%91%9c%e5%ba%ad-2/2026-08-16/
CATEGORIES:MV課,課程
END:VEVENT
BEGIN:VEVENT
DTSTART;TZID=Asia/Shanghai:20260823T165000
DTEND;TZID=Asia/Shanghai:20260823T175000
DTSTAMP:20260421T222548
CREATED:20251201T095640Z
LAST-MODIFIED:20260315T071631Z
UID:10029661-1787503800-1787507400@www.dancesoul.com.tw
SUMMARY:MV(Apink - 'Love Me More')-Jenny
DESCRIPTION:
URL:https://www.dancesoul.com.tw/schedule/mvsomi-closer-%e7%91%9c%e5%ba%ad-2/2026-08-23/
CATEGORIES:MV課,課程
END:VEVENT
BEGIN:VEVENT
DTSTART;TZID=Asia/Shanghai:20260830T165000
DTEND;TZID=Asia/Shanghai:20260830T175000
DTSTAMP:20260421T222548
CREATED:20251201T095640Z
LAST-MODIFIED:20260315T071631Z
UID:10029662-1788108600-1788112200@www.dancesoul.com.tw
SUMMARY:MV(Apink - 'Love Me More')-Jenny
DESCRIPTION:
URL:https://www.dancesoul.com.tw/schedule/mvsomi-closer-%e7%91%9c%e5%ba%ad-2/2026-08-30/
CATEGORIES:MV課,課程
END:VEVENT
BEGIN:VEVENT
DTSTART;TZID=Asia/Shanghai:20260906T165000
DTEND;TZID=Asia/Shanghai:20260906T175000
DTSTAMP:20260421T222548
CREATED:20251201T095640Z
LAST-MODIFIED:20260315T071631Z
UID:10029663-1788713400-1788717000@www.dancesoul.com.tw
SUMMARY:MV(Apink - 'Love Me More')-Jenny
DESCRIPTION:
URL:https://www.dancesoul.com.tw/schedule/mvsomi-closer-%e7%91%9c%e5%ba%ad-2/2026-09-06/
CATEGORIES:MV課,課程
END:VEVENT
BEGIN:VEVENT
DTSTART;TZID=Asia/Shanghai:20260913T165000
DTEND;TZID=Asia/Shanghai:20260913T175000
DTSTAMP:20260421T222548
CREATED:20251201T095640Z
LAST-MODIFIED:20260315T071631Z
UID:10029664-1789318200-1789321800@www.dancesoul.com.tw
SUMMARY:MV(Apink - 'Love Me More')-Jenny
DESCRIPTION:
URL:https://www.dancesoul.com.tw/schedule/mvsomi-closer-%e7%91%9c%e5%ba%ad-2/2026-09-13/
CATEGORIES:MV課,課程
END:VEVENT
BEGIN:VEVENT
DTSTART;TZID=Asia/Shanghai:20260920T165000
DTEND;TZID=Asia/Shanghai:20260920T175000
DTSTAMP:20260421T222548
CREATED:20251201T095640Z
LAST-MODIFIED:20260315T071631Z
UID:10029665-1789923000-1789926600@www.dancesoul.com.tw
SUMMARY:MV(Apink - 'Love Me More')-Jenny
DESCRIPTION:
URL:https://www.dancesoul.com.tw/schedule/mvsomi-closer-%e7%91%9c%e5%ba%ad-2/2026-09-20/
CATEGORIES:MV課,課程
END:VEVENT
BEGIN:VEVENT
DTSTART;TZID=Asia/Shanghai:20260927T165000
DTEND;TZID=Asia/Shanghai:20260927T175000
DTSTAMP:20260421T222548
CREATED:20251201T095640Z
LAST-MODIFIED:20260315T071631Z
UID:10029666-1790527800-1790531400@www.dancesoul.com.tw
SUMMARY:MV(Apink - 'Love Me More')-Jenny
DESCRIPTION:
URL:https://www.dancesoul.com.tw/schedule/mvsomi-closer-%e7%91%9c%e5%ba%ad-2/2026-09-27/
CATEGORIES:MV課,課程
END:VEVENT
BEGIN:VEVENT
DTSTART;TZID=Asia/Shanghai:20261004T165000
DTEND;TZID=Asia/Shanghai:20261004T175000
DTSTAMP:20260421T222548
CREATED:20251201T095640Z
LAST-MODIFIED:20260315T071631Z
UID:10029667-1791132600-1791136200@www.dancesoul.com.tw
SUMMARY:MV(Apink - 'Love Me More')-Jenny
DESCRIPTION:
URL:https://www.dancesoul.com.tw/schedule/mvsomi-closer-%e7%91%9c%e5%ba%ad-2/2026-10-04/
CATEGORIES:MV課,課程
END:VEVENT
BEGIN:VEVENT
DTSTART;TZID=Asia/Shanghai:20261011T165000
DTEND;TZID=Asia/Shanghai:20261011T175000
DTSTAMP:20260421T222548
CREATED:20251201T095640Z
LAST-MODIFIED:20260315T071631Z
UID:10029668-1791737400-1791741000@www.dancesoul.com.tw
SUMMARY:MV(Apink - 'Love Me More')-Jenny
DESCRIPTION:
URL:https://www.dancesoul.com.tw/schedule/mvsomi-closer-%e7%91%9c%e5%ba%ad-2/2026-10-11/
CATEGORIES:MV課,課程
END:VEVENT
BEGIN:VEVENT
DTSTART;TZID=Asia/Shanghai:20261018T165000
DTEND;TZID=Asia/Shanghai:20261018T175000
DTSTAMP:20260421T222548
CREATED:20251201T095640Z
LAST-MODIFIED:20260315T071631Z
UID:10029669-1792342200-1792345800@www.dancesoul.com.tw
SUMMARY:MV(Apink - 'Love Me More')-Jenny
DESCRIPTION:
URL:https://www.dancesoul.com.tw/schedule/mvsomi-closer-%e7%91%9c%e5%ba%ad-2/2026-10-18/
CATEGORIES:MV課,課程
END:VEVENT
BEGIN:VEVENT
DTSTART;TZID=Asia/Shanghai:20261025T165000
DTEND;TZID=Asia/Shanghai:20261025T175000
DTSTAMP:20260421T222549
CREATED:20251201T095640Z
LAST-MODIFIED:20260315T071631Z
UID:10029670-1792947000-1792950600@www.dancesoul.com.tw
SUMMARY:MV(Apink - 'Love Me More')-Jenny
DESCRIPTION:
URL:https://www.dancesoul.com.tw/schedule/mvsomi-closer-%e7%91%9c%e5%ba%ad-2/2026-10-25/
CATEGORIES:MV課,課程
END:VEVENT
BEGIN:VEVENT
DTSTART;TZID=Asia/Shanghai:20261101T165000
DTEND;TZID=Asia/Shanghai:20261101T175000
DTSTAMP:20260421T222549
CREATED:20251201T095640Z
LAST-MODIFIED:20260315T071631Z
UID:10029671-1793551800-1793555400@www.dancesoul.com.tw
SUMMARY:MV(Apink - 'Love Me More')-Jenny
DESCRIPTION:
URL:https://www.dancesoul.com.tw/schedule/mvsomi-closer-%e7%91%9c%e5%ba%ad-2/2026-11-01/
CATEGORIES:MV課,課程
END:VEVENT
BEGIN:VEVENT
DTSTART;TZID=Asia/Shanghai:20261108T165000
DTEND;TZID=Asia/Shanghai:20261108T175000
DTSTAMP:20260421T222549
CREATED:20251201T095640Z
LAST-MODIFIED:20260315T071631Z
UID:10029672-1794156600-1794160200@www.dancesoul.com.tw
SUMMARY:MV(Apink - 'Love Me More')-Jenny
DESCRIPTION:
URL:https://www.dancesoul.com.tw/schedule/mvsomi-closer-%e7%91%9c%e5%ba%ad-2/2026-11-08/
CATEGORIES:MV課,課程
END:VEVENT
BEGIN:VEVENT
DTSTART;TZID=Asia/Shanghai:20261115T165000
DTEND;TZID=Asia/Shanghai:20261115T175000
DTSTAMP:20260421T222549
CREATED:20251201T095640Z
LAST-MODIFIED:20260315T071631Z
UID:10029673-1794761400-1794765000@www.dancesoul.com.tw
SUMMARY:MV(Apink - 'Love Me More')-Jenny
DESCRIPTION:
URL:https://www.dancesoul.com.tw/schedule/mvsomi-closer-%e7%91%9c%e5%ba%ad-2/2026-11-15/
CATEGORIES:MV課,課程
END:VEVENT
END:VCALENDAR