BEGIN:VCALENDAR
VERSION:2.0
PRODID:-//DANCE SOUL 舞魂街舞學校 - ECPv6.15.18//NONSGML v1.0//EN
CALSCALE:GREGORIAN
METHOD:PUBLISH
X-ORIGINAL-URL:https://www.dancesoul.com.tw
X-WR-CALDESC:Events for DANCE SOUL 舞魂街舞學校
REFRESH-INTERVAL;VALUE=DURATION:PT1H
X-Robots-Tag:noindex
X-PUBLISHED-TTL:PT1H
BEGIN:VTIMEZONE
TZID:Asia/Shanghai
BEGIN:STANDARD
TZOFFSETFROM:+0800
TZOFFSETTO:+0800
TZNAME:CST
DTSTART:20230101T000000
END:STANDARD
END:VTIMEZONE
BEGIN:VEVENT
DTSTART;TZID=Asia/Shanghai:20241226T205000
DTEND;TZID=Asia/Shanghai:20241226T215000
DTSTAMP:20260421T114701
CREATED:20241125T110418Z
LAST-MODIFIED:20241125T110418Z
UID:10020746-1735246200-1735249800@www.dancesoul.com.tw
SUMMARY:Afro Style-巴豪
DESCRIPTION:
URL:https://www.dancesoul.com.tw/schedule/afro-style-%e5%b7%b4%e8%b1%aa-7/2024-12-26/
CATEGORIES:Afro Style,常態課_一般,課程
END:VEVENT
BEGIN:VEVENT
DTSTART;TZID=Asia/Shanghai:20241219T205000
DTEND;TZID=Asia/Shanghai:20241219T215000
DTSTAMP:20260421T114701
CREATED:20241125T110418Z
LAST-MODIFIED:20241125T110418Z
UID:10020745-1734641400-1734645000@www.dancesoul.com.tw
SUMMARY:Afro Style-巴豪
DESCRIPTION:
URL:https://www.dancesoul.com.tw/schedule/afro-style-%e5%b7%b4%e8%b1%aa-7/2024-12-19/
CATEGORIES:Afro Style,常態課_一般,課程
END:VEVENT
BEGIN:VEVENT
DTSTART;TZID=Asia/Shanghai:20241212T205000
DTEND;TZID=Asia/Shanghai:20241212T215000
DTSTAMP:20260421T114701
CREATED:20241125T110418Z
LAST-MODIFIED:20241125T110418Z
UID:10020744-1734036600-1734040200@www.dancesoul.com.tw
SUMMARY:Afro Style-巴豪
DESCRIPTION:
URL:https://www.dancesoul.com.tw/schedule/afro-style-%e5%b7%b4%e8%b1%aa-7/2024-12-12/
CATEGORIES:Afro Style,常態課_一般,課程
END:VEVENT
BEGIN:VEVENT
DTSTART;TZID=Asia/Shanghai:20241205T205000
DTEND;TZID=Asia/Shanghai:20241205T215000
DTSTAMP:20260421T114701
CREATED:20241125T110418Z
LAST-MODIFIED:20241125T110418Z
UID:10020743-1733431800-1733435400@www.dancesoul.com.tw
SUMMARY:Afro Style-巴豪
DESCRIPTION:
URL:https://www.dancesoul.com.tw/schedule/afro-style-%e5%b7%b4%e8%b1%aa-7/2024-12-05/
CATEGORIES:Afro Style,常態課_一般,課程
END:VEVENT
BEGIN:VEVENT
DTSTART;TZID=Asia/Shanghai:20241128T205000
DTEND;TZID=Asia/Shanghai:20241128T215000
DTSTAMP:20260421T114701
CREATED:20241028T081625Z
LAST-MODIFIED:20241028T081625Z
UID:10020578-1732827000-1732830600@www.dancesoul.com.tw
SUMMARY:Afro Style-巴豪
DESCRIPTION:
URL:https://www.dancesoul.com.tw/schedule/afro-style-%e5%b7%b4%e8%b1%aa-6/2024-11-28/
CATEGORIES:Afro Style,課程
END:VEVENT
BEGIN:VEVENT
DTSTART;TZID=Asia/Shanghai:20241121T205000
DTEND;TZID=Asia/Shanghai:20241121T215000
DTSTAMP:20260421T114701
CREATED:20241028T081625Z
LAST-MODIFIED:20241028T081625Z
UID:10020577-1732222200-1732225800@www.dancesoul.com.tw
SUMMARY:Afro Style-巴豪
DESCRIPTION:
URL:https://www.dancesoul.com.tw/schedule/afro-style-%e5%b7%b4%e8%b1%aa-6/2024-11-21/
CATEGORIES:Afro Style,課程
END:VEVENT
BEGIN:VEVENT
DTSTART;TZID=Asia/Shanghai:20241114T205000
DTEND;TZID=Asia/Shanghai:20241114T215000
DTSTAMP:20260421T114701
CREATED:20241028T081625Z
LAST-MODIFIED:20241028T081625Z
UID:10020576-1731617400-1731621000@www.dancesoul.com.tw
SUMMARY:Afro Style-巴豪
DESCRIPTION:
URL:https://www.dancesoul.com.tw/schedule/afro-style-%e5%b7%b4%e8%b1%aa-6/2024-11-14/
CATEGORIES:Afro Style,課程
END:VEVENT
BEGIN:VEVENT
DTSTART;TZID=Asia/Shanghai:20241107T205000
DTEND;TZID=Asia/Shanghai:20241107T215000
DTSTAMP:20260421T114701
CREATED:20241028T081625Z
LAST-MODIFIED:20241028T081625Z
UID:10020575-1731012600-1731016200@www.dancesoul.com.tw
SUMMARY:Afro Style-巴豪
DESCRIPTION:
URL:https://www.dancesoul.com.tw/schedule/afro-style-%e5%b7%b4%e8%b1%aa-6/2024-11-07/
CATEGORIES:Afro Style,課程
END:VEVENT
BEGIN:VEVENT
DTSTART;TZID=Asia/Shanghai:20241031T205000
DTEND;TZID=Asia/Shanghai:20241031T215000
DTSTAMP:20260421T114701
CREATED:20240924T085817Z
LAST-MODIFIED:20240924T085817Z
UID:10020409-1730407800-1730411400@www.dancesoul.com.tw
SUMMARY:Afro Style-巴豪
DESCRIPTION:
URL:https://www.dancesoul.com.tw/schedule/afro-style-%e5%b7%b4%e8%b1%aa-5/2024-10-31/
CATEGORIES:Afro Style,常態課_一般,課程
END:VEVENT
BEGIN:VEVENT
DTSTART;TZID=Asia/Shanghai:20241024T205000
DTEND;TZID=Asia/Shanghai:20241024T215000
DTSTAMP:20260421T114701
CREATED:20240924T085817Z
LAST-MODIFIED:20240924T085817Z
UID:10020408-1729803000-1729806600@www.dancesoul.com.tw
SUMMARY:Afro Style-巴豪
DESCRIPTION:
URL:https://www.dancesoul.com.tw/schedule/afro-style-%e5%b7%b4%e8%b1%aa-5/2024-10-24/
CATEGORIES:Afro Style,常態課_一般,課程
END:VEVENT
BEGIN:VEVENT
DTSTART;TZID=Asia/Shanghai:20241017T205000
DTEND;TZID=Asia/Shanghai:20241017T215000
DTSTAMP:20260421T114701
CREATED:20240924T085817Z
LAST-MODIFIED:20240924T085817Z
UID:10020407-1729198200-1729201800@www.dancesoul.com.tw
SUMMARY:Afro Style-巴豪
DESCRIPTION:
URL:https://www.dancesoul.com.tw/schedule/afro-style-%e5%b7%b4%e8%b1%aa-5/2024-10-17/
CATEGORIES:Afro Style,常態課_一般,課程
END:VEVENT
BEGIN:VEVENT
DTSTART;TZID=Asia/Shanghai:20241010T205000
DTEND;TZID=Asia/Shanghai:20241010T215000
DTSTAMP:20260421T114701
CREATED:20240924T085817Z
LAST-MODIFIED:20240924T085817Z
UID:10020406-1728593400-1728597000@www.dancesoul.com.tw
SUMMARY:Afro Style-巴豪
DESCRIPTION:
URL:https://www.dancesoul.com.tw/schedule/afro-style-%e5%b7%b4%e8%b1%aa-5/2024-10-10/
CATEGORIES:Afro Style,常態課_一般,課程
END:VEVENT
BEGIN:VEVENT
DTSTART;TZID=Asia/Shanghai:20241003T205000
DTEND;TZID=Asia/Shanghai:20241003T215000
DTSTAMP:20260421T114701
CREATED:20240924T085817Z
LAST-MODIFIED:20240924T085817Z
UID:10020405-1727988600-1727992200@www.dancesoul.com.tw
SUMMARY:Afro Style-巴豪
DESCRIPTION:
URL:https://www.dancesoul.com.tw/schedule/afro-style-%e5%b7%b4%e8%b1%aa-5/2024-10-03/
CATEGORIES:Afro Style,常態課_一般,課程
END:VEVENT
BEGIN:VEVENT
DTSTART;TZID=Asia/Shanghai:20240926T205000
DTEND;TZID=Asia/Shanghai:20240926T215000
DTSTAMP:20260421T114701
CREATED:20240829T093303Z
LAST-MODIFIED:20240829T093303Z
UID:10020242-1727383800-1727387400@www.dancesoul.com.tw
SUMMARY:Afro Style-巴豪
DESCRIPTION:
URL:https://www.dancesoul.com.tw/schedule/afro-style-%e5%b7%b4%e8%b1%aa-4/2024-09-26/
CATEGORIES:Afro Style,常態課_一般,課程
END:VEVENT
BEGIN:VEVENT
DTSTART;TZID=Asia/Shanghai:20240919T205000
DTEND;TZID=Asia/Shanghai:20240919T215000
DTSTAMP:20260421T114701
CREATED:20240829T093303Z
LAST-MODIFIED:20240829T093303Z
UID:10020241-1726779000-1726782600@www.dancesoul.com.tw
SUMMARY:Afro Style-巴豪
DESCRIPTION:
URL:https://www.dancesoul.com.tw/schedule/afro-style-%e5%b7%b4%e8%b1%aa-4/2024-09-19/
CATEGORIES:Afro Style,常態課_一般,課程
END:VEVENT
BEGIN:VEVENT
DTSTART;TZID=Asia/Shanghai:20240912T205000
DTEND;TZID=Asia/Shanghai:20240912T215000
DTSTAMP:20260421T114701
CREATED:20240829T093303Z
LAST-MODIFIED:20240829T093303Z
UID:10020240-1726174200-1726177800@www.dancesoul.com.tw
SUMMARY:Afro Style-巴豪
DESCRIPTION:
URL:https://www.dancesoul.com.tw/schedule/afro-style-%e5%b7%b4%e8%b1%aa-4/2024-09-12/
CATEGORIES:Afro Style,常態課_一般,課程
END:VEVENT
BEGIN:VEVENT
DTSTART;TZID=Asia/Shanghai:20240905T205000
DTEND;TZID=Asia/Shanghai:20240905T215000
DTSTAMP:20260421T114701
CREATED:20240829T093303Z
LAST-MODIFIED:20240829T093303Z
UID:10020239-1725569400-1725573000@www.dancesoul.com.tw
SUMMARY:Afro Style-巴豪
DESCRIPTION:
URL:https://www.dancesoul.com.tw/schedule/afro-style-%e5%b7%b4%e8%b1%aa-4/2024-09-05/
CATEGORIES:Afro Style,常態課_一般,課程
END:VEVENT
BEGIN:VEVENT
DTSTART;TZID=Asia/Shanghai:20240829T205000
DTEND;TZID=Asia/Shanghai:20240829T215000
DTSTAMP:20260421T114701
CREATED:20240729T060209Z
LAST-MODIFIED:20240729T060209Z
UID:10020127-1724964600-1724968200@www.dancesoul.com.tw
SUMMARY:Afro Style-巴豪
DESCRIPTION:
URL:https://www.dancesoul.com.tw/schedule/afro-style-%e5%b7%b4%e8%b1%aa-3/2024-08-29/
CATEGORIES:Afro Style,常態課_一般,課程
END:VEVENT
BEGIN:VEVENT
DTSTART;TZID=Asia/Shanghai:20240822T205000
DTEND;TZID=Asia/Shanghai:20240822T215000
DTSTAMP:20260421T114701
CREATED:20240729T060209Z
LAST-MODIFIED:20240729T060209Z
UID:10020126-1724359800-1724363400@www.dancesoul.com.tw
SUMMARY:Afro Style-巴豪
DESCRIPTION:
URL:https://www.dancesoul.com.tw/schedule/afro-style-%e5%b7%b4%e8%b1%aa-3/2024-08-22/
CATEGORIES:Afro Style,常態課_一般,課程
END:VEVENT
BEGIN:VEVENT
DTSTART;TZID=Asia/Shanghai:20240815T205000
DTEND;TZID=Asia/Shanghai:20240815T215000
DTSTAMP:20260421T114701
CREATED:20240729T060209Z
LAST-MODIFIED:20240729T060209Z
UID:10020125-1723755000-1723758600@www.dancesoul.com.tw
SUMMARY:Afro Style-巴豪
DESCRIPTION:
URL:https://www.dancesoul.com.tw/schedule/afro-style-%e5%b7%b4%e8%b1%aa-3/2024-08-15/
CATEGORIES:Afro Style,常態課_一般,課程
END:VEVENT
BEGIN:VEVENT
DTSTART;TZID=Asia/Shanghai:20240808T205000
DTEND;TZID=Asia/Shanghai:20240808T215000
DTSTAMP:20260421T114701
CREATED:20240729T060209Z
LAST-MODIFIED:20240729T060209Z
UID:10020124-1723150200-1723153800@www.dancesoul.com.tw
SUMMARY:Afro Style-巴豪
DESCRIPTION:
URL:https://www.dancesoul.com.tw/schedule/afro-style-%e5%b7%b4%e8%b1%aa-3/2024-08-08/
CATEGORIES:Afro Style,常態課_一般,課程
END:VEVENT
BEGIN:VEVENT
DTSTART;TZID=Asia/Shanghai:20240725T205000
DTEND;TZID=Asia/Shanghai:20240725T215000
DTSTAMP:20260421T114701
CREATED:20240624T093616Z
LAST-MODIFIED:20240624T093616Z
UID:10019889-1721940600-1721944200@www.dancesoul.com.tw
SUMMARY:Afro Style-巴豪
DESCRIPTION:
URL:https://www.dancesoul.com.tw/schedule/afro-style-%e5%b7%b4%e8%b1%aa-2/2024-07-25/
CATEGORIES:Afro Style,常態課_一般,課程
END:VEVENT
BEGIN:VEVENT
DTSTART;TZID=Asia/Shanghai:20240718T205000
DTEND;TZID=Asia/Shanghai:20240718T215000
DTSTAMP:20260421T114701
CREATED:20240624T093616Z
LAST-MODIFIED:20240624T093616Z
UID:10019888-1721335800-1721339400@www.dancesoul.com.tw
SUMMARY:Afro Style-巴豪
DESCRIPTION:
URL:https://www.dancesoul.com.tw/schedule/afro-style-%e5%b7%b4%e8%b1%aa-2/2024-07-18/
CATEGORIES:Afro Style,常態課_一般,課程
END:VEVENT
BEGIN:VEVENT
DTSTART;TZID=Asia/Shanghai:20240711T205000
DTEND;TZID=Asia/Shanghai:20240711T215000
DTSTAMP:20260421T114701
CREATED:20240624T093616Z
LAST-MODIFIED:20240624T093616Z
UID:10019887-1720731000-1720734600@www.dancesoul.com.tw
SUMMARY:Afro Style-巴豪
DESCRIPTION:
URL:https://www.dancesoul.com.tw/schedule/afro-style-%e5%b7%b4%e8%b1%aa-2/2024-07-11/
CATEGORIES:Afro Style,常態課_一般,課程
END:VEVENT
BEGIN:VEVENT
DTSTART;TZID=Asia/Shanghai:20240704T205000
DTEND;TZID=Asia/Shanghai:20240704T215000
DTSTAMP:20260421T114701
CREATED:20240624T093616Z
LAST-MODIFIED:20240624T093616Z
UID:10019886-1720126200-1720129800@www.dancesoul.com.tw
SUMMARY:Afro Style-巴豪
DESCRIPTION:
URL:https://www.dancesoul.com.tw/schedule/afro-style-%e5%b7%b4%e8%b1%aa-2/2024-07-04/
CATEGORIES:Afro Style,常態課_一般,課程
END:VEVENT
BEGIN:VEVENT
DTSTART;TZID=Asia/Shanghai:20240627T205000
DTEND;TZID=Asia/Shanghai:20240627T215000
DTSTAMP:20260421T114701
CREATED:20240523T104503Z
LAST-MODIFIED:20240523T104503Z
UID:10019696-1719521400-1719525000@www.dancesoul.com.tw
SUMMARY:Afro Style-巴豪
DESCRIPTION:
URL:https://www.dancesoul.com.tw/schedule/afro-style-%e5%b7%b4%e8%b1%aa/2024-06-27/
CATEGORIES:Afro Style,常態課_一般,課程
END:VEVENT
BEGIN:VEVENT
DTSTART;TZID=Asia/Shanghai:20240620T205000
DTEND;TZID=Asia/Shanghai:20240620T215000
DTSTAMP:20260421T114701
CREATED:20240523T104503Z
LAST-MODIFIED:20240523T104503Z
UID:10019695-1718916600-1718920200@www.dancesoul.com.tw
SUMMARY:Afro Style-巴豪
DESCRIPTION:
URL:https://www.dancesoul.com.tw/schedule/afro-style-%e5%b7%b4%e8%b1%aa/2024-06-20/
CATEGORIES:Afro Style,常態課_一般,課程
END:VEVENT
BEGIN:VEVENT
DTSTART;TZID=Asia/Shanghai:20240613T205000
DTEND;TZID=Asia/Shanghai:20240613T215000
DTSTAMP:20260421T114701
CREATED:20240523T104503Z
LAST-MODIFIED:20240523T104503Z
UID:10019694-1718311800-1718315400@www.dancesoul.com.tw
SUMMARY:Afro Style-巴豪
DESCRIPTION:
URL:https://www.dancesoul.com.tw/schedule/afro-style-%e5%b7%b4%e8%b1%aa/2024-06-13/
CATEGORIES:Afro Style,常態課_一般,課程
END:VEVENT
BEGIN:VEVENT
DTSTART;TZID=Asia/Shanghai:20240606T205000
DTEND;TZID=Asia/Shanghai:20240606T215000
DTSTAMP:20260421T114701
CREATED:20240523T104503Z
LAST-MODIFIED:20240523T104503Z
UID:10019693-1717707000-1717710600@www.dancesoul.com.tw
SUMMARY:Afro Style-巴豪
DESCRIPTION:
URL:https://www.dancesoul.com.tw/schedule/afro-style-%e5%b7%b4%e8%b1%aa/2024-06-06/
CATEGORIES:Afro Style,常態課_一般,課程
END:VEVENT
END:VCALENDAR