BEGIN:VCALENDAR
VERSION:2.0
PRODID:-//DANCE SOUL 舞魂街舞學校 - ECPv6.15.18//NONSGML v1.0//EN
CALSCALE:GREGORIAN
METHOD:PUBLISH
X-WR-CALNAME:DANCE SOUL 舞魂街舞學校
X-ORIGINAL-URL:https://www.dancesoul.com.tw
X-WR-CALDESC:Events for DANCE SOUL 舞魂街舞學校
REFRESH-INTERVAL;VALUE=DURATION:PT1H
X-Robots-Tag:noindex
X-PUBLISHED-TTL:PT1H
BEGIN:VTIMEZONE
TZID:Asia/Shanghai
BEGIN:STANDARD
TZOFFSETFROM:+0800
TZOFFSETTO:+0800
TZNAME:CST
DTSTART:20210101T000000
END:STANDARD
END:VTIMEZONE
BEGIN:VEVENT
DTSTART;TZID=Asia/Shanghai:20220331T213000
DTEND;TZID=Asia/Shanghai:20220331T223000
DTSTAMP:20260426T100558
CREATED:20220225T094023Z
LAST-MODIFIED:20220225T094023Z
UID:10015437-1648762200-1648765800@www.dancesoul.com.tw
SUMMARY:Dancehall / Twerk-藍妹
DESCRIPTION:
URL:https://www.dancesoul.com.tw/schedule/dancehall-twerk-%e8%97%8d%e5%a6%b9-3/2022-03-31/
LOCATION:仁愛路四段425-1號\, Taipei City\, 104\, 台灣
CATEGORIES:Dancehall / Twerk,常態課_一般,課程
END:VEVENT
BEGIN:VEVENT
DTSTART;TZID=Asia/Shanghai:20220324T213000
DTEND;TZID=Asia/Shanghai:20220324T223000
DTSTAMP:20260426T100558
CREATED:20220225T094023Z
LAST-MODIFIED:20220225T094023Z
UID:10015436-1648157400-1648161000@www.dancesoul.com.tw
SUMMARY:Dancehall / Twerk-藍妹
DESCRIPTION:
URL:https://www.dancesoul.com.tw/schedule/dancehall-twerk-%e8%97%8d%e5%a6%b9-3/2022-03-24/
LOCATION:仁愛路四段425-1號\, Taipei City\, 104\, 台灣
CATEGORIES:Dancehall / Twerk,常態課_一般,課程
END:VEVENT
BEGIN:VEVENT
DTSTART;TZID=Asia/Shanghai:20220317T213000
DTEND;TZID=Asia/Shanghai:20220317T223000
DTSTAMP:20260426T100558
CREATED:20220225T094023Z
LAST-MODIFIED:20220225T094023Z
UID:10015435-1647552600-1647556200@www.dancesoul.com.tw
SUMMARY:Dancehall / Twerk-藍妹
DESCRIPTION:
URL:https://www.dancesoul.com.tw/schedule/dancehall-twerk-%e8%97%8d%e5%a6%b9-3/2022-03-17/
LOCATION:仁愛路四段425-1號\, Taipei City\, 104\, 台灣
CATEGORIES:Dancehall / Twerk,常態課_一般,課程
END:VEVENT
BEGIN:VEVENT
DTSTART;TZID=Asia/Shanghai:20220310T213000
DTEND;TZID=Asia/Shanghai:20220310T223000
DTSTAMP:20260426T100558
CREATED:20220225T094023Z
LAST-MODIFIED:20220225T094023Z
UID:10015434-1646947800-1646951400@www.dancesoul.com.tw
SUMMARY:Dancehall / Twerk-藍妹
DESCRIPTION:
URL:https://www.dancesoul.com.tw/schedule/dancehall-twerk-%e8%97%8d%e5%a6%b9-3/2022-03-10/
LOCATION:仁愛路四段425-1號\, Taipei City\, 104\, 台灣
CATEGORIES:Dancehall / Twerk,常態課_一般,課程
END:VEVENT
BEGIN:VEVENT
DTSTART;TZID=Asia/Shanghai:20220303T213000
DTEND;TZID=Asia/Shanghai:20220303T223000
DTSTAMP:20260426T100558
CREATED:20220225T094023Z
LAST-MODIFIED:20220225T094023Z
UID:10015433-1646343000-1646346600@www.dancesoul.com.tw
SUMMARY:Dancehall / Twerk-藍妹
DESCRIPTION:
URL:https://www.dancesoul.com.tw/schedule/dancehall-twerk-%e8%97%8d%e5%a6%b9-3/2022-03-03/
LOCATION:仁愛路四段425-1號\, Taipei City\, 104\, 台灣
CATEGORIES:Dancehall / Twerk,常態課_一般,課程
END:VEVENT
BEGIN:VEVENT
DTSTART;TZID=Asia/Shanghai:20220224T213000
DTEND;TZID=Asia/Shanghai:20220224T223000
DTSTAMP:20260426T100558
CREATED:20220127T105105Z
LAST-MODIFIED:20220127T105105Z
UID:10015343-1645738200-1645741800@www.dancesoul.com.tw
SUMMARY:Dancehall / Twerk-藍妹
DESCRIPTION:
URL:https://www.dancesoul.com.tw/schedule/dancehall-twerk-%e8%97%8d%e5%a6%b9-2/2022-02-24/
LOCATION:仁愛路四段425-1號\, Taipei City\, 104\, 台灣
CATEGORIES:Dancehall / Twerk,常態課_一般,課程
END:VEVENT
BEGIN:VEVENT
DTSTART;TZID=Asia/Shanghai:20220217T213000
DTEND;TZID=Asia/Shanghai:20220217T223000
DTSTAMP:20260426T100558
CREATED:20220127T105105Z
LAST-MODIFIED:20220127T105105Z
UID:10015342-1645133400-1645137000@www.dancesoul.com.tw
SUMMARY:Dancehall / Twerk-藍妹
DESCRIPTION:
URL:https://www.dancesoul.com.tw/schedule/dancehall-twerk-%e8%97%8d%e5%a6%b9-2/2022-02-17/
LOCATION:仁愛路四段425-1號\, Taipei City\, 104\, 台灣
CATEGORIES:Dancehall / Twerk,常態課_一般,課程
END:VEVENT
BEGIN:VEVENT
DTSTART;TZID=Asia/Shanghai:20220210T213000
DTEND;TZID=Asia/Shanghai:20220210T223000
DTSTAMP:20260426T100558
CREATED:20220127T105105Z
LAST-MODIFIED:20220127T105105Z
UID:10015341-1644528600-1644532200@www.dancesoul.com.tw
SUMMARY:Dancehall / Twerk-藍妹
DESCRIPTION:
URL:https://www.dancesoul.com.tw/schedule/dancehall-twerk-%e8%97%8d%e5%a6%b9-2/2022-02-10/
LOCATION:仁愛路四段425-1號\, Taipei City\, 104\, 台灣
CATEGORIES:Dancehall / Twerk,常態課_一般,課程
END:VEVENT
BEGIN:VEVENT
DTSTART;TZID=Asia/Shanghai:20220127T213000
DTEND;TZID=Asia/Shanghai:20220127T223000
DTSTAMP:20260426T100558
CREATED:20211230T035807Z
LAST-MODIFIED:20211230T035807Z
UID:10013887-1643319000-1643322600@www.dancesoul.com.tw
SUMMARY:Dancehall / Twerk-藍妹
DESCRIPTION:
URL:https://www.dancesoul.com.tw/schedule/dancehall-twerk-%e8%97%8d%e5%a6%b9/2022-01-27/
LOCATION:仁愛路四段425-1號\, Taipei City\, 104\, 台灣
CATEGORIES:Dancehall / Twerk,常態課_一般,課程
END:VEVENT
BEGIN:VEVENT
DTSTART;TZID=Asia/Shanghai:20220120T213000
DTEND;TZID=Asia/Shanghai:20220120T223000
DTSTAMP:20260426T100558
CREATED:20211230T035807Z
LAST-MODIFIED:20211230T035807Z
UID:10013886-1642714200-1642717800@www.dancesoul.com.tw
SUMMARY:Dancehall / Twerk-藍妹
DESCRIPTION:
URL:https://www.dancesoul.com.tw/schedule/dancehall-twerk-%e8%97%8d%e5%a6%b9/2022-01-20/
LOCATION:仁愛路四段425-1號\, Taipei City\, 104\, 台灣
CATEGORIES:Dancehall / Twerk,常態課_一般,課程
END:VEVENT
BEGIN:VEVENT
DTSTART;TZID=Asia/Shanghai:20220113T213000
DTEND;TZID=Asia/Shanghai:20220113T223000
DTSTAMP:20260426T100558
CREATED:20211230T035807Z
LAST-MODIFIED:20211230T035807Z
UID:10013885-1642109400-1642113000@www.dancesoul.com.tw
SUMMARY:Dancehall / Twerk-藍妹
DESCRIPTION:
URL:https://www.dancesoul.com.tw/schedule/dancehall-twerk-%e8%97%8d%e5%a6%b9/2022-01-13/
LOCATION:仁愛路四段425-1號\, Taipei City\, 104\, 台灣
CATEGORIES:Dancehall / Twerk,常態課_一般,課程
END:VEVENT
BEGIN:VEVENT
DTSTART;TZID=Asia/Shanghai:20220106T213000
DTEND;TZID=Asia/Shanghai:20220106T223000
DTSTAMP:20260426T100558
CREATED:20211230T035807Z
LAST-MODIFIED:20211230T035807Z
UID:10013884-1641504600-1641508200@www.dancesoul.com.tw
SUMMARY:Dancehall / Twerk-藍妹
DESCRIPTION:
URL:https://www.dancesoul.com.tw/schedule/dancehall-twerk-%e8%97%8d%e5%a6%b9/2022-01-06/
LOCATION:仁愛路四段425-1號\, Taipei City\, 104\, 台灣
CATEGORIES:Dancehall / Twerk,常態課_一般,課程
END:VEVENT
END:VCALENDAR