BEGIN:VCALENDAR
VERSION:2.0
PRODID:-//DANCE SOUL 舞魂街舞學校 - ECPv6.15.18//NONSGML v1.0//EN
CALSCALE:GREGORIAN
METHOD:PUBLISH
X-ORIGINAL-URL:https://www.dancesoul.com.tw
X-WR-CALDESC:Events for DANCE SOUL 舞魂街舞學校
REFRESH-INTERVAL;VALUE=DURATION:PT1H
X-Robots-Tag:noindex
X-PUBLISHED-TTL:PT1H
BEGIN:VTIMEZONE
TZID:Asia/Shanghai
BEGIN:STANDARD
TZOFFSETFROM:+0800
TZOFFSETTO:+0800
TZNAME:CST
DTSTART:20210101T000000
END:STANDARD
END:VTIMEZONE
BEGIN:VEVENT
DTSTART;TZID=Asia/Shanghai:20250624T203000
DTEND;TZID=Asia/Shanghai:20250624T213000
DTSTAMP:20260420T231041
CREATED:20250417T093643Z
LAST-MODIFIED:20250515T044021Z
UID:10021688-1750797000-1750800600@www.dancesoul.com.tw
SUMMARY:Free Style-俊宏
DESCRIPTION:
URL:https://www.dancesoul.com.tw/schedule/free-style-%e4%bf%8a%e5%ae%8f-27/2025-06-24/
CATEGORIES:Freestyle,常態課_一般,課程
END:VEVENT
BEGIN:VEVENT
DTSTART;TZID=Asia/Shanghai:20250617T203000
DTEND;TZID=Asia/Shanghai:20250617T213000
DTSTAMP:20260420T231041
CREATED:20250417T093643Z
LAST-MODIFIED:20250515T044021Z
UID:10021687-1750192200-1750195800@www.dancesoul.com.tw
SUMMARY:Free Style-俊宏
DESCRIPTION:
URL:https://www.dancesoul.com.tw/schedule/free-style-%e4%bf%8a%e5%ae%8f-27/2025-06-17/
CATEGORIES:Freestyle,常態課_一般,課程
END:VEVENT
BEGIN:VEVENT
DTSTART;TZID=Asia/Shanghai:20250610T203000
DTEND;TZID=Asia/Shanghai:20250610T213000
DTSTAMP:20260420T231041
CREATED:20250417T093643Z
LAST-MODIFIED:20250515T044021Z
UID:10021686-1749587400-1749591000@www.dancesoul.com.tw
SUMMARY:Free Style-俊宏
DESCRIPTION:
URL:https://www.dancesoul.com.tw/schedule/free-style-%e4%bf%8a%e5%ae%8f-27/2025-06-10/
CATEGORIES:Freestyle,常態課_一般,課程
END:VEVENT
BEGIN:VEVENT
DTSTART;TZID=Asia/Shanghai:20250603T203000
DTEND;TZID=Asia/Shanghai:20250603T213000
DTSTAMP:20260420T231041
CREATED:20250417T093643Z
LAST-MODIFIED:20250515T044021Z
UID:10021685-1748982600-1748986200@www.dancesoul.com.tw
SUMMARY:Free Style-俊宏
DESCRIPTION:
URL:https://www.dancesoul.com.tw/schedule/free-style-%e4%bf%8a%e5%ae%8f-27/2025-06-03/
CATEGORIES:Freestyle,常態課_一般,課程
END:VEVENT
BEGIN:VEVENT
DTSTART;TZID=Asia/Shanghai:20250527T203000
DTEND;TZID=Asia/Shanghai:20250527T213000
DTSTAMP:20260420T231041
CREATED:20250417T093643Z
LAST-MODIFIED:20250515T044021Z
UID:10021463-1748377800-1748381400@www.dancesoul.com.tw
SUMMARY:Free Style-俊宏
DESCRIPTION:
URL:https://www.dancesoul.com.tw/schedule/free-style-%e4%bf%8a%e5%ae%8f-27/2025-05-27/
CATEGORIES:Freestyle,常態課_一般,課程
END:VEVENT
BEGIN:VEVENT
DTSTART;TZID=Asia/Shanghai:20250520T203000
DTEND;TZID=Asia/Shanghai:20250520T213000
DTSTAMP:20260420T231041
CREATED:20250417T093643Z
LAST-MODIFIED:20250515T044021Z
UID:10021462-1747773000-1747776600@www.dancesoul.com.tw
SUMMARY:Free Style-俊宏
DESCRIPTION:
URL:https://www.dancesoul.com.tw/schedule/free-style-%e4%bf%8a%e5%ae%8f-27/2025-05-20/
CATEGORIES:Freestyle,常態課_一般,課程
END:VEVENT
BEGIN:VEVENT
DTSTART;TZID=Asia/Shanghai:20250506T203000
DTEND;TZID=Asia/Shanghai:20250506T213000
DTSTAMP:20260420T231041
CREATED:20250417T093643Z
LAST-MODIFIED:20250515T044021Z
UID:10021460-1746563400-1746567000@www.dancesoul.com.tw
SUMMARY:Free Style-俊宏
DESCRIPTION:
URL:https://www.dancesoul.com.tw/schedule/free-style-%e4%bf%8a%e5%ae%8f-27/2025-05-06/
CATEGORIES:Freestyle,常態課_一般,課程
END:VEVENT
BEGIN:VEVENT
DTSTART;TZID=Asia/Shanghai:20250429T203000
DTEND;TZID=Asia/Shanghai:20250429T213000
DTSTAMP:20260420T231041
CREATED:20250323T113218Z
LAST-MODIFIED:20250323T113218Z
UID:10021326-1745958600-1745962200@www.dancesoul.com.tw
SUMMARY:Free Style-俊宏
DESCRIPTION:
URL:https://www.dancesoul.com.tw/schedule/free-style-%e4%bf%8a%e5%ae%8f-26/2025-04-29/
CATEGORIES:Freestyle,常態課_一般,課程
END:VEVENT
BEGIN:VEVENT
DTSTART;TZID=Asia/Shanghai:20250422T203000
DTEND;TZID=Asia/Shanghai:20250422T213000
DTSTAMP:20260420T231041
CREATED:20250323T113218Z
LAST-MODIFIED:20250323T113218Z
UID:10021325-1745353800-1745357400@www.dancesoul.com.tw
SUMMARY:Free Style-俊宏
DESCRIPTION:
URL:https://www.dancesoul.com.tw/schedule/free-style-%e4%bf%8a%e5%ae%8f-26/2025-04-22/
CATEGORIES:Freestyle,常態課_一般,課程
END:VEVENT
BEGIN:VEVENT
DTSTART;TZID=Asia/Shanghai:20250415T203000
DTEND;TZID=Asia/Shanghai:20250415T213000
DTSTAMP:20260420T231041
CREATED:20250323T113218Z
LAST-MODIFIED:20250323T113218Z
UID:10021324-1744749000-1744752600@www.dancesoul.com.tw
SUMMARY:Free Style-俊宏
DESCRIPTION:
URL:https://www.dancesoul.com.tw/schedule/free-style-%e4%bf%8a%e5%ae%8f-26/2025-04-15/
CATEGORIES:Freestyle,常態課_一般,課程
END:VEVENT
BEGIN:VEVENT
DTSTART;TZID=Asia/Shanghai:20250408T203000
DTEND;TZID=Asia/Shanghai:20250408T213000
DTSTAMP:20260420T231041
CREATED:20250323T113218Z
LAST-MODIFIED:20250323T113218Z
UID:10021323-1744144200-1744147800@www.dancesoul.com.tw
SUMMARY:Free Style-俊宏
DESCRIPTION:
URL:https://www.dancesoul.com.tw/schedule/free-style-%e4%bf%8a%e5%ae%8f-26/2025-04-08/
CATEGORIES:Freestyle,常態課_一般,課程
END:VEVENT
BEGIN:VEVENT
DTSTART;TZID=Asia/Shanghai:20250401T203000
DTEND;TZID=Asia/Shanghai:20250401T213000
DTSTAMP:20260420T231041
CREATED:20250323T113218Z
LAST-MODIFIED:20250323T113218Z
UID:10021322-1743539400-1743543000@www.dancesoul.com.tw
SUMMARY:Free Style-俊宏
DESCRIPTION:
URL:https://www.dancesoul.com.tw/schedule/free-style-%e4%bf%8a%e5%ae%8f-26/2025-04-01/
CATEGORIES:Freestyle,常態課_一般,課程
END:VEVENT
BEGIN:VEVENT
DTSTART;TZID=Asia/Shanghai:20250325T203000
DTEND;TZID=Asia/Shanghai:20250325T213000
DTSTAMP:20260420T231041
CREATED:20250223T105129Z
LAST-MODIFIED:20250223T105129Z
UID:10021237-1742934600-1742938200@www.dancesoul.com.tw
SUMMARY:Free Style-俊宏
DESCRIPTION:
URL:https://www.dancesoul.com.tw/schedule/free-style-%e4%bf%8a%e5%ae%8f-25/2025-03-25/
CATEGORIES:Freestyle,常態課_一般,課程
END:VEVENT
BEGIN:VEVENT
DTSTART;TZID=Asia/Shanghai:20250318T203000
DTEND;TZID=Asia/Shanghai:20250318T213000
DTSTAMP:20260420T231041
CREATED:20250223T105129Z
LAST-MODIFIED:20250223T105129Z
UID:10021236-1742329800-1742333400@www.dancesoul.com.tw
SUMMARY:Free Style-俊宏
DESCRIPTION:
URL:https://www.dancesoul.com.tw/schedule/free-style-%e4%bf%8a%e5%ae%8f-25/2025-03-18/
CATEGORIES:Freestyle,常態課_一般,課程
END:VEVENT
BEGIN:VEVENT
DTSTART;TZID=Asia/Shanghai:20250311T203000
DTEND;TZID=Asia/Shanghai:20250311T213000
DTSTAMP:20260420T231041
CREATED:20250223T105129Z
LAST-MODIFIED:20250223T105129Z
UID:10021235-1741725000-1741728600@www.dancesoul.com.tw
SUMMARY:Free Style-俊宏
DESCRIPTION:
URL:https://www.dancesoul.com.tw/schedule/free-style-%e4%bf%8a%e5%ae%8f-25/2025-03-11/
CATEGORIES:Freestyle,常態課_一般,課程
END:VEVENT
BEGIN:VEVENT
DTSTART;TZID=Asia/Shanghai:20250304T203000
DTEND;TZID=Asia/Shanghai:20250304T213000
DTSTAMP:20260420T231041
CREATED:20250223T105129Z
LAST-MODIFIED:20250223T105129Z
UID:10021234-1741120200-1741123800@www.dancesoul.com.tw
SUMMARY:Free Style-俊宏
DESCRIPTION:
URL:https://www.dancesoul.com.tw/schedule/free-style-%e4%bf%8a%e5%ae%8f-25/2025-03-04/
CATEGORIES:Freestyle,常態課_一般,課程
END:VEVENT
BEGIN:VEVENT
DTSTART;TZID=Asia/Shanghai:20230731T143000
DTEND;TZID=Asia/Shanghai:20230731T153000
DTSTAMP:20260420T231041
CREATED:20230627T102853Z
LAST-MODIFIED:20230627T103054Z
UID:10017557-1690813800-1690817400@www.dancesoul.com.tw
SUMMARY:Free Style-俊宏
DESCRIPTION:
URL:https://www.dancesoul.com.tw/schedule/free-style-%e4%bf%8a%e5%ae%8f-23/2023-07-31/
LOCATION:仁愛路四段425-1號\, Taipei City\, 104\, 台灣
CATEGORIES:Freestyle,課程
END:VEVENT
BEGIN:VEVENT
DTSTART;TZID=Asia/Shanghai:20230728T143000
DTEND;TZID=Asia/Shanghai:20230728T153000
DTSTAMP:20260420T231041
CREATED:20230628T053319Z
LAST-MODIFIED:20230628T053319Z
UID:10017620-1690554600-1690558200@www.dancesoul.com.tw
SUMMARY:Free Style-俊宏
DESCRIPTION:
URL:https://www.dancesoul.com.tw/schedule/free-style-%e4%bf%8a%e5%ae%8f-24/2023-07-28/
LOCATION:仁愛路四段425-1號\, Taipei City\, 104\, 台灣
CATEGORIES:Freestyle,常態課_一般,課程
END:VEVENT
BEGIN:VEVENT
DTSTART;TZID=Asia/Shanghai:20230724T143000
DTEND;TZID=Asia/Shanghai:20230724T153000
DTSTAMP:20260420T231041
CREATED:20230627T102853Z
LAST-MODIFIED:20230627T103054Z
UID:10017556-1690209000-1690212600@www.dancesoul.com.tw
SUMMARY:Free Style-俊宏
DESCRIPTION:
URL:https://www.dancesoul.com.tw/schedule/free-style-%e4%bf%8a%e5%ae%8f-23/2023-07-24/
LOCATION:仁愛路四段425-1號\, Taipei City\, 104\, 台灣
CATEGORIES:Freestyle,課程
END:VEVENT
BEGIN:VEVENT
DTSTART;TZID=Asia/Shanghai:20230721T143000
DTEND;TZID=Asia/Shanghai:20230721T153000
DTSTAMP:20260420T231041
CREATED:20230628T053319Z
LAST-MODIFIED:20230628T053319Z
UID:10017619-1689949800-1689953400@www.dancesoul.com.tw
SUMMARY:Free Style-俊宏
DESCRIPTION:
URL:https://www.dancesoul.com.tw/schedule/free-style-%e4%bf%8a%e5%ae%8f-24/2023-07-21/
LOCATION:仁愛路四段425-1號\, Taipei City\, 104\, 台灣
CATEGORIES:Freestyle,常態課_一般,課程
END:VEVENT
BEGIN:VEVENT
DTSTART;TZID=Asia/Shanghai:20230717T143000
DTEND;TZID=Asia/Shanghai:20230717T153000
DTSTAMP:20260420T231041
CREATED:20230627T102853Z
LAST-MODIFIED:20230627T103054Z
UID:10017555-1689604200-1689607800@www.dancesoul.com.tw
SUMMARY:Free Style-俊宏
DESCRIPTION:
URL:https://www.dancesoul.com.tw/schedule/free-style-%e4%bf%8a%e5%ae%8f-23/2023-07-17/
LOCATION:仁愛路四段425-1號\, Taipei City\, 104\, 台灣
CATEGORIES:Freestyle,課程
END:VEVENT
BEGIN:VEVENT
DTSTART;TZID=Asia/Shanghai:20230714T143000
DTEND;TZID=Asia/Shanghai:20230714T153000
DTSTAMP:20260420T231041
CREATED:20230628T053319Z
LAST-MODIFIED:20230628T053319Z
UID:10017618-1689345000-1689348600@www.dancesoul.com.tw
SUMMARY:Free Style-俊宏
DESCRIPTION:
URL:https://www.dancesoul.com.tw/schedule/free-style-%e4%bf%8a%e5%ae%8f-24/2023-07-14/
LOCATION:仁愛路四段425-1號\, Taipei City\, 104\, 台灣
CATEGORIES:Freestyle,常態課_一般,課程
END:VEVENT
BEGIN:VEVENT
DTSTART;TZID=Asia/Shanghai:20230710T143000
DTEND;TZID=Asia/Shanghai:20230710T153000
DTSTAMP:20260420T231041
CREATED:20230627T102853Z
LAST-MODIFIED:20230627T103054Z
UID:10017554-1688999400-1689003000@www.dancesoul.com.tw
SUMMARY:Free Style-俊宏
DESCRIPTION:
URL:https://www.dancesoul.com.tw/schedule/free-style-%e4%bf%8a%e5%ae%8f-23/2023-07-10/
LOCATION:仁愛路四段425-1號\, Taipei City\, 104\, 台灣
CATEGORIES:Freestyle,課程
END:VEVENT
BEGIN:VEVENT
DTSTART;TZID=Asia/Shanghai:20230707T143000
DTEND;TZID=Asia/Shanghai:20230707T153000
DTSTAMP:20260420T231041
CREATED:20230628T053319Z
LAST-MODIFIED:20230628T053319Z
UID:10017617-1688740200-1688743800@www.dancesoul.com.tw
SUMMARY:Free Style-俊宏
DESCRIPTION:
URL:https://www.dancesoul.com.tw/schedule/free-style-%e4%bf%8a%e5%ae%8f-24/2023-07-07/
LOCATION:仁愛路四段425-1號\, Taipei City\, 104\, 台灣
CATEGORIES:Freestyle,常態課_一般,課程
END:VEVENT
BEGIN:VEVENT
DTSTART;TZID=Asia/Shanghai:20230703T143000
DTEND;TZID=Asia/Shanghai:20230703T153000
DTSTAMP:20260420T231041
CREATED:20230627T102853Z
LAST-MODIFIED:20230627T103054Z
UID:10017553-1688394600-1688398200@www.dancesoul.com.tw
SUMMARY:Free Style-俊宏
DESCRIPTION:
URL:https://www.dancesoul.com.tw/schedule/free-style-%e4%bf%8a%e5%ae%8f-23/2023-07-03/
LOCATION:仁愛路四段425-1號\, Taipei City\, 104\, 台灣
CATEGORIES:Freestyle,課程
END:VEVENT
BEGIN:VEVENT
DTSTART;TZID=Asia/Shanghai:20221127T191000
DTEND;TZID=Asia/Shanghai:20221127T201000
DTSTAMP:20260420T231041
CREATED:20221028T134254Z
LAST-MODIFIED:20221028T134254Z
UID:10015394-1669576200-1669579800@www.dancesoul.com.tw
SUMMARY:Free Style-俊宏
DESCRIPTION:
URL:https://www.dancesoul.com.tw/schedule/free-style-%e4%bf%8a%e5%ae%8f-22/2022-11-27/
LOCATION:仁愛路四段425-1號\, Taipei City\, 104\, 台灣
CATEGORIES:Freestyle,課程
END:VEVENT
BEGIN:VEVENT
DTSTART;TZID=Asia/Shanghai:20221120T191000
DTEND;TZID=Asia/Shanghai:20221120T201000
DTSTAMP:20260420T231041
CREATED:20221028T134254Z
LAST-MODIFIED:20221028T134254Z
UID:10015393-1668971400-1668975000@www.dancesoul.com.tw
SUMMARY:Free Style-俊宏
DESCRIPTION:
URL:https://www.dancesoul.com.tw/schedule/free-style-%e4%bf%8a%e5%ae%8f-22/2022-11-20/
LOCATION:仁愛路四段425-1號\, Taipei City\, 104\, 台灣
CATEGORIES:Freestyle,課程
END:VEVENT
BEGIN:VEVENT
DTSTART;TZID=Asia/Shanghai:20221113T191000
DTEND;TZID=Asia/Shanghai:20221113T201000
DTSTAMP:20260420T231041
CREATED:20221028T134254Z
LAST-MODIFIED:20221028T134254Z
UID:10015392-1668366600-1668370200@www.dancesoul.com.tw
SUMMARY:Free Style-俊宏
DESCRIPTION:
URL:https://www.dancesoul.com.tw/schedule/free-style-%e4%bf%8a%e5%ae%8f-22/2022-11-13/
LOCATION:仁愛路四段425-1號\, Taipei City\, 104\, 台灣
CATEGORIES:Freestyle,課程
END:VEVENT
BEGIN:VEVENT
DTSTART;TZID=Asia/Shanghai:20221106T191000
DTEND;TZID=Asia/Shanghai:20221106T201000
DTSTAMP:20260420T231041
CREATED:20221028T134254Z
LAST-MODIFIED:20221028T134254Z
UID:10015391-1667761800-1667765400@www.dancesoul.com.tw
SUMMARY:Free Style-俊宏
DESCRIPTION:
URL:https://www.dancesoul.com.tw/schedule/free-style-%e4%bf%8a%e5%ae%8f-22/2022-11-06/
LOCATION:仁愛路四段425-1號\, Taipei City\, 104\, 台灣
CATEGORIES:Freestyle,課程
END:VEVENT
BEGIN:VEVENT
DTSTART;TZID=Asia/Shanghai:20221030T191000
DTEND;TZID=Asia/Shanghai:20221030T201000
DTSTAMP:20260420T231041
CREATED:20220926T055730Z
LAST-MODIFIED:20220926T055730Z
UID:10016767-1667157000-1667160600@www.dancesoul.com.tw
SUMMARY:Free Style-俊宏
DESCRIPTION:
URL:https://www.dancesoul.com.tw/schedule/free-style-%e4%bf%8a%e5%ae%8f-21/2022-10-30/
LOCATION:仁愛路四段425-1號\, Taipei City\, 104\, 台灣
CATEGORIES:Freestyle,常態課_一般,課程
END:VEVENT
END:VCALENDAR